{"text_format":"1","workbook":"xlsx","n_sheets":18,"sheets":["ana","baş","1.DTS","2.DTS","DAV1","DAV2","H2.1","H2.2","M2.1","M2.2","T2.1","T2.2","GS2.1","GS2.2","MZK2.1","MZK2.2","BEO2.1","BEO2.2"],"not_rendered":{"charts":0,"images":2,"macros":1,"external_links":0,"defined_names":28,"comments":0,"pivot_tables":0},"unopened":[],"bounds":{"document_bytes":16777216,"sheet_cells":100000,"rows_first":2000,"rows_last":500,"rows_between":2000,"halvings":0,"cell_chars":16384,"cell_head_chars":4096},"cells_cut":0,"cells_raw":0,"read":"whole","date_system":"1900"}

{"sheet":"ana","index":0,"n_rows":7,"n_cols":3,"rows_kept":7,"cut":false,"hidden":false,"merged":[[0,1,0,2],[6,1,7,2]]}
[null,"BİLGİLERİNİZİ GİRİNİZ"]
[null,"OKUL ADI","ŞEHİT ÖMER SÖNMEZ İLKOKULU"]
[null,"ÖĞRETİM YILI","2018 - 2019"]
[null,"SINIFI","1-C"]
[null,"ÖĞRETMENİN ADI","Halil KARAKUVAT"]
[null,"BRANŞI","Sınıf Öğretmeni www.egitimhane.com"]
[1,"SINIF LİSTENİZİ OLUŞTURMAK  VEYA DERSLERE ULAŞMAK İÇİN RESME TIKLAYINIZ"]

{"sheet":"baş","index":1,"n_rows":37,"n_cols":9,"rows_kept":37,"cut":false,"hidden":false,"merged":[[21,0,21,2],[9,2,9,4],[20,0,20,1],[0,6,0,8],[19,0,19,1],[8,0,8,4],[2,0,2,1],[2,2,2,4],[7,0,7,4],[9,0,13,0],[0,0,1,4]]}
["Aşağıdaki açıklamaları dikkatle inceleyiniz.",null,null,null,null,null,"SINIF LİSTENİZİ OLUŞTURUNUZ"]
[null,null,null,null,null,null,"S.No","O.NO","ADI SOYADI"]
["BİLGİLERİNİZ",null,"Aşağidaki hücre verileri ile oynamayınız.",null,null,null,1,11,"KAYRA ÇINAR ERGÜN"]
["OKUL ADI",{"$f":"ana!C2","v":"ŞEHİT ÖMER SÖNMEZ İLKOKULU"},"DEĞERLENDİRMELERİ TOPLU SONUÇ ÇİZELGESİ",null,null,null,2,35,"FURKAN SOLMAZ"]
["ÖĞRETİM YILI",{"$f":"ana!C3","v":"2018 - 2019"},"DERS YILI","SINIFI KAZANIM DEĞERLENDİRME ÇİZELGESİ",null,null,3,53,"İLKNUR MUMCU"]
["SINIFI",{"$f":"ana!C4","v":"1-C"},"SINIFI","SINIFI DAVRANIŞ DEĞERLENDİRME ÇİZELGESİ",null,null,4,83,"MUHAMMET ALİ YILDIRIM"]
["ÖĞRETMENİN ADI",{"$f":"ana!C5","v":"Halil KARAKUVAT"},{"$f":"ana!C6","v":"Sınıf Öğretmeni www.egitimhane.com"},"I.DÖNEM","II.DÖNEM",null,5,93,"ERTUĞRUL GAZİ NAMLI"]
[null,null,null,null,null,null,6,100,"ECEM EFE"]
["Değerlendirme yapacağınız derse GEÇİŞ YAPMAK İÇİN KISAYOL BUTONLARINI KULLANINIZ",null,null,null,null,null,7,105,"SELİM ZEKERİYA ÖZDEMİR"]
["Bilgileriniz \ngüncel ise\nMUTLAKA \nGÜLEN ADAM\nbutonuna   \nTIKLAYINIZ","DEĞERLENDİRMEYİ ","KISAYOL BUTONLARI",null,null,null,8,108,"AREN KARAKAŞ"]
[null,"1, 2, 3 ÜZERİNDEN YAPINIZ.","DERS ADI","1. DÖNEM","2. DÖNEM",null,9,111,"ZEHRA ŞAHİNOĞLU"]
[null,null,"1. DAVRANIŞ PUANI ÖLÇÜTLERİ “EK-4” (DAV)",null,null,null,10,113,"YUSUF ALİ TÜNÇ"]
[null,null,"2.HAYAT BİLGİSİ (H)",null,null,null,11,161,"HÜSEYİN CELAYİR"]
[null,null,"3. MATEMATİK (M)",null,null,null,12,177,"YİĞİT EFE YEŞİLDAL"]
[null,null,"4. TÜRKÇE (T)",null,null,null,13,187,"HALEF TAHA ATEŞ"]
[null,null,"5. GÖRSEL SANATLAR (GS) ",null,null,null,14,188,"EMİRHAN MERTOĞLU"]
[null,null,"6. MÜZİK (MZ)",null,null,null,15,189,"EMİNE GÜVEN"]
[null,null,"7. BEDEN EĞİTİMİVE OYUN (BEO)",null,null,null,16,213,"YAĞMUR KILIÇ"]
[null,null,"8. YABANCI DİL (İNGİLİZ)",null,null,null,17,214,"ERDAL GÜLATAR"]
["İlk kullanımda 1 (bir) kere tıklamanız yeterlidir.",null,"TOPLU SONUÇLAR",null,null,null,18,216,"GAMZE ACAR"]
["TEK TIK İLE NOT VERMEK İÇİN MAVİ BUTONA TIKLAYINIZ:",null,"Tek Tık PASİF",null,null,null,19,222,"HİRANUR DOĞANDEMİR"]
["Manuel not girmek için buton \"PASİF\" olmalıdır. Aktif ise butona tıklayınız.",null,null,null,null,null,20,224,"TALHA YILMAZ"]
[null,null,null,null,null,null,21,225,"YUSUF EMİR DAĞDÖGEN"]
[null,null,null,null,null,null,22,226,"İMREN CANPOLAT"]
[null,null,null,null,null,null,23,227,"ZEYNEP CANPOLAT"]
[null,null,null,null,null,null,24,229,"MERYEM PARMAK"]
[null,null,null,null,null,null,25,237,"ZEYNEP MİRAY BOYRAZ"]
[null,null,null,null,null,null,26,244,"TAMER ŞEKERCİLEROĞLU"]
[null,null,null,null,null,null,27,263,"MUHAMMED YUSUF YILMAZ"]
[null,null,null,null,null,null,28,264,"OĞUZHAN GÜRGÜZE"]
[null,null,null,null,null,null,29,279,"MİHRİMA EKİCİ"]
[null,null,null,null,null,null,30,290,"NİSA NUR YILDIZ"]
[null,null,null,null,null,null,31,293,"MEHMET ALATAŞ"]
[null,null,null,null,null,null,32,451,"İKRA YILDIRIM"]
[null,null,null,null,null,null,33,616,"EDA TURAL"]
[null,null,null,null,null,null,34,892,"ALMA ALRAMADAN"]
[null,null,null,null,null,null,35,1000,"TURGUT POLAT"]

{"sheet":"1.DTS","index":2,"n_rows":103,"n_cols":21,"rows_kept":103,"cut":false,"hidden":false,"merged":[[0,18,0,20],[1,0,2,0],[1,1,2,1],[1,2,2,2],[1,3,1,5],[1,6,1,8],[1,9,1,11],[1,12,1,14],[1,15,1,17],[1,18,1,20]]}
[null,null,null,null,null,null,null,null,null,null,null,null,null,null,null,null,null,null,"1. DÖNEM"]
["SIRA\nNO","OKUL\nNO","ADI SOYADI","HAYAT BİLGİSİ",null,null,"TÜRKÇE",null,null,"MATEMATİK",null,null,"GÖRSEL SANATLAR",null,null,"MÜZİK",null,null,"BEDEN EĞT. VE OYUN"]
[null,null,null,"1.","ORT.","SONUÇ","1.","ORT.","SONUÇ","1.","ORT.","SONUÇ","1.","ORT.","SONUÇ","1.","ORT.","SONUÇ",{"$f":"BEO2.1!S3","v":1},"ORT.","SONUÇ"]
[{"$f":"IF(baş!G3=\"\",\"\",baş!G3)","v":1},{"$f":"IF(baş!H3=\"\",\"\",baş!H3)","v":11},{"$f":"IF(baş!I3=\"\",\"\",baş!I3)","v":"KAYRA ÇINAR ERGÜN"},{"$f":"H2.1!AD3","v":1},{"$f":"AVERAGE(D4:D4)","v":1},{"$f":"IF(E4=\"\",\"\",(IF(E4>=2.5,\"ÇOK İYİ\",IF(E4>=1.5,\"İYİ\",IF(E4>=1,\"GELİŞTİRİLMELİ\")))))","v":"GELİŞTİRİLMELİ"},{"$f":"T2.1!AY3","v":1},{"$f":"AVERAGE(G4:G4)","v":1},{"$f":"IF(H4=\"\",\"\",(IF(H4>=2.5,\"ÇOK İYİ\",IF(H4>=1.5,\"İYİ\",IF(H4>=1,\"GELİŞTİRİLMELİ\")))))","v":"GELİŞTİRİLMELİ"},{"$f":"M2.1!T3","v":1},{"$f":"AVERAGE(J4:J4)","v":1},{"$f":"IF(K4=\"\",\"\",(IF(K4>=2.5,\"ÇOK İYİ\",IF(K4>=1.5,\"İYİ\",IF(K4>=1,\"GELİŞTİRİLMELİ\")))))","v":"GELİŞTİRİLMELİ"},{"$f":"GS2.1!K3","v":1},{"$f":"AVERAGE(M4:M4)","v":1},{"$f":"IF(N4=\"\",\"\",(IF(N4>=2.5,\"ÇOK İYİ\",IF(N4>=1.5,\"İYİ\",IF(N4>=1,\"GELİŞTİRİLMELİ\")))))","v":"GELİŞTİRİLMELİ"},{"$f":"MZK2.1!P3","v":1},{"$f":"AVERAGE(P4:P4)","v":1},{"$f":"IF(Q4=\"\",\"\",(IF(Q4>=2.5,\"ÇOK İYİ\",IF(Q4>=1.5,\"İYİ\",IF(Q4>=1,\"GELİŞTİRİLMELİ\")))))","v":"GELİŞTİRİLMELİ"},1,{"$f":"AVERAGE(S4:S4)","v":1},{"$f":"IF(T4=\"\",\"\",(IF(T4>=2.5,\"ÇOK İYİ\",IF(T4>=1.5,\"İYİ\",IF(T4>=1,\"GELİŞTİRİLMELİ\")))))","v":"GELİŞTİRİLMELİ"}]
[{"$f":"IF(baş!G4=\"\",\"\",baş!G4)","v":2},{"$f":"IF(baş!H4=\"\",\"\",baş!H4)","v":35},{"$f":"IF(baş!I4=\"\",\"\",baş!I4)","v":"FURKAN SOLMAZ"},{"$f":"H2.1!AD4","v":1},1,{"$f":"IF(E5=\"\",\"\",(IF(E5>=2.5,\"ÇOK İYİ\",IF(E5>=1.5,\"İYİ\",IF(E5>=1,\"GELİŞTİRİLMELİ\")))))","v":"GELİŞTİRİLMELİ"},{"$f":"T2.1!AY4","v":1},1,{"$f":"IF(H5=\"\",\"\",(IF(H5>=2.5,\"ÇOK İYİ\",IF(H5>=1.5,\"İYİ\",IF(H5>=1,\"GELİŞTİRİLMELİ\")))))","v":"GELİŞTİRİLMELİ"},{"$f":"M2.1!T4","v":1},1,{"$f":"IF(K5=\"\",\"\",(IF(K5>=2.5,\"ÇOK İYİ\",IF(K5>=1.5,\"İYİ\",IF(K5>=1,\"GELİŞTİRİLMELİ\")))))","v":"GELİŞTİRİLMELİ"},{"$f":"GS2.1!K4","v":1},1,{"$f":"IF(N5=\"\",\"\",(IF(N5>=2.5,\"ÇOK İYİ\",IF(N5>=1.5,\"İYİ\",IF(N5>=1,\"GELİŞTİRİLMELİ\")))))","v":"GELİŞTİRİLMELİ"},{"$f":"MZK2.1!P4","v":1},1,{"$f":"IF(Q5=\"\",\"\",(IF(Q5>=2.5,\"ÇOK İYİ\",IF(Q5>=1.5,\"İYİ\",IF(Q5>=1,\"GELİŞTİRİLMELİ\")))))","v":"GELİŞTİRİLMELİ"},1,1,{"$f":"IF(T5=\"\",\"\",(IF(T5>=2.5,\"ÇOK İYİ\",IF(T5>=1.5,\"İYİ\",IF(T5>=1,\"GELİŞTİRİLMELİ\")))))","v":"GELİŞTİRİLMELİ"}]
[{"$f":"IF(baş!G5=\"\",\"\",baş!G5)","v":3},{"$f":"IF(baş!H5=\"\",\"\",baş!H5)","v":53},{"$f":"IF(baş!I5=\"\",\"\",baş!I5)","v":"İLKNUR MUMCU"},{"$f":"H2.1!AD5","v":1},1,"GELİŞTİRİLMELİ",{"$f":"T2.1!AY5","v":1},1,"GELİŞTİRİLMELİ",{"$f":"M2.1!T5","v":1},1,"GELİŞTİRİLMELİ",{"$f":"GS2.1!K5","v":1},1,"GELİŞTİRİLMELİ",{"$f":"MZK2.1!P5","v":1},1,"GELİŞTİRİLMELİ",1,1,"GELİŞTİRİLMELİ"]
[{"$f":"IF(baş!G6=\"\",\"\",baş!G6)","v":4},{"$f":"IF(baş!H6=\"\",\"\",baş!H6)","v":83},{"$f":"IF(baş!I6=\"\",\"\",baş!I6)","v":"MUHAMMET ALİ YILDIRIM"},{"$f":"H2.1!AD6","v":1},1,"GELİŞTİRİLMELİ",{"$f":"T2.1!AY6","v":1},1,"GELİŞTİRİLMELİ",{"$f":"M2.1!T6","v":1},1,"GELİŞTİRİLMELİ",{"$f":"GS2.1!K6","v":1},1,"GELİŞTİRİLMELİ",{"$f":"MZK2.1!P6","v":1},1,"GELİŞTİRİLMELİ",1,1,"GELİŞTİRİLMELİ"]
[{"$f":"IF(baş!G7=\"\",\"\",baş!G7)","v":5},{"$f":"IF(baş!H7=\"\",\"\",baş!H7)","v":93},{"$f":"IF(baş!I7=\"\",\"\",baş!I7)","v":"ERTUĞRUL GAZİ NAMLI"},{"$f":"H2.1!AD7","v":1},1,"GELİŞTİRİLMELİ",{"$f":"T2.1!AY7","v":1},1,"GELİŞTİRİLMELİ",{"$f":"M2.1!T7","v":1},1,"GELİŞTİRİLMELİ",{"$f":"GS2.1!K7","v":1},1,"GELİŞTİRİLMELİ",{"$f":"MZK2.1!P7","v":1},1,"GELİŞTİRİLMELİ",1,1,"GELİŞTİRİLMELİ"]
[{"$f":"IF(baş!G8=\"\",\"\",baş!G8)","v":6},{"$f":"IF(baş!H8=\"\",\"\",baş!H8)","v":100},{"$f":"IF(baş!I8=\"\",\"\",baş!I8)","v":"ECEM EFE"},{"$f":"H2.1!AD8","v":1},1,"GELİŞTİRİLMELİ",{"$f":"T2.1!AY8","v":1},1,"GELİŞTİRİLMELİ",{"$f":"M2.1!T8","v":1},1,"GELİŞTİRİLMELİ",{"$f":"GS2.1!K8","v":1},1,"GELİŞTİRİLMELİ",{"$f":"MZK2.1!P8","v":1},1,"GELİŞTİRİLMELİ",1,1,"GELİŞTİRİLMELİ"]
[{"$f":"IF(baş!G9=\"\",\"\",baş!G9)","v":7},{"$f":"IF(baş!H9=\"\",\"\",baş!H9)","v":105},{"$f":"IF(baş!I9=\"\",\"\",baş!I9)","v":"SELİM ZEKERİYA ÖZDEMİR"},{"$f":"H2.1!AD9","v":1},1,"GELİŞTİRİLMELİ",{"$f":"T2.1!AY9","v":1},1,"GELİŞTİRİLMELİ",{"$f":"M2.1!T9","v":1},1,"GELİŞTİRİLMELİ",{"$f":"GS2.1!K9","v":1},1,"GELİŞTİRİLMELİ",{"$f":"MZK2.1!P9","v":1},1,"GELİŞTİRİLMELİ",1,1,"GELİŞTİRİLMELİ"]
[{"$f":"IF(baş!G10=\"\",\"\",baş!G10)","v":8},{"$f":"IF(baş!H10=\"\",\"\",baş!H10)","v":108},{"$f":"IF(baş!I10=\"\",\"\",baş!I10)","v":"AREN KARAKAŞ"},{"$f":"H2.1!AD10","v":1},1,"GELİŞTİRİLMELİ",{"$f":"T2.1!AY10","v":1},1,"GELİŞTİRİLMELİ",{"$f":"M2.1!T10","v":1},1,"GELİŞTİRİLMELİ",{"$f":"GS2.1!K10","v":1},1,"GELİŞTİRİLMELİ",{"$f":"MZK2.1!P10","v":1},1,"GELİŞTİRİLMELİ",1,1,"GELİŞTİRİLMELİ"]
[{"$f":"IF(baş!G11=\"\",\"\",baş!G11)","v":9},{"$f":"IF(baş!H11=\"\",\"\",baş!H11)","v":111},{"$f":"IF(baş!I11=\"\",\"\",baş!I11)","v":"ZEHRA ŞAHİNOĞLU"},{"$f":"H2.1!AD11","v":1},1,"GELİŞTİRİLMELİ",{"$f":"T2.1!AY11","v":1},1,"GELİŞTİRİLMELİ",{"$f":"M2.1!T11","v":1},1,"GELİŞTİRİLMELİ",{"$f":"GS2.1!K11","v":1},1,"GELİŞTİRİLMELİ",{"$f":"MZK2.1!P11","v":1},1,"GELİŞTİRİLMELİ",1,1,"GELİŞTİRİLMELİ"]
[{"$f":"IF(baş!G12=\"\",\"\",baş!G12)","v":10},{"$f":"IF(baş!H12=\"\",\"\",baş!H12)","v":113},{"$f":"IF(baş!I12=\"\",\"\",baş!I12)","v":"YUSUF ALİ TÜNÇ"},{"$f":"H2.1!AD12","v":1},1,"GELİŞTİRİLMELİ",{"$f":"T2.1!AY12","v":1},1,"GELİŞTİRİLMELİ",{"$f":"M2.1!T12","v":1},1,"GELİŞTİRİLMELİ",{"$f":"GS2.1!K12","v":1},1,"GELİŞTİRİLMELİ",{"$f":"MZK2.1!P12","v":1},1,"GELİŞTİRİLMELİ",1,1,"GELİŞTİRİLMELİ"]
[{"$f":"IF(baş!G13=\"\",\"\",baş!G13)","v":11},{"$f":"IF(baş!H13=\"\",\"\",baş!H13)","v":161},{"$f":"IF(baş!I13=\"\",\"\",baş!I13)","v":"HÜSEYİN CELAYİR"},{"$f":"H2.1!AD13","v":1},1,"GELİŞTİRİLMELİ",{"$f":"T2.1!AY13","v":1},1,"GELİŞTİRİLMELİ",{"$f":"M2.1!T13","v":1},1,"GELİŞTİRİLMELİ",{"$f":"GS2.1!K13","v":1},1,"GELİŞTİRİLMELİ",{"$f":"MZK2.1!P13","v":1},1,"GELİŞTİRİLMELİ",1,1,"GELİŞTİRİLMELİ"]
[{"$f":"IF(baş!G14=\"\",\"\",baş!G14)","v":12},{"$f":"IF(baş!H14=\"\",\"\",baş!H14)","v":177},{"$f":"IF(baş!I14=\"\",\"\",baş!I14)","v":"YİĞİT EFE YEŞİLDAL"},{"$f":"H2.1!AD14","v":1},1,"GELİŞTİRİLMELİ",{"$f":"T2.1!AY14","v":1},1,"GELİŞTİRİLMELİ",{"$f":"M2.1!T14","v":1},1,"GELİŞTİRİLMELİ",{"$f":"GS2.1!K14","v":1},1,"GELİŞTİRİLMELİ",{"$f":"MZK2.1!P14","v":1},1,"GELİŞTİRİLMELİ",1,1,"GELİŞTİRİLMELİ"]
[{"$f":"IF(baş!G15=\"\",\"\",baş!G15)","v":13},{"$f":"IF(baş!H15=\"\",\"\",baş!H15)","v":187},{"$f":"IF(baş!I15=\"\",\"\",baş!I15)","v":"HALEF TAHA ATEŞ"},{"$f":"H2.1!AD15","v":1},1,"GELİŞTİRİLMELİ",{"$f":"T2.1!AY15","v":1},1,"GELİŞTİRİLMELİ",{"$f":"M2.1!T15","v":1},1,"GELİŞTİRİLMELİ",{"$f":"GS2.1!K15","v":1},1,"GELİŞTİRİLMELİ",{"$f":"MZK2.1!P15","v":1},1,"GELİŞTİRİLMELİ",1,1,"GELİŞTİRİLMELİ"]
[{"$f":"IF(baş!G16=\"\",\"\",baş!G16)","v":14},{"$f":"IF(baş!H16=\"\",\"\",baş!H16)","v":188},{"$f":"IF(baş!I16=\"\",\"\",baş!I16)","v":"EMİRHAN MERTOĞLU"},{"$f":"H2.1!AD16","v":1},1,"GELİŞTİRİLMELİ",{"$f":"T2.1!AY16","v":1},1,"GELİŞTİRİLMELİ",{"$f":"M2.1!T16","v":1},1,"GELİŞTİRİLMELİ",{"$f":"GS2.1!K16","v":1},1,"GELİŞTİRİLMELİ",{"$f":"MZK2.1!P16","v":1},1,"GELİŞTİRİLMELİ",1,1,"GELİŞTİRİLMELİ"]
[{"$f":"IF(baş!G17=\"\",\"\",baş!G17)","v":15},{"$f":"IF(baş!H17=\"\",\"\",baş!H17)","v":189},{"$f":"IF(baş!I17=\"\",\"\",baş!I17)","v":"EMİNE GÜVEN"},{"$f":"H2.1!AD17","v":1},1,"GELİŞTİRİLMELİ",{"$f":"T2.1!AY17","v":1},1,"GELİŞTİRİLMELİ",{"$f":"M2.1!T17","v":1},1,"GELİŞTİRİLMELİ",{"$f":"GS2.1!K17","v":1},1,"GELİŞTİRİLMELİ",{"$f":"MZK2.1!P17","v":1},1,"GELİŞTİRİLMELİ",1,1,"GELİŞTİRİLMELİ"]
[{"$f":"IF(baş!G18=\"\",\"\",baş!G18)","v":16},{"$f":"IF(baş!H18=\"\",\"\",baş!H18)","v":213},{"$f":"IF(baş!I18=\"\",\"\",baş!I18)","v":"YAĞMUR KILIÇ"},{"$f":"H2.1!AD18","v":1},1,"GELİŞTİRİLMELİ",{"$f":"T2.1!AY18","v":1},1,"GELİŞTİRİLMELİ",{"$f":"M2.1!T18","v":1},1,"GELİŞTİRİLMELİ",{"$f":"GS2.1!K18","v":1},1,"GELİŞTİRİLMELİ",{"$f":"MZK2.1!P18","v":1},1,"GELİŞTİRİLMELİ",1,1,"GELİŞTİRİLMELİ"]
[{"$f":"IF(baş!G19=\"\",\"\",baş!G19)","v":17},{"$f":"IF(baş!H19=\"\",\"\",baş!H19)","v":214},{"$f":"IF(baş!I19=\"\",\"\",baş!I19)","v":"ERDAL GÜLATAR"},{"$f":"H2.1!AD19","v":1},1,"GELİŞTİRİLMELİ",{"$f":"T2.1!AY19","v":1},1,"GELİŞTİRİLMELİ",{"$f":"M2.1!T19","v":1},1,"GELİŞTİRİLMELİ",{"$f":"GS2.1!K19","v":1},1,"GELİŞTİRİLMELİ",{"$f":"MZK2.1!P19","v":1},1,"GELİŞTİRİLMELİ",1,1,"GELİŞTİRİLMELİ"]
[{"$f":"IF(baş!G20=\"\",\"\",baş!G20)","v":18},{"$f":"IF(baş!H20=\"\",\"\",baş!H20)","v":216},{"$f":"IF(baş!I20=\"\",\"\",baş!I20)","v":"GAMZE ACAR"},{"$f":"H2.1!AD20","v":1},1,"GELİŞTİRİLMELİ",{"$f":"T2.1!AY20","v":1},1,"GELİŞTİRİLMELİ",{"$f":"M2.1!T20","v":1},1,"GELİŞTİRİLMELİ",{"$f":"GS2.1!K20","v":1},1,"GELİŞTİRİLMELİ",{"$f":"MZK2.1!P20","v":1},1,"GELİŞTİRİLMELİ",1,1,"GELİŞTİRİLMELİ"]
[{"$f":"IF(baş!G21=\"\",\"\",baş!G21)","v":19},{"$f":"IF(baş!H21=\"\",\"\",baş!H21)","v":222},{"$f":"IF(baş!I21=\"\",\"\",baş!I21)","v":"HİRANUR DOĞANDEMİR"},{"$f":"H2.1!AD21","v":1},1,"GELİŞTİRİLMELİ",{"$f":"T2.1!AY21","v":1},1,"GELİŞTİRİLMELİ",{"$f":"M2.1!T21","v":1},1,"GELİŞTİRİLMELİ",{"$f":"GS2.1!K21","v":1},1,"GELİŞTİRİLMELİ",{"$f":"MZK2.1!P21","v":1},1,"GELİŞTİRİLMELİ",1,1,"GELİŞTİRİLMELİ"]
[{"$f":"IF(baş!G22=\"\",\"\",baş!G22)","v":20},{"$f":"IF(baş!H22=\"\",\"\",baş!H22)","v":224},{"$f":"IF(baş!I22=\"\",\"\",baş!I22)","v":"TALHA YILMAZ"},{"$f":"H2.1!AD22","v":1},1,"GELİŞTİRİLMELİ",{"$f":"T2.1!AY22","v":1},1,"GELİŞTİRİLMELİ",{"$f":"M2.1!T22","v":1},1,"GELİŞTİRİLMELİ",{"$f":"GS2.1!K22","v":1},1,"GELİŞTİRİLMELİ",{"$f":"MZK2.1!P22","v":1},1,"GELİŞTİRİLMELİ",1,1,"GELİŞTİRİLMELİ"]
[{"$f":"IF(baş!G23=\"\",\"\",baş!G23)","v":21},{"$f":"IF(baş!H23=\"\",\"\",baş!H23)","v":225},{"$f":"IF(baş!I23=\"\",\"\",baş!I23)","v":"YUSUF EMİR DAĞDÖGEN"},{"$f":"H2.1!AD23","v":1},1,"GELİŞTİRİLMELİ",{"$f":"T2.1!AY23","v":1},1,"GELİŞTİRİLMELİ",{"$f":"M2.1!T23","v":1},1,"GELİŞTİRİLMELİ",{"$f":"GS2.1!K23","v":1},1,"GELİŞTİRİLMELİ",{"$f":"MZK2.1!P23","v":1},1,"GELİŞTİRİLMELİ",1,1,"GELİŞTİRİLMELİ"]
[{"$f":"IF(baş!G24=\"\",\"\",baş!G24)","v":22},{"$f":"IF(baş!H24=\"\",\"\",baş!H24)","v":226},{"$f":"IF(baş!I24=\"\",\"\",baş!I24)","v":"İMREN CANPOLAT"},{"$f":"H2.1!AD24","v":1},1,"GELİŞTİRİLMELİ",{"$f":"T2.1!AY24","v":1},1,"GELİŞTİRİLMELİ",{"$f":"M2.1!T24","v":1},1,"GELİŞTİRİLMELİ",{"$f":"GS2.1!K24","v":1},1,"GELİŞTİRİLMELİ",{"$f":"MZK2.1!P24","v":1},1,"GELİŞTİRİLMELİ",1,1,"GELİŞTİRİLMELİ"]
[{"$f":"IF(baş!G25=\"\",\"\",baş!G25)","v":23},{"$f":"IF(baş!H25=\"\",\"\",baş!H25)","v":227},{"$f":"IF(baş!I25=\"\",\"\",baş!I25)","v":"ZEYNEP CANPOLAT"},{"$f":"H2.1!AD25","v":1},1,"GELİŞTİRİLMELİ",{"$f":"T2.1!AY25","v":1},1,"GELİŞTİRİLMELİ",{"$f":"M2.1!T25","v":1},1,"GELİŞTİRİLMELİ",{"$f":"GS2.1!K25","v":1},1,"GELİŞTİRİLMELİ",{"$f":"MZK2.1!P25","v":1},1,"GELİŞTİRİLMELİ",1,1,"GELİŞTİRİLMELİ"]
[{"$f":"IF(baş!G26=\"\",\"\",baş!G26)","v":24},{"$f":"IF(baş!H26=\"\",\"\",baş!H26)","v":229},{"$f":"IF(baş!I26=\"\",\"\",baş!I26)","v":"MERYEM PARMAK"},{"$f":"H2.1!AD26","v":1},1,"GELİŞTİRİLMELİ",{"$f":"T2.1!AY26","v":1},1,"GELİŞTİRİLMELİ",{"$f":"M2.1!T26","v":1},1,"GELİŞTİRİLMELİ",{"$f":"GS2.1!K26","v":1},1,"GELİŞTİRİLMELİ",{"$f":"MZK2.1!P26","v":1},1,"GELİŞTİRİLMELİ",1,1,"GELİŞTİRİLMELİ"]
[{"$f":"IF(baş!G27=\"\",\"\",baş!G27)","v":25},{"$f":"IF(baş!H27=\"\",\"\",baş!H27)","v":237},{"$f":"IF(baş!I27=\"\",\"\",baş!I27)","v":"ZEYNEP MİRAY BOYRAZ"},{"$f":"H2.1!AD27","v":1},1,"GELİŞTİRİLMELİ",{"$f":"T2.1!AY27","v":1},1,"GELİŞTİRİLMELİ",{"$f":"M2.1!T27","v":1},1,"GELİŞTİRİLMELİ",{"$f":"GS2.1!K27","v":1},1,"GELİŞTİRİLMELİ",{"$f":"MZK2.1!P27","v":1},1,"GELİŞTİRİLMELİ",1,1,"GELİŞTİRİLMELİ"]
[{"$f":"IF(baş!G28=\"\",\"\",baş!G28)","v":26},{"$f":"IF(baş!H28=\"\",\"\",baş!H28)","v":244},{"$f":"IF(baş!I28=\"\",\"\",baş!I28)","v":"TAMER ŞEKERCİLEROĞLU"},{"$f":"H2.1!AD28","v":1},1,"GELİŞTİRİLMELİ",{"$f":"T2.1!AY28","v":1},1,"GELİŞTİRİLMELİ",{"$f":"M2.1!T28","v":1},1,"GELİŞTİRİLMELİ",{"$f":"GS2.1!K28","v":1},1,"GELİŞTİRİLMELİ",{"$f":"MZK2.1!P28","v":1},1,"GELİŞTİRİLMELİ",1,1,"GELİŞTİRİLMELİ"]
[{"$f":"IF(baş!G29=\"\",\"\",baş!G29)","v":27},{"$f":"IF(baş!H29=\"\",\"\",baş!H29)","v":263},{"$f":"IF(baş!I29=\"\",\"\",baş!I29)","v":"MUHAMMED YUSUF YILMAZ"},{"$f":"H2.1!AD29","v":1},1,"GELİŞTİRİLMELİ",{"$f":"T2.1!AY29","v":1},1,"GELİŞTİRİLMELİ",{"$f":"M2.1!T29","v":1},1,"GELİŞTİRİLMELİ",{"$f":"GS2.1!K29","v":1},1,"GELİŞTİRİLMELİ",{"$f":"MZK2.1!P29","v":1},1,"GELİŞTİRİLMELİ",1,1,"GELİŞTİRİLMELİ"]
[{"$f":"IF(baş!G30=\"\",\"\",baş!G30)","v":28},{"$f":"IF(baş!H30=\"\",\"\",baş!H30)","v":264},{"$f":"IF(baş!I30=\"\",\"\",baş!I30)","v":"OĞUZHAN GÜRGÜZE"},{"$f":"H2.1!AD30","v":1},1,"GELİŞTİRİLMELİ",{"$f":"T2.1!AY30","v":1},1,"GELİŞTİRİLMELİ",{"$f":"M2.1!T30","v":1},1,"GELİŞTİRİLMELİ",{"$f":"GS2.1!K30","v":1},1,"GELİŞTİRİLMELİ",{"$f":"MZK2.1!P30","v":1},1,"GELİŞTİRİLMELİ",1,1,"GELİŞTİRİLMELİ"]
[{"$f":"IF(baş!G31=\"\",\"\",baş!G31)","v":29},{"$f":"IF(baş!H31=\"\",\"\",baş!H31)","v":279},{"$f":"IF(baş!I31=\"\",\"\",baş!I31)","v":"MİHRİMA EKİCİ"},{"$f":"H2.1!AD31","v":1},1,"GELİŞTİRİLMELİ",{"$f":"T2.1!AY31","v":1},1,"GELİŞTİRİLMELİ",{"$f":"M2.1!T31","v":1},1,"GELİŞTİRİLMELİ",{"$f":"GS2.1!K31","v":1},1,"GELİŞTİRİLMELİ",{"$f":"MZK2.1!P31","v":1},1,"GELİŞTİRİLMELİ",1,1,"GELİŞTİRİLMELİ"]
[{"$f":"IF(baş!G32=\"\",\"\",baş!G32)","v":30},{"$f":"IF(baş!H32=\"\",\"\",baş!H32)","v":290},{"$f":"IF(baş!I32=\"\",\"\",baş!I32)","v":"NİSA NUR YILDIZ"},{"$f":"H2.1!AD32","v":1},1,"GELİŞTİRİLMELİ",{"$f":"T2.1!AY32","v":1},1,"GELİŞTİRİLMELİ",{"$f":"M2.1!T32","v":1},1,"GELİŞTİRİLMELİ",{"$f":"GS2.1!K32","v":1},1,"GELİŞTİRİLMELİ",{"$f":"MZK2.1!P32","v":1},1,"GELİŞTİRİLMELİ",1,1,"GELİŞTİRİLMELİ"]
[{"$f":"IF(baş!G33=\"\",\"\",baş!G33)","v":31},{"$f":"IF(baş!H33=\"\",\"\",baş!H33)","v":293},{"$f":"IF(baş!I33=\"\",\"\",baş!I33)","v":"MEHMET ALATAŞ"},{"$f":"H2.1!AD33","v":1},1,"GELİŞTİRİLMELİ",{"$f":"T2.1!AY33","v":1},1,"GELİŞTİRİLMELİ",{"$f":"M2.1!T33","v":1},1,"GELİŞTİRİLMELİ",{"$f":"GS2.1!K33","v":1},1,"GELİŞTİRİLMELİ",{"$f":"MZK2.1!P33","v":1},1,"GELİŞTİRİLMELİ",1,1,"GELİŞTİRİLMELİ"]
[{"$f":"IF(baş!G34=\"\",\"\",baş!G34)","v":32},{"$f":"IF(baş!H34=\"\",\"\",baş!H34)","v":451},{"$f":"IF(baş!I34=\"\",\"\",baş!I34)","v":"İKRA YILDIRIM"},{"$f":"H2.1!AD34","v":1},1,"GELİŞTİRİLMELİ",{"$f":"T2.1!AY34","v":1},1,"GELİŞTİRİLMELİ",{"$f":"M2.1!T34","v":1},1,"GELİŞTİRİLMELİ",{"$f":"GS2.1!K34","v":1},1,"GELİŞTİRİLMELİ",{"$f":"MZK2.1!P34","v":1},1,"GELİŞTİRİLMELİ",1,1,"GELİŞTİRİLMELİ"]
[{"$f":"IF(baş!G35=\"\",\"\",baş!G35)","v":33},{"$f":"IF(baş!H35=\"\",\"\",baş!H35)","v":616},{"$f":"IF(baş!I35=\"\",\"\",baş!I35)","v":"EDA TURAL"},{"$f":"H2.1!AD35","v":1},{"$f":"AVERAGE(D36:D36)","v":1},"GELİŞTİRİLMELİ",{"$f":"T2.1!AY35","v":1},{"$f":"AVERAGE(G36:G36)","v":1},"GELİŞTİRİLMELİ",{"$f":"M2.1!T35","v":1},{"$f":"AVERAGE(J36:J36)","v":1},"GELİŞTİRİLMELİ",{"$f":"GS2.1!K35","v":1},{"$f":"AVERAGE(M36:M36)","v":1},"GELİŞTİRİLMELİ",{"$f":"MZK2.1!P35","v":1},{"$f":"AVERAGE(P36:P36)","v":1},"GELİŞTİRİLMELİ",1,{"$f":"AVERAGE(S36:S36)","v":1},"GELİŞTİRİLMELİ"]
[{"$f":"IF(baş!G36=\"\",\"\",baş!G36)","v":34},{"$f":"IF(baş!H36=\"\",\"\",baş!H36)","v":892},{"$f":"IF(baş!I36=\"\",\"\",baş!I36)","v":"ALMA ALRAMADAN"},{"$f":"H2.1!AD36","v":1},1,"GELİŞTİRİLMELİ",{"$f":"T2.1!AY36","v":1},1,"GELİŞTİRİLMELİ",{"$f":"M2.1!T36","v":1},1,"GELİŞTİRİLMELİ",{"$f":"GS2.1!K36","v":1},1,"GELİŞTİRİLMELİ",{"$f":"MZK2.1!P36","v":1},1,"GELİŞTİRİLMELİ",1,1,"GELİŞTİRİLMELİ"]
[{"$f":"IF(baş!G37=\"\",\"\",baş!G37)","v":35},{"$f":"IF(baş!H37=\"\",\"\",baş!H37)","v":1000},{"$f":"IF(baş!I37=\"\",\"\",baş!I37)","v":"TURGUT POLAT"},{"$f":"H2.1!AD37","v":1},1,"GELİŞTİRİLMELİ",{"$f":"T2.1!AY37","v":1},1,"GELİŞTİRİLMELİ",{"$f":"M2.1!T37","v":1},1,"GELİŞTİRİLMELİ",{"$f":"GS2.1!K37","v":1},1,"GELİŞTİRİLMELİ",{"$f":"MZK2.1!P37","v":1},1,"GELİŞTİRİLMELİ",1,1,"GELİŞTİRİLMELİ"]
[{"$f":"IF(baş!G38=\"\",\"\",baş!G38)","v":""},{"$f":"IF(baş!H38=\"\",\"\",baş!H38)","v":""},{"$f":"IF(baş!I38=\"\",\"\",baş!I38)","v":""},{"$f":"H2.1!AD38","v":1},1,"GELİŞTİRİLMELİ",{"$f":"T2.1!AY38","v":1},1,"GELİŞTİRİLMELİ",{"$f":"M2.1!T38","v":1},1,"GELİŞTİRİLMELİ",{"$f":"GS2.1!K38","v":1},1,"GELİŞTİRİLMELİ",{"$f":"MZK2.1!P38","v":1},1,"GELİŞTİRİLMELİ",1,1,"GELİŞTİRİLMELİ"]
[{"$f":"IF(baş!G39=\"\",\"\",baş!G39)","v":""},{"$f":"IF(baş!H39=\"\",\"\",baş!H39)","v":""},{"$f":"IF(baş!I39=\"\",\"\",baş!I39)","v":""},{"$f":"H2.1!AD39","v":1},1,"GELİŞTİRİLMELİ",{"$f":"T2.1!AY39","v":1},1,"GELİŞTİRİLMELİ",{"$f":"M2.1!T39","v":1},1,"GELİŞTİRİLMELİ",{"$f":"GS2.1!K39","v":1},1,"GELİŞTİRİLMELİ",{"$f":"MZK2.1!P39","v":1},1,"GELİŞTİRİLMELİ",1,1,"GELİŞTİRİLMELİ"]
[{"$f":"IF(baş!G40=\"\",\"\",baş!G40)","v":""},{"$f":"IF(baş!H40=\"\",\"\",baş!H40)","v":""},{"$f":"IF(baş!I40=\"\",\"\",baş!I40)","v":""},{"$f":"H2.1!AD40","v":1},1,"GELİŞTİRİLMELİ",{"$f":"T2.1!AY40","v":1},1,"GELİŞTİRİLMELİ",{"$f":"M2.1!T40","v":1},1,"GELİŞTİRİLMELİ",{"$f":"GS2.1!K40","v":1},1,"GELİŞTİRİLMELİ",{"$f":"MZK2.1!P40","v":1},1,"GELİŞTİRİLMELİ",1,1,"GELİŞTİRİLMELİ"]
[{"$f":"IF(baş!G41=\"\",\"\",baş!G41)","v":""},{"$f":"IF(baş!H41=\"\",\"\",baş!H41)","v":""},{"$f":"IF(baş!I41=\"\",\"\",baş!I41)","v":""},{"$f":"H2.1!AD41","v":1},1,"GELİŞTİRİLMELİ",{"$f":"T2.1!AY41","v":1},1,"GELİŞTİRİLMELİ",{"$f":"M2.1!T41","v":1},1,"GELİŞTİRİLMELİ",{"$f":"GS2.1!K41","v":1},1,"GELİŞTİRİLMELİ",{"$f":"MZK2.1!P41","v":1},1,"GELİŞTİRİLMELİ",1,1,"GELİŞTİRİLMELİ"]
[{"$f":"IF(baş!G42=\"\",\"\",baş!G42)","v":""},{"$f":"IF(baş!H42=\"\",\"\",baş!H42)","v":""},{"$f":"IF(baş!I42=\"\",\"\",baş!I42)","v":""},{"$f":"H2.1!AD42","v":1},1,"GELİŞTİRİLMELİ",{"$f":"T2.1!AY42","v":1},1,"GELİŞTİRİLMELİ",{"$f":"M2.1!T42","v":1},1,"GELİŞTİRİLMELİ",{"$f":"GS2.1!K42","v":1},1,"GELİŞTİRİLMELİ",{"$f":"MZK2.1!P42","v":1},1,"GELİŞTİRİLMELİ",1,1,"GELİŞTİRİLMELİ"]
[{"$f":"IF(baş!G43=\"\",\"\",baş!G43)","v":""},{"$f":"IF(baş!H43=\"\",\"\",baş!H43)","v":""},{"$f":"IF(baş!I43=\"\",\"\",baş!I43)","v":""},{"$f":"H2.1!AD43","v":1},1,"GELİŞTİRİLMELİ",{"$f":"T2.1!AY43","v":1},1,"GELİŞTİRİLMELİ",{"$f":"M2.1!T43","v":1},1,"GELİŞTİRİLMELİ",{"$f":"GS2.1!K43","v":1},1,"GELİŞTİRİLMELİ",{"$f":"MZK2.1!P43","v":1},1,"GELİŞTİRİLMELİ",1,1,"GELİŞTİRİLMELİ"]
[{"$f":"IF(baş!G44=\"\",\"\",baş!G44)","v":""},{"$f":"IF(baş!H44=\"\",\"\",baş!H44)","v":""},{"$f":"IF(baş!I44=\"\",\"\",baş!I44)","v":""},{"$f":"H2.1!AD44","v":1},1,"GELİŞTİRİLMELİ",{"$f":"T2.1!AY44","v":1},1,"GELİŞTİRİLMELİ",{"$f":"M2.1!T44","v":1},1,"GELİŞTİRİLMELİ",{"$f":"GS2.1!K44","v":1},1,"GELİŞTİRİLMELİ",{"$f":"MZK2.1!P44","v":1},1,"GELİŞTİRİLMELİ",1,1,"GELİŞTİRİLMELİ"]
[{"$f":"IF(baş!G45=\"\",\"\",baş!G45)","v":""},{"$f":"IF(baş!H45=\"\",\"\",baş!H45)","v":""},{"$f":"IF(baş!I45=\"\",\"\",baş!I45)","v":""},{"$f":"H2.1!AD45","v":1},1,"GELİŞTİRİLMELİ",{"$f":"T2.1!AY45","v":1},1,"GELİŞTİRİLMELİ",{"$f":"M2.1!T45","v":1},1,"GELİŞTİRİLMELİ",{"$f":"GS2.1!K45","v":1},1,"GELİŞTİRİLMELİ",{"$f":"MZK2.1!P45","v":1},1,"GELİŞTİRİLMELİ",1,1,"GELİŞTİRİLMELİ"]
[{"$f":"IF(baş!G46=\"\",\"\",baş!G46)","v":""},{"$f":"IF(baş!H46=\"\",\"\",baş!H46)","v":""},{"$f":"IF(baş!I46=\"\",\"\",baş!I46)","v":""},{"$f":"H2.1!AD46","v":1},1,"GELİŞTİRİLMELİ",{"$f":"T2.1!AY46","v":1},1,"GELİŞTİRİLMELİ",{"$f":"M2.1!T46","v":1},1,"GELİŞTİRİLMELİ",{"$f":"GS2.1!K46","v":1},1,"GELİŞTİRİLMELİ",{"$f":"MZK2.1!P46","v":1},1,"GELİŞTİRİLMELİ",1,1,"GELİŞTİRİLMELİ"]
[{"$f":"IF(baş!G47=\"\",\"\",baş!G47)","v":""},{"$f":"IF(baş!H47=\"\",\"\",baş!H47)","v":""},{"$f":"IF(baş!I47=\"\",\"\",baş!I47)","v":""},{"$f":"H2.1!AD47","v":1},1,"GELİŞTİRİLMELİ",{"$f":"T2.1!AY47","v":1},1,"GELİŞTİRİLMELİ",{"$f":"M2.1!T47","v":1},1,"GELİŞTİRİLMELİ",{"$f":"GS2.1!K47","v":1},1,"GELİŞTİRİLMELİ",{"$f":"MZK2.1!P47","v":1},1,"GELİŞTİRİLMELİ",1,1,"GELİŞTİRİLMELİ"]
[{"$f":"IF(baş!G48=\"\",\"\",baş!G48)","v":""},{"$f":"IF(baş!H48=\"\",\"\",baş!H48)","v":""},{"$f":"IF(baş!I48=\"\",\"\",baş!I48)","v":""},{"$f":"H2.1!AD48","v":1},1,"GELİŞTİRİLMELİ",{"$f":"T2.1!AY48","v":1},1,"GELİŞTİRİLMELİ",{"$f":"M2.1!T48","v":1},1,"GELİŞTİRİLMELİ",{"$f":"GS2.1!K48","v":1},1,"GELİŞTİRİLMELİ",{"$f":"MZK2.1!P48","v":1},1,"GELİŞTİRİLMELİ",1,1,"GELİŞTİRİLMELİ"]
[{"$f":"IF(baş!G49=\"\",\"\",baş!G49)","v":""},{"$f":"IF(baş!H49=\"\",\"\",baş!H49)","v":""},{"$f":"IF(baş!I49=\"\",\"\",baş!I49)","v":""},{"$f":"H2.1!AD49","v":1},1,"GELİŞTİRİLMELİ",{"$f":"T2.1!AY49","v":1},1,"GELİŞTİRİLMELİ",{"$f":"M2.1!T49","v":1},1,"GELİŞTİRİLMELİ",{"$f":"GS2.1!K49","v":1},1,"GELİŞTİRİLMELİ",{"$f":"MZK2.1!P49","v":1},1,"GELİŞTİRİLMELİ",1,1,"GELİŞTİRİLMELİ"]
[{"$f":"IF(baş!G50=\"\",\"\",baş!G50)","v":""},{"$f":"IF(baş!H50=\"\",\"\",baş!H50)","v":""},{"$f":"IF(baş!I50=\"\",\"\",baş!I50)","v":""},{"$f":"H2.1!AD50","v":1},1,"GELİŞTİRİLMELİ",{"$f":"T2.1!AY50","v":1},1,"GELİŞTİRİLMELİ",{"$f":"M2.1!T50","v":1},1,"GELİŞTİRİLMELİ",{"$f":"GS2.1!K50","v":1},1,"GELİŞTİRİLMELİ",{"$f":"MZK2.1!P50","v":1},1,"GELİŞTİRİLMELİ",1,1,"GELİŞTİRİLMELİ"]
[{"$f":"IF(baş!G51=\"\",\"\",baş!G51)","v":""},{"$f":"IF(baş!H51=\"\",\"\",baş!H51)","v":""},{"$f":"IF(baş!I51=\"\",\"\",baş!I51)","v":""},{"$f":"H2.1!AD51","v":1},1,"GELİŞTİRİLMELİ",{"$f":"T2.1!AY51","v":1},1,"GELİŞTİRİLMELİ",{"$f":"M2.1!T51","v":1},1,"GELİŞTİRİLMELİ",{"$f":"GS2.1!K51","v":1},1,"GELİŞTİRİLMELİ",{"$f":"MZK2.1!P51","v":1},1,"GELİŞTİRİLMELİ",1,1,"GELİŞTİRİLMELİ"]
[{"$f":"IF(baş!G52=\"\",\"\",baş!G52)","v":""},{"$f":"IF(baş!H52=\"\",\"\",baş!H52)","v":""},{"$f":"IF(baş!I52=\"\",\"\",baş!I52)","v":""},{"$f":"H2.1!AD52","v":1},1,"GELİŞTİRİLMELİ",{"$f":"T2.1!AY52","v":1},1,"GELİŞTİRİLMELİ",{"$f":"M2.1!T52","v":1},1,"GELİŞTİRİLMELİ",{"$f":"GS2.1!K52","v":1},1,"GELİŞTİRİLMELİ",{"$f":"MZK2.1!P52","v":1},1,"GELİŞTİRİLMELİ",1,1,"GELİŞTİRİLMELİ"]
[{"$f":"IF(baş!G53=\"\",\"\",baş!G53)","v":""},{"$f":"IF(baş!H53=\"\",\"\",baş!H53)","v":""},{"$f":"IF(baş!I53=\"\",\"\",baş!I53)","v":""},{"$f":"H2.1!AD53","v":1},1,"GELİŞTİRİLMELİ",{"$f":"T2.1!AY53","v":1},1,"GELİŞTİRİLMELİ",{"$f":"M2.1!T53","v":1},1,"GELİŞTİRİLMELİ",{"$f":"GS2.1!K53","v":1},1,"GELİŞTİRİLMELİ",{"$f":"MZK2.1!P53","v":1},1,"GELİŞTİRİLMELİ",1,1,"GELİŞTİRİLMELİ"]
[{"$f":"IF(baş!G54=\"\",\"\",baş!G54)","v":""},{"$f":"IF(baş!H54=\"\",\"\",baş!H54)","v":""},{"$f":"IF(baş!I54=\"\",\"\",baş!I54)","v":""},{"$f":"H2.1!AD54","v":1},1,"GELİŞTİRİLMELİ",{"$f":"T2.1!AY54","v":1},1,"GELİŞTİRİLMELİ",{"$f":"M2.1!T54","v":1},1,"GELİŞTİRİLMELİ",{"$f":"GS2.1!K54","v":1},1,"GELİŞTİRİLMELİ",{"$f":"MZK2.1!P54","v":1},1,"GELİŞTİRİLMELİ",1,1,"GELİŞTİRİLMELİ"]
[{"$f":"IF(baş!G55=\"\",\"\",baş!G55)","v":""},{"$f":"IF(baş!H55=\"\",\"\",baş!H55)","v":""},{"$f":"IF(baş!I55=\"\",\"\",baş!I55)","v":""},{"$f":"H2.1!AD55","v":1},1,"GELİŞTİRİLMELİ",{"$f":"T2.1!AY55","v":1},1,"GELİŞTİRİLMELİ",{"$f":"M2.1!T55","v":1},1,"GELİŞTİRİLMELİ",{"$f":"GS2.1!K55","v":1},1,"GELİŞTİRİLMELİ",{"$f":"MZK2.1!P55","v":1},1,"GELİŞTİRİLMELİ",1,1,"GELİŞTİRİLMELİ"]
[{"$f":"IF(baş!G56=\"\",\"\",baş!G56)","v":""},{"$f":"IF(baş!H56=\"\",\"\",baş!H56)","v":""},{"$f":"IF(baş!I56=\"\",\"\",baş!I56)","v":""},{"$f":"H2.1!AD56","v":1},1,"GELİŞTİRİLMELİ",{"$f":"T2.1!AY56","v":1},1,"GELİŞTİRİLMELİ",{"$f":"M2.1!T56","v":1},1,"GELİŞTİRİLMELİ",{"$f":"GS2.1!K56","v":1},1,"GELİŞTİRİLMELİ",{"$f":"MZK2.1!P56","v":1},1,"GELİŞTİRİLMELİ",1,1,"GELİŞTİRİLMELİ"]
[{"$f":"IF(baş!G57=\"\",\"\",baş!G57)","v":""},{"$f":"IF(baş!H57=\"\",\"\",baş!H57)","v":""},{"$f":"IF(baş!I57=\"\",\"\",baş!I57)","v":""},{"$f":"H2.1!AD57","v":1},1,"GELİŞTİRİLMELİ",{"$f":"T2.1!AY57","v":1},1,"GELİŞTİRİLMELİ",{"$f":"M2.1!T57","v":1},1,"GELİŞTİRİLMELİ",{"$f":"GS2.1!K57","v":1},1,"GELİŞTİRİLMELİ",{"$f":"MZK2.1!P57","v":1},1,"GELİŞTİRİLMELİ",1,1,"GELİŞTİRİLMELİ"]
[{"$f":"IF(baş!G58=\"\",\"\",baş!G58)","v":""},{"$f":"IF(baş!H58=\"\",\"\",baş!H58)","v":""},{"$f":"IF(baş!I58=\"\",\"\",baş!I58)","v":""},{"$f":"H2.1!AD58","v":1},1,"GELİŞTİRİLMELİ",{"$f":"T2.1!AY58","v":1},1,"GELİŞTİRİLMELİ",{"$f":"M2.1!T58","v":1},1,"GELİŞTİRİLMELİ",{"$f":"GS2.1!K58","v":1},1,"GELİŞTİRİLMELİ",{"$f":"MZK2.1!P58","v":1},1,"GELİŞTİRİLMELİ",1,1,"GELİŞTİRİLMELİ"]
[{"$f":"IF(baş!G59=\"\",\"\",baş!G59)","v":""},{"$f":"IF(baş!H59=\"\",\"\",baş!H59)","v":""},{"$f":"IF(baş!I59=\"\",\"\",baş!I59)","v":""},{"$f":"H2.1!AD59","v":1},1,"GELİŞTİRİLMELİ",{"$f":"T2.1!AY59","v":1},1,"GELİŞTİRİLMELİ",{"$f":"M2.1!T59","v":1},1,"GELİŞTİRİLMELİ",{"$f":"GS2.1!K59","v":1},1,"GELİŞTİRİLMELİ",{"$f":"MZK2.1!P59","v":1},1,"GELİŞTİRİLMELİ",1,1,"GELİŞTİRİLMELİ"]
[{"$f":"IF(baş!G60=\"\",\"\",baş!G60)","v":""},{"$f":"IF(baş!H60=\"\",\"\",baş!H60)","v":""},{"$f":"IF(baş!I60=\"\",\"\",baş!I60)","v":""},{"$f":"H2.1!AD60","v":1},1,"GELİŞTİRİLMELİ",{"$f":"T2.1!AY60","v":1},1,"GELİŞTİRİLMELİ",{"$f":"M2.1!T60","v":1},1,"GELİŞTİRİLMELİ",{"$f":"GS2.1!K60","v":1},1,"GELİŞTİRİLMELİ",{"$f":"MZK2.1!P60","v":1},1,"GELİŞTİRİLMELİ",1,1,"GELİŞTİRİLMELİ"]
[{"$f":"IF(baş!G61=\"\",\"\",baş!G61)","v":""},{"$f":"IF(baş!H61=\"\",\"\",baş!H61)","v":""},{"$f":"IF(baş!I61=\"\",\"\",baş!I61)","v":""},{"$f":"H2.1!AD61","v":1},1,"GELİŞTİRİLMELİ",{"$f":"T2.1!AY61","v":1},1,"GELİŞTİRİLMELİ",{"$f":"M2.1!T61","v":1},1,"GELİŞTİRİLMELİ",{"$f":"GS2.1!K61","v":1},1,"GELİŞTİRİLMELİ",{"$f":"MZK2.1!P61","v":1},1,"GELİŞTİRİLMELİ",1,1,"GELİŞTİRİLMELİ"]
[{"$f":"IF(baş!G62=\"\",\"\",baş!G62)","v":""},{"$f":"IF(baş!H62=\"\",\"\",baş!H62)","v":""},{"$f":"IF(baş!I62=\"\",\"\",baş!I62)","v":""},{"$f":"H2.1!AD62","v":1},1,"GELİŞTİRİLMELİ",{"$f":"T2.1!AY62","v":1},1,"GELİŞTİRİLMELİ",{"$f":"M2.1!T62","v":1},1,"GELİŞTİRİLMELİ",{"$f":"GS2.1!K62","v":1},1,"GELİŞTİRİLMELİ",{"$f":"MZK2.1!P62","v":1},1,"GELİŞTİRİLMELİ",1,1,"GELİŞTİRİLMELİ"]
[{"$f":"IF(baş!G63=\"\",\"\",baş!G63)","v":""},{"$f":"IF(baş!H63=\"\",\"\",baş!H63)","v":""},{"$f":"IF(baş!I63=\"\",\"\",baş!I63)","v":""},{"$f":"H2.1!AD63","v":1},1,"GELİŞTİRİLMELİ",{"$f":"T2.1!AY63","v":1},1,"GELİŞTİRİLMELİ",{"$f":"M2.1!T63","v":1},1,"GELİŞTİRİLMELİ",{"$f":"GS2.1!K63","v":1},1,"GELİŞTİRİLMELİ",{"$f":"MZK2.1!P63","v":1},1,"GELİŞTİRİLMELİ",1,1,"GELİŞTİRİLMELİ"]
[{"$f":"IF(baş!G64=\"\",\"\",baş!G64)","v":""},{"$f":"IF(baş!H64=\"\",\"\",baş!H64)","v":""},{"$f":"IF(baş!I64=\"\",\"\",baş!I64)","v":""},{"$f":"H2.1!AD64","v":1},1,"GELİŞTİRİLMELİ",{"$f":"T2.1!AY64","v":1},1,"GELİŞTİRİLMELİ",{"$f":"M2.1!T64","v":1},1,"GELİŞTİRİLMELİ",{"$f":"GS2.1!K64","v":1},1,"GELİŞTİRİLMELİ",{"$f":"MZK2.1!P64","v":1},1,"GELİŞTİRİLMELİ",1,1,"GELİŞTİRİLMELİ"]
[{"$f":"IF(baş!G65=\"\",\"\",baş!G65)","v":""},{"$f":"IF(baş!H65=\"\",\"\",baş!H65)","v":""},{"$f":"IF(baş!I65=\"\",\"\",baş!I65)","v":""},{"$f":"H2.1!AD65","v":1},1,"GELİŞTİRİLMELİ",{"$f":"T2.1!AY65","v":1},1,"GELİŞTİRİLMELİ",{"$f":"M2.1!T65","v":1},1,"GELİŞTİRİLMELİ",{"$f":"GS2.1!K65","v":1},1,"GELİŞTİRİLMELİ",{"$f":"MZK2.1!P65","v":1},1,"GELİŞTİRİLMELİ",1,1,"GELİŞTİRİLMELİ"]
[{"$f":"IF(baş!G66=\"\",\"\",baş!G66)","v":""},{"$f":"IF(baş!H66=\"\",\"\",baş!H66)","v":""},{"$f":"IF(baş!I66=\"\",\"\",baş!I66)","v":""},{"$f":"H2.1!AD66","v":1},1,"GELİŞTİRİLMELİ",{"$f":"T2.1!AY66","v":1},1,"GELİŞTİRİLMELİ",{"$f":"M2.1!T66","v":1},1,"GELİŞTİRİLMELİ",{"$f":"GS2.1!K66","v":1},1,"GELİŞTİRİLMELİ",{"$f":"MZK2.1!P66","v":1},1,"GELİŞTİRİLMELİ",1,1,"GELİŞTİRİLMELİ"]
[{"$f":"IF(baş!G67=\"\",\"\",baş!G67)","v":""},{"$f":"IF(baş!H67=\"\",\"\",baş!H67)","v":""},{"$f":"IF(baş!I67=\"\",\"\",baş!I67)","v":""},{"$f":"H2.1!AD67","v":1},{"$f":"AVERAGE(D68:D68)","v":1},"GELİŞTİRİLMELİ",{"$f":"T2.1!AY67","v":1},{"$f":"AVERAGE(G68:G68)","v":1},"GELİŞTİRİLMELİ",{"$f":"M2.1!T67","v":1},{"$f":"AVERAGE(J68:J68)","v":1},"GELİŞTİRİLMELİ",{"$f":"GS2.1!K67","v":1},{"$f":"AVERAGE(M68:M68)","v":1},"GELİŞTİRİLMELİ",{"$f":"MZK2.1!P67","v":1},{"$f":"AVERAGE(P68:P68)","v":1},"GELİŞTİRİLMELİ",1,{"$f":"AVERAGE(S68:S68)","v":1},"GELİŞTİRİLMELİ"]
[{"$f":"IF(baş!G68=\"\",\"\",baş!G68)","v":""},{"$f":"IF(baş!H68=\"\",\"\",baş!H68)","v":""},{"$f":"IF(baş!I68=\"\",\"\",baş!I68)","v":""},{"$f":"H2.1!AD68","v":1},1,{"$f":"IF(E69=\"\",\"\",(IF(E69>=2.5,\"ÇOK İYİ\",IF(E69>=1.5,\"İYİ\",IF(E69>=1,\"GELİŞTİRİLMELİ\")))))","v":"GELİŞTİRİLMELİ"},{"$f":"T2.1!AY68","v":1},1,{"$f":"IF(H69=\"\",\"\",(IF(H69>=2.5,\"ÇOK İYİ\",IF(H69>=1.5,\"İYİ\",IF(H69>=1,\"GELİŞTİRİLMELİ\")))))","v":"GELİŞTİRİLMELİ"},{"$f":"M2.1!T68","v":1},1,{"$f":"IF(K69=\"\",\"\",(IF(K69>=2.5,\"ÇOK İYİ\",IF(K69>=1.5,\"İYİ\",IF(K69>=1,\"GELİŞTİRİLMELİ\")))))","v":"GELİŞTİRİLMELİ"},{"$f":"GS2.1!K68","v":1},1,{"$f":"IF(N69=\"\",\"\",(IF(N69>=2.5,\"ÇOK İYİ\",IF(N69>=1.5,\"İYİ\",IF(N69>=1,\"GELİŞTİRİLMELİ\")))))","v":"GELİŞTİRİLMELİ"},{"$f":"MZK2.1!P68","v":1},1,{"$f":"IF(Q69=\"\",\"\",(IF(Q69>=2.5,\"ÇOK İYİ\",IF(Q69>=1.5,\"İYİ\",IF(Q69>=1,\"GELİŞTİRİLMELİ\")))))","v":"GELİŞTİRİLMELİ"},1,1,{"$f":"IF(T69=\"\",\"\",(IF(T69>=2.5,\"ÇOK İYİ\",IF(T69>=1.5,\"İYİ\",IF(T69>=1,\"GELİŞTİRİLMELİ\")))))","v":"GELİŞTİRİLMELİ"}]
[{"$f":"IF(baş!G69=\"\",\"\",baş!G69)","v":""},{"$f":"IF(baş!H69=\"\",\"\",baş!H69)","v":""},{"$f":"IF(baş!I69=\"\",\"\",baş!I69)","v":""},{"$f":"H2.1!AD69","v":1},1,"GELİŞTİRİLMELİ",{"$f":"T2.1!AY69","v":1},1,"GELİŞTİRİLMELİ",{"$f":"M2.1!T69","v":1},1,"GELİŞTİRİLMELİ",{"$f":"GS2.1!K69","v":1},1,"GELİŞTİRİLMELİ",{"$f":"MZK2.1!P69","v":1},1,"GELİŞTİRİLMELİ",1,1,"GELİŞTİRİLMELİ"]
[{"$f":"IF(baş!G70=\"\",\"\",baş!G70)","v":""},{"$f":"IF(baş!H70=\"\",\"\",baş!H70)","v":""},{"$f":"IF(baş!I70=\"\",\"\",baş!I70)","v":""},{"$f":"H2.1!AD70","v":1},1,"GELİŞTİRİLMELİ",{"$f":"T2.1!AY70","v":1},1,"GELİŞTİRİLMELİ",{"$f":"M2.1!T70","v":1},1,"GELİŞTİRİLMELİ",{"$f":"GS2.1!K70","v":1},1,"GELİŞTİRİLMELİ",{"$f":"MZK2.1!P70","v":1},1,"GELİŞTİRİLMELİ",1,1,"GELİŞTİRİLMELİ"]
[{"$f":"IF(baş!G71=\"\",\"\",baş!G71)","v":""},{"$f":"IF(baş!H71=\"\",\"\",baş!H71)","v":""},{"$f":"IF(baş!I71=\"\",\"\",baş!I71)","v":""},{"$f":"H2.1!AD71","v":1},1,"GELİŞTİRİLMELİ",{"$f":"T2.1!AY71","v":1},1,"GELİŞTİRİLMELİ",{"$f":"M2.1!T71","v":1},1,"GELİŞTİRİLMELİ",{"$f":"GS2.1!K71","v":1},1,"GELİŞTİRİLMELİ",{"$f":"MZK2.1!P71","v":1},1,"GELİŞTİRİLMELİ",1,1,"GELİŞTİRİLMELİ"]
[{"$f":"IF(baş!G72=\"\",\"\",baş!G72)","v":""},{"$f":"IF(baş!H72=\"\",\"\",baş!H72)","v":""},{"$f":"IF(baş!I72=\"\",\"\",baş!I72)","v":""},{"$f":"H2.1!AD72","v":1},1,"GELİŞTİRİLMELİ",{"$f":"T2.1!AY72","v":1},1,"GELİŞTİRİLMELİ",{"$f":"M2.1!T72","v":1},1,"GELİŞTİRİLMELİ",{"$f":"GS2.1!K72","v":1},1,"GELİŞTİRİLMELİ",{"$f":"MZK2.1!P72","v":1},1,"GELİŞTİRİLMELİ",1,1,"GELİŞTİRİLMELİ"]
[{"$f":"IF(baş!G73=\"\",\"\",baş!G73)","v":""},{"$f":"IF(baş!H73=\"\",\"\",baş!H73)","v":""},{"$f":"IF(baş!I73=\"\",\"\",baş!I73)","v":""},{"$f":"H2.1!AD73","v":1},1,"GELİŞTİRİLMELİ",{"$f":"T2.1!AY73","v":1},1,"GELİŞTİRİLMELİ",{"$f":"M2.1!T73","v":1},1,"GELİŞTİRİLMELİ",{"$f":"GS2.1!K73","v":1},1,"GELİŞTİRİLMELİ",{"$f":"MZK2.1!P73","v":1},1,"GELİŞTİRİLMELİ",1,1,"GELİŞTİRİLMELİ"]
[{"$f":"IF(baş!G74=\"\",\"\",baş!G74)","v":""},{"$f":"IF(baş!H74=\"\",\"\",baş!H74)","v":""},{"$f":"IF(baş!I74=\"\",\"\",baş!I74)","v":""},{"$f":"H2.1!AD74","v":1},1,"GELİŞTİRİLMELİ",{"$f":"T2.1!AY74","v":1},1,"GELİŞTİRİLMELİ",{"$f":"M2.1!T74","v":1},1,"GELİŞTİRİLMELİ",{"$f":"GS2.1!K74","v":1},1,"GELİŞTİRİLMELİ",{"$f":"MZK2.1!P74","v":1},1,"GELİŞTİRİLMELİ",1,1,"GELİŞTİRİLMELİ"]
[{"$f":"IF(baş!G75=\"\",\"\",baş!G75)","v":""},{"$f":"IF(baş!H75=\"\",\"\",baş!H75)","v":""},{"$f":"IF(baş!I75=\"\",\"\",baş!I75)","v":""},{"$f":"H2.1!AD75","v":1},1,"GELİŞTİRİLMELİ",{"$f":"T2.1!AY75","v":1},1,"GELİŞTİRİLMELİ",{"$f":"M2.1!T75","v":1},1,"GELİŞTİRİLMELİ",{"$f":"GS2.1!K75","v":1},1,"GELİŞTİRİLMELİ",{"$f":"MZK2.1!P75","v":1},1,"GELİŞTİRİLMELİ",1,1,"GELİŞTİRİLMELİ"]
[{"$f":"IF(baş!G76=\"\",\"\",baş!G76)","v":""},{"$f":"IF(baş!H76=\"\",\"\",baş!H76)","v":""},{"$f":"IF(baş!I76=\"\",\"\",baş!I76)","v":""},{"$f":"H2.1!AD76","v":1},1,"GELİŞTİRİLMELİ",{"$f":"T2.1!AY76","v":1},1,"GELİŞTİRİLMELİ",{"$f":"M2.1!T76","v":1},1,"GELİŞTİRİLMELİ",{"$f":"GS2.1!K76","v":1},1,"GELİŞTİRİLMELİ",{"$f":"MZK2.1!P76","v":1},1,"GELİŞTİRİLMELİ",1,1,"GELİŞTİRİLMELİ"]
[{"$f":"IF(baş!G77=\"\",\"\",baş!G77)","v":""},{"$f":"IF(baş!H77=\"\",\"\",baş!H77)","v":""},{"$f":"IF(baş!I77=\"\",\"\",baş!I77)","v":""},{"$f":"H2.1!AD77","v":1},1,"GELİŞTİRİLMELİ",{"$f":"T2.1!AY77","v":1},1,"GELİŞTİRİLMELİ",{"$f":"M2.1!T77","v":1},1,"GELİŞTİRİLMELİ",{"$f":"GS2.1!K77","v":1},1,"GELİŞTİRİLMELİ",{"$f":"MZK2.1!P77","v":1},1,"GELİŞTİRİLMELİ",1,1,"GELİŞTİRİLMELİ"]
[{"$f":"IF(baş!G78=\"\",\"\",baş!G78)","v":""},{"$f":"IF(baş!H78=\"\",\"\",baş!H78)","v":""},{"$f":"IF(baş!I78=\"\",\"\",baş!I78)","v":""},{"$f":"H2.1!AD78","v":1},1,"GELİŞTİRİLMELİ",{"$f":"T2.1!AY78","v":1},1,"GELİŞTİRİLMELİ",{"$f":"M2.1!T78","v":1},1,"GELİŞTİRİLMELİ",{"$f":"GS2.1!K78","v":1},1,"GELİŞTİRİLMELİ",{"$f":"MZK2.1!P78","v":1},1,"GELİŞTİRİLMELİ",1,1,"GELİŞTİRİLMELİ"]
[{"$f":"IF(baş!G79=\"\",\"\",baş!G79)","v":""},{"$f":"IF(baş!H79=\"\",\"\",baş!H79)","v":""},{"$f":"IF(baş!I79=\"\",\"\",baş!I79)","v":""},{"$f":"H2.1!AD79","v":1},1,"GELİŞTİRİLMELİ",{"$f":"T2.1!AY79","v":1},1,"GELİŞTİRİLMELİ",{"$f":"M2.1!T79","v":1},1,"GELİŞTİRİLMELİ",{"$f":"GS2.1!K79","v":1},1,"GELİŞTİRİLMELİ",{"$f":"MZK2.1!P79","v":1},1,"GELİŞTİRİLMELİ",1,1,"GELİŞTİRİLMELİ"]
[{"$f":"IF(baş!G80=\"\",\"\",baş!G80)","v":""},{"$f":"IF(baş!H80=\"\",\"\",baş!H80)","v":""},{"$f":"IF(baş!I80=\"\",\"\",baş!I80)","v":""},{"$f":"H2.1!AD80","v":1},1,"GELİŞTİRİLMELİ",{"$f":"T2.1!AY80","v":1},1,"GELİŞTİRİLMELİ",{"$f":"M2.1!T80","v":1},1,"GELİŞTİRİLMELİ",{"$f":"GS2.1!K80","v":1},1,"GELİŞTİRİLMELİ",{"$f":"MZK2.1!P80","v":1},1,"GELİŞTİRİLMELİ",1,1,"GELİŞTİRİLMELİ"]
[{"$f":"IF(baş!G81=\"\",\"\",baş!G81)","v":""},{"$f":"IF(baş!H81=\"\",\"\",baş!H81)","v":""},{"$f":"IF(baş!I81=\"\",\"\",baş!I81)","v":""},{"$f":"H2.1!AD81","v":1},1,"GELİŞTİRİLMELİ",{"$f":"T2.1!AY81","v":1},1,"GELİŞTİRİLMELİ",{"$f":"M2.1!T81","v":1},1,"GELİŞTİRİLMELİ",{"$f":"GS2.1!K81","v":1},1,"GELİŞTİRİLMELİ",{"$f":"MZK2.1!P81","v":1},1,"GELİŞTİRİLMELİ",1,1,"GELİŞTİRİLMELİ"]
[{"$f":"IF(baş!G82=\"\",\"\",baş!G82)","v":""},{"$f":"IF(baş!H82=\"\",\"\",baş!H82)","v":""},{"$f":"IF(baş!I82=\"\",\"\",baş!I82)","v":""},{"$f":"H2.1!AD82","v":1},1,"GELİŞTİRİLMELİ",{"$f":"T2.1!AY82","v":1},1,"GELİŞTİRİLMELİ",{"$f":"M2.1!T82","v":1},1,"GELİŞTİRİLMELİ",{"$f":"GS2.1!K82","v":1},1,"GELİŞTİRİLMELİ",{"$f":"MZK2.1!P82","v":1},1,"GELİŞTİRİLMELİ",1,1,"GELİŞTİRİLMELİ"]
[{"$f":"IF(baş!G83=\"\",\"\",baş!G83)","v":""},{"$f":"IF(baş!H83=\"\",\"\",baş!H83)","v":""},{"$f":"IF(baş!I83=\"\",\"\",baş!I83)","v":""},{"$f":"H2.1!AD83","v":1},1,"GELİŞTİRİLMELİ",{"$f":"T2.1!AY83","v":1},1,"GELİŞTİRİLMELİ",{"$f":"M2.1!T83","v":1},1,"GELİŞTİRİLMELİ",{"$f":"GS2.1!K83","v":1},1,"GELİŞTİRİLMELİ",{"$f":"MZK2.1!P83","v":1},1,"GELİŞTİRİLMELİ",1,1,"GELİŞTİRİLMELİ"]
[{"$f":"IF(baş!G84=\"\",\"\",baş!G84)","v":""},{"$f":"IF(baş!H84=\"\",\"\",baş!H84)","v":""},{"$f":"IF(baş!I84=\"\",\"\",baş!I84)","v":""},{"$f":"H2.1!AD84","v":1},1,"GELİŞTİRİLMELİ",{"$f":"T2.1!AY84","v":1},1,"GELİŞTİRİLMELİ",{"$f":"M2.1!T84","v":1},1,"GELİŞTİRİLMELİ",{"$f":"GS2.1!K84","v":1},1,"GELİŞTİRİLMELİ",{"$f":"MZK2.1!P84","v":1},1,"GELİŞTİRİLMELİ",1,1,"GELİŞTİRİLMELİ"]
[{"$f":"IF(baş!G85=\"\",\"\",baş!G85)","v":""},{"$f":"IF(baş!H85=\"\",\"\",baş!H85)","v":""},{"$f":"IF(baş!I85=\"\",\"\",baş!I85)","v":""},{"$f":"H2.1!AD85","v":1},1,"GELİŞTİRİLMELİ",{"$f":"T2.1!AY85","v":1},1,"GELİŞTİRİLMELİ",{"$f":"M2.1!T85","v":1},1,"GELİŞTİRİLMELİ",{"$f":"GS2.1!K85","v":1},1,"GELİŞTİRİLMELİ",{"$f":"MZK2.1!P85","v":1},1,"GELİŞTİRİLMELİ",1,1,"GELİŞTİRİLMELİ"]
[{"$f":"IF(baş!G86=\"\",\"\",baş!G86)","v":""},{"$f":"IF(baş!H86=\"\",\"\",baş!H86)","v":""},{"$f":"IF(baş!I86=\"\",\"\",baş!I86)","v":""},{"$f":"H2.1!AD86","v":1},1,"GELİŞTİRİLMELİ",{"$f":"T2.1!AY86","v":1},1,"GELİŞTİRİLMELİ",{"$f":"M2.1!T86","v":1},1,"GELİŞTİRİLMELİ",{"$f":"GS2.1!K86","v":1},1,"GELİŞTİRİLMELİ",{"$f":"MZK2.1!P86","v":1},1,"GELİŞTİRİLMELİ",1,1,"GELİŞTİRİLMELİ"]
[{"$f":"IF(baş!G87=\"\",\"\",baş!G87)","v":""},{"$f":"IF(baş!H87=\"\",\"\",baş!H87)","v":""},{"$f":"IF(baş!I87=\"\",\"\",baş!I87)","v":""},{"$f":"H2.1!AD87","v":1},1,"GELİŞTİRİLMELİ",{"$f":"T2.1!AY87","v":1},1,"GELİŞTİRİLMELİ",{"$f":"M2.1!T87","v":1},1,"GELİŞTİRİLMELİ",{"$f":"GS2.1!K87","v":1},1,"GELİŞTİRİLMELİ",{"$f":"MZK2.1!P87","v":1},1,"GELİŞTİRİLMELİ",1,1,"GELİŞTİRİLMELİ"]
[{"$f":"IF(baş!G88=\"\",\"\",baş!G88)","v":""},{"$f":"IF(baş!H88=\"\",\"\",baş!H88)","v":""},{"$f":"IF(baş!I88=\"\",\"\",baş!I88)","v":""},{"$f":"H2.1!AD88","v":1},1,"GELİŞTİRİLMELİ",{"$f":"T2.1!AY88","v":1},1,"GELİŞTİRİLMELİ",{"$f":"M2.1!T88","v":1},1,"GELİŞTİRİLMELİ",{"$f":"GS2.1!K88","v":1},1,"GELİŞTİRİLMELİ",{"$f":"MZK2.1!P88","v":1},1,"GELİŞTİRİLMELİ",1,1,"GELİŞTİRİLMELİ"]
[{"$f":"IF(baş!G89=\"\",\"\",baş!G89)","v":""},{"$f":"IF(baş!H89=\"\",\"\",baş!H89)","v":""},{"$f":"IF(baş!I89=\"\",\"\",baş!I89)","v":""},{"$f":"H2.1!AD89","v":1},1,"GELİŞTİRİLMELİ",{"$f":"T2.1!AY89","v":1},1,"GELİŞTİRİLMELİ",{"$f":"M2.1!T89","v":1},1,"GELİŞTİRİLMELİ",{"$f":"GS2.1!K89","v":1},1,"GELİŞTİRİLMELİ",{"$f":"MZK2.1!P89","v":1},1,"GELİŞTİRİLMELİ",1,1,"GELİŞTİRİLMELİ"]
[{"$f":"IF(baş!G90=\"\",\"\",baş!G90)","v":""},{"$f":"IF(baş!H90=\"\",\"\",baş!H90)","v":""},{"$f":"IF(baş!I90=\"\",\"\",baş!I90)","v":""},{"$f":"H2.1!AD90","v":1},1,"GELİŞTİRİLMELİ",{"$f":"T2.1!AY90","v":1},1,"GELİŞTİRİLMELİ",{"$f":"M2.1!T90","v":1},1,"GELİŞTİRİLMELİ",{"$f":"GS2.1!K90","v":1},1,"GELİŞTİRİLMELİ",{"$f":"MZK2.1!P90","v":1},1,"GELİŞTİRİLMELİ",1,1,"GELİŞTİRİLMELİ"]
[{"$f":"IF(baş!G91=\"\",\"\",baş!G91)","v":""},{"$f":"IF(baş!H91=\"\",\"\",baş!H91)","v":""},{"$f":"IF(baş!I91=\"\",\"\",baş!I91)","v":""},{"$f":"H2.1!AD91","v":1},1,"GELİŞTİRİLMELİ",{"$f":"T2.1!AY91","v":1},1,"GELİŞTİRİLMELİ",{"$f":"M2.1!T91","v":1},1,"GELİŞTİRİLMELİ",{"$f":"GS2.1!K91","v":1},1,"GELİŞTİRİLMELİ",{"$f":"MZK2.1!P91","v":1},1,"GELİŞTİRİLMELİ",1,1,"GELİŞTİRİLMELİ"]
[{"$f":"IF(baş!G92=\"\",\"\",baş!G92)","v":""},{"$f":"IF(baş!H92=\"\",\"\",baş!H92)","v":""},{"$f":"IF(baş!I92=\"\",\"\",baş!I92)","v":""},{"$f":"H2.1!AD92","v":1},1,"GELİŞTİRİLMELİ",{"$f":"T2.1!AY92","v":1},1,"GELİŞTİRİLMELİ",{"$f":"M2.1!T92","v":1},1,"GELİŞTİRİLMELİ",{"$f":"GS2.1!K92","v":1},1,"GELİŞTİRİLMELİ",{"$f":"MZK2.1!P92","v":1},1,"GELİŞTİRİLMELİ",1,1,"GELİŞTİRİLMELİ"]
[{"$f":"IF(baş!G93=\"\",\"\",baş!G93)","v":""},{"$f":"IF(baş!H93=\"\",\"\",baş!H93)","v":""},{"$f":"IF(baş!I93=\"\",\"\",baş!I93)","v":""},{"$f":"H2.1!AD93","v":1},1,"GELİŞTİRİLMELİ",{"$f":"T2.1!AY93","v":1},1,"GELİŞTİRİLMELİ",{"$f":"M2.1!T93","v":1},1,"GELİŞTİRİLMELİ",{"$f":"GS2.1!K93","v":1},1,"GELİŞTİRİLMELİ",{"$f":"MZK2.1!P93","v":1},1,"GELİŞTİRİLMELİ",1,1,"GELİŞTİRİLMELİ"]
[{"$f":"IF(baş!G94=\"\",\"\",baş!G94)","v":""},{"$f":"IF(baş!H94=\"\",\"\",baş!H94)","v":""},{"$f":"IF(baş!I94=\"\",\"\",baş!I94)","v":""},{"$f":"H2.1!AD94","v":1},1,"GELİŞTİRİLMELİ",{"$f":"T2.1!AY94","v":1},1,"GELİŞTİRİLMELİ",{"$f":"M2.1!T94","v":1},1,"GELİŞTİRİLMELİ",{"$f":"GS2.1!K94","v":1},1,"GELİŞTİRİLMELİ",{"$f":"MZK2.1!P94","v":1},1,"GELİŞTİRİLMELİ",1,1,"GELİŞTİRİLMELİ"]
[{"$f":"IF(baş!G95=\"\",\"\",baş!G95)","v":""},{"$f":"IF(baş!H95=\"\",\"\",baş!H95)","v":""},{"$f":"IF(baş!I95=\"\",\"\",baş!I95)","v":""},{"$f":"H2.1!AD95","v":1},1,"GELİŞTİRİLMELİ",{"$f":"T2.1!AY95","v":1},1,"GELİŞTİRİLMELİ",{"$f":"M2.1!T95","v":1},1,"GELİŞTİRİLMELİ",{"$f":"GS2.1!K95","v":1},1,"GELİŞTİRİLMELİ",{"$f":"MZK2.1!P95","v":1},1,"GELİŞTİRİLMELİ",1,1,"GELİŞTİRİLMELİ"]
[{"$f":"IF(baş!G96=\"\",\"\",baş!G96)","v":""},{"$f":"IF(baş!H96=\"\",\"\",baş!H96)","v":""},{"$f":"IF(baş!I96=\"\",\"\",baş!I96)","v":""},{"$f":"H2.1!AD96","v":1},1,"GELİŞTİRİLMELİ",{"$f":"T2.1!AY96","v":1},1,"GELİŞTİRİLMELİ",{"$f":"M2.1!T96","v":1},1,"GELİŞTİRİLMELİ",{"$f":"GS2.1!K96","v":1},1,"GELİŞTİRİLMELİ",{"$f":"MZK2.1!P96","v":1},1,"GELİŞTİRİLMELİ",1,1,"GELİŞTİRİLMELİ"]
[{"$f":"IF(baş!G97=\"\",\"\",baş!G97)","v":""},{"$f":"IF(baş!H97=\"\",\"\",baş!H97)","v":""},{"$f":"IF(baş!I97=\"\",\"\",baş!I97)","v":""},{"$f":"H2.1!AD97","v":1},1,"GELİŞTİRİLMELİ",{"$f":"T2.1!AY97","v":1},1,"GELİŞTİRİLMELİ",{"$f":"M2.1!T97","v":1},1,"GELİŞTİRİLMELİ",{"$f":"GS2.1!K97","v":1},1,"GELİŞTİRİLMELİ",{"$f":"MZK2.1!P97","v":1},1,"GELİŞTİRİLMELİ",1,1,"GELİŞTİRİLMELİ"]
[{"$f":"IF(baş!G98=\"\",\"\",baş!G98)","v":""},{"$f":"IF(baş!H98=\"\",\"\",baş!H98)","v":""},{"$f":"IF(baş!I98=\"\",\"\",baş!I98)","v":""},{"$f":"H2.1!AD98","v":1},1,"GELİŞTİRİLMELİ",{"$f":"T2.1!AY98","v":1},1,"GELİŞTİRİLMELİ",{"$f":"M2.1!T98","v":1},1,"GELİŞTİRİLMELİ",{"$f":"GS2.1!K98","v":1},1,"GELİŞTİRİLMELİ",{"$f":"MZK2.1!P98","v":1},1,"GELİŞTİRİLMELİ",1,1,"GELİŞTİRİLMELİ"]
[{"$f":"IF(baş!G99=\"\",\"\",baş!G99)","v":""},{"$f":"IF(baş!H99=\"\",\"\",baş!H99)","v":""},{"$f":"IF(baş!I99=\"\",\"\",baş!I99)","v":""},{"$f":"H2.1!AD99","v":1},{"$f":"AVERAGE(D100:D100)","v":1},"GELİŞTİRİLMELİ",{"$f":"T2.1!AY99","v":1},{"$f":"AVERAGE(G100:G100)","v":1},"GELİŞTİRİLMELİ",{"$f":"M2.1!T99","v":1},{"$f":"AVERAGE(J100:J100)","v":1},"GELİŞTİRİLMELİ",{"$f":"GS2.1!K99","v":1},{"$f":"AVERAGE(M100:M100)","v":1},"GELİŞTİRİLMELİ",{"$f":"MZK2.1!P99","v":1},{"$f":"AVERAGE(P100:P100)","v":1},"GELİŞTİRİLMELİ",1,{"$f":"AVERAGE(S100:S100)","v":1},"GELİŞTİRİLMELİ"]
[{"$f":"IF(baş!G100=\"\",\"\",baş!G100)","v":""},{"$f":"IF(baş!H100=\"\",\"\",baş!H100)","v":""},{"$f":"IF(baş!I100=\"\",\"\",baş!I100)","v":""},{"$f":"H2.1!AD100","v":1},1,"GELİŞTİRİLMELİ",{"$f":"T2.1!AY100","v":1},1,"GELİŞTİRİLMELİ",{"$f":"M2.1!T100","v":1},1,"GELİŞTİRİLMELİ",{"$f":"GS2.1!K100","v":1},1,"GELİŞTİRİLMELİ",{"$f":"MZK2.1!P100","v":1},1,"GELİŞTİRİLMELİ",1,1,"GELİŞTİRİLMELİ"]
[{"$f":"IF(baş!G101=\"\",\"\",baş!G101)","v":""},{"$f":"IF(baş!H101=\"\",\"\",baş!H101)","v":""},{"$f":"IF(baş!I101=\"\",\"\",baş!I101)","v":""},{"$f":"H2.1!AD101","v":1},1,"GELİŞTİRİLMELİ",{"$f":"T2.1!AY101","v":1},1,"GELİŞTİRİLMELİ",{"$f":"M2.1!T101","v":1},1,"GELİŞTİRİLMELİ",{"$f":"GS2.1!K101","v":1},1,"GELİŞTİRİLMELİ",{"$f":"MZK2.1!P101","v":1},1,"GELİŞTİRİLMELİ",1,1,"GELİŞTİRİLMELİ"]
[{"$f":"IF(baş!G102=\"\",\"\",baş!G102)","v":""},{"$f":"IF(baş!H102=\"\",\"\",baş!H102)","v":""},{"$f":"IF(baş!I102=\"\",\"\",baş!I102)","v":""},{"$f":"H2.1!AD102","v":1},1,"GELİŞTİRİLMELİ",{"$f":"T2.1!AY102","v":1},1,"GELİŞTİRİLMELİ",{"$f":"M2.1!T102","v":1},1,"GELİŞTİRİLMELİ",{"$f":"GS2.1!K102","v":1},1,"GELİŞTİRİLMELİ",{"$f":"MZK2.1!P102","v":1},1,"GELİŞTİRİLMELİ",1,1,"GELİŞTİRİLMELİ"]

{"sheet":"2.DTS","index":3,"n_rows":103,"n_cols":21,"rows_kept":103,"cut":false,"hidden":false,"merged":[[1,18,1,20],[0,18,0,20],[1,0,2,0],[1,1,2,1],[1,2,2,2],[1,3,1,5],[1,6,1,8],[1,9,1,11],[1,12,1,14],[1,15,1,17]]}
[null,null,null,null,null,null,null,null,null,null,null,null,null,null,null,null,null,null,"2. DÖNEM"]
["SIRA\nNO","OKUL\nNO","ADI SOYADI","HAYAT BİLGİSİ",null,null,"TÜRKÇE",null,null,"MATEMATİK",null,null,"GÖRSEL SANATLAR",null,null,"MÜZİK",null,null,"BEDEN EĞT. VE OYUN"]
[null,null,null,"1.","ORT.","SONUÇ","1.","ORT.","SONUÇ","1.","ORT.","SONUÇ","1.","ORT.","SONUÇ","1.","ORT.","SONUÇ",{"$f":"BEO2.1!S3","v":1},"ORT.","SONUÇ"]
[{"$f":"IF(baş!G3=\"\",\"\",baş!G3)","v":1},{"$f":"IF(baş!H3=\"\",\"\",baş!H3)","v":11},{"$f":"IF(baş!I3=\"\",\"\",baş!I3)","v":"KAYRA ÇINAR ERGÜN"},{"$f":"H2.1!AD3","v":1},{"$f":"AVERAGE(D4:D4)","v":1},{"$f":"IF(E4=\"\",\"\",(IF(E4>=2.5,\"ÇOK İYİ\",IF(E4>=1.5,\"İYİ\",IF(E4>=1,\"GELİŞTİRİLMELİ\")))))","v":"GELİŞTİRİLMELİ"},{"$f":"T2.1!AY3","v":1},{"$f":"AVERAGE(G4:G4)","v":1},{"$f":"IF(H4=\"\",\"\",(IF(H4>=2.5,\"ÇOK İYİ\",IF(H4>=1.5,\"İYİ\",IF(H4>=1,\"GELİŞTİRİLMELİ\")))))","v":"GELİŞTİRİLMELİ"},{"$f":"M2.1!T3","v":1},{"$f":"AVERAGE(J4:J4)","v":1},{"$f":"IF(K4=\"\",\"\",(IF(K4>=2.5,\"ÇOK İYİ\",IF(K4>=1.5,\"İYİ\",IF(K4>=1,\"GELİŞTİRİLMELİ\")))))","v":"GELİŞTİRİLMELİ"},{"$f":"GS2.1!K3","v":1},{"$f":"AVERAGE(M4:M4)","v":1},{"$f":"IF(N4=\"\",\"\",(IF(N4>=2.5,\"ÇOK İYİ\",IF(N4>=1.5,\"İYİ\",IF(N4>=1,\"GELİŞTİRİLMELİ\")))))","v":"GELİŞTİRİLMELİ"},{"$f":"MZK2.1!P3","v":1},{"$f":"AVERAGE(P4:P4)","v":1},{"$f":"IF(Q4=\"\",\"\",(IF(Q4>=2.5,\"ÇOK İYİ\",IF(Q4>=1.5,\"İYİ\",IF(Q4>=1,\"GELİŞTİRİLMELİ\")))))","v":"GELİŞTİRİLMELİ"},1,{"$f":"AVERAGE(S4:S4)","v":1},{"$f":"IF(T4=\"\",\"\",(IF(T4>=2.5,\"ÇOK İYİ\",IF(T4>=1.5,\"İYİ\",IF(T4>=1,\"GELİŞTİRİLMELİ\")))))","v":"GELİŞTİRİLMELİ"}]
[{"$f":"IF(baş!G4=\"\",\"\",baş!G4)","v":2},{"$f":"IF(baş!H4=\"\",\"\",baş!H4)","v":35},{"$f":"IF(baş!I4=\"\",\"\",baş!I4)","v":"FURKAN SOLMAZ"},{"$f":"H2.1!AD4","v":1},1,{"$f":"IF(E5=\"\",\"\",(IF(E5>=2.5,\"ÇOK İYİ\",IF(E5>=1.5,\"İYİ\",IF(E5>=1,\"GELİŞTİRİLMELİ\")))))","v":"GELİŞTİRİLMELİ"},{"$f":"T2.1!AY4","v":1},1,{"$f":"IF(H5=\"\",\"\",(IF(H5>=2.5,\"ÇOK İYİ\",IF(H5>=1.5,\"İYİ\",IF(H5>=1,\"GELİŞTİRİLMELİ\")))))","v":"GELİŞTİRİLMELİ"},{"$f":"M2.1!T4","v":1},1,{"$f":"IF(K5=\"\",\"\",(IF(K5>=2.5,\"ÇOK İYİ\",IF(K5>=1.5,\"İYİ\",IF(K5>=1,\"GELİŞTİRİLMELİ\")))))","v":"GELİŞTİRİLMELİ"},{"$f":"GS2.1!K4","v":1},1,{"$f":"IF(N5=\"\",\"\",(IF(N5>=2.5,\"ÇOK İYİ\",IF(N5>=1.5,\"İYİ\",IF(N5>=1,\"GELİŞTİRİLMELİ\")))))","v":"GELİŞTİRİLMELİ"},{"$f":"MZK2.1!P4","v":1},1,{"$f":"IF(Q5=\"\",\"\",(IF(Q5>=2.5,\"ÇOK İYİ\",IF(Q5>=1.5,\"İYİ\",IF(Q5>=1,\"GELİŞTİRİLMELİ\")))))","v":"GELİŞTİRİLMELİ"},1,1,{"$f":"IF(T5=\"\",\"\",(IF(T5>=2.5,\"ÇOK İYİ\",IF(T5>=1.5,\"İYİ\",IF(T5>=1,\"GELİŞTİRİLMELİ\")))))","v":"GELİŞTİRİLMELİ"}]
[{"$f":"IF(baş!G5=\"\",\"\",baş!G5)","v":3},{"$f":"IF(baş!H5=\"\",\"\",baş!H5)","v":53},{"$f":"IF(baş!I5=\"\",\"\",baş!I5)","v":"İLKNUR MUMCU"},{"$f":"H2.1!AD5","v":1},1,"GELİŞTİRİLMELİ",{"$f":"T2.1!AY5","v":1},1,"GELİŞTİRİLMELİ",{"$f":"M2.1!T5","v":1},1,"GELİŞTİRİLMELİ",{"$f":"GS2.1!K5","v":1},1,"GELİŞTİRİLMELİ",{"$f":"MZK2.1!P5","v":1},1,"GELİŞTİRİLMELİ",1,1,"GELİŞTİRİLMELİ"]
[{"$f":"IF(baş!G6=\"\",\"\",baş!G6)","v":4},{"$f":"IF(baş!H6=\"\",\"\",baş!H6)","v":83},{"$f":"IF(baş!I6=\"\",\"\",baş!I6)","v":"MUHAMMET ALİ YILDIRIM"},{"$f":"H2.1!AD6","v":1},1,"GELİŞTİRİLMELİ",{"$f":"T2.1!AY6","v":1},1,"GELİŞTİRİLMELİ",{"$f":"M2.1!T6","v":1},1,"GELİŞTİRİLMELİ",{"$f":"GS2.1!K6","v":1},1,"GELİŞTİRİLMELİ",{"$f":"MZK2.1!P6","v":1},1,"GELİŞTİRİLMELİ",1,1,"GELİŞTİRİLMELİ"]
[{"$f":"IF(baş!G7=\"\",\"\",baş!G7)","v":5},{"$f":"IF(baş!H7=\"\",\"\",baş!H7)","v":93},{"$f":"IF(baş!I7=\"\",\"\",baş!I7)","v":"ERTUĞRUL GAZİ NAMLI"},{"$f":"H2.1!AD7","v":1},1,"GELİŞTİRİLMELİ",{"$f":"T2.1!AY7","v":1},1,"GELİŞTİRİLMELİ",{"$f":"M2.1!T7","v":1},1,"GELİŞTİRİLMELİ",{"$f":"GS2.1!K7","v":1},1,"GELİŞTİRİLMELİ",{"$f":"MZK2.1!P7","v":1},1,"GELİŞTİRİLMELİ",1,1,"GELİŞTİRİLMELİ"]
[{"$f":"IF(baş!G8=\"\",\"\",baş!G8)","v":6},{"$f":"IF(baş!H8=\"\",\"\",baş!H8)","v":100},{"$f":"IF(baş!I8=\"\",\"\",baş!I8)","v":"ECEM EFE"},{"$f":"H2.1!AD8","v":1},1,"GELİŞTİRİLMELİ",{"$f":"T2.1!AY8","v":1},1,"GELİŞTİRİLMELİ",{"$f":"M2.1!T8","v":1},1,"GELİŞTİRİLMELİ",{"$f":"GS2.1!K8","v":1},1,"GELİŞTİRİLMELİ",{"$f":"MZK2.1!P8","v":1},1,"GELİŞTİRİLMELİ",1,1,"GELİŞTİRİLMELİ"]
[{"$f":"IF(baş!G9=\"\",\"\",baş!G9)","v":7},{"$f":"IF(baş!H9=\"\",\"\",baş!H9)","v":105},{"$f":"IF(baş!I9=\"\",\"\",baş!I9)","v":"SELİM ZEKERİYA ÖZDEMİR"},{"$f":"H2.1!AD9","v":1},1,"GELİŞTİRİLMELİ",{"$f":"T2.1!AY9","v":1},1,"GELİŞTİRİLMELİ",{"$f":"M2.1!T9","v":1},1,"GELİŞTİRİLMELİ",{"$f":"GS2.1!K9","v":1},1,"GELİŞTİRİLMELİ",{"$f":"MZK2.1!P9","v":1},1,"GELİŞTİRİLMELİ",1,1,"GELİŞTİRİLMELİ"]
[{"$f":"IF(baş!G10=\"\",\"\",baş!G10)","v":8},{"$f":"IF(baş!H10=\"\",\"\",baş!H10)","v":108},{"$f":"IF(baş!I10=\"\",\"\",baş!I10)","v":"AREN KARAKAŞ"},{"$f":"H2.1!AD10","v":1},1,"GELİŞTİRİLMELİ",{"$f":"T2.1!AY10","v":1},1,"GELİŞTİRİLMELİ",{"$f":"M2.1!T10","v":1},1,"GELİŞTİRİLMELİ",{"$f":"GS2.1!K10","v":1},1,"GELİŞTİRİLMELİ",{"$f":"MZK2.1!P10","v":1},1,"GELİŞTİRİLMELİ",1,1,"GELİŞTİRİLMELİ"]
[{"$f":"IF(baş!G11=\"\",\"\",baş!G11)","v":9},{"$f":"IF(baş!H11=\"\",\"\",baş!H11)","v":111},{"$f":"IF(baş!I11=\"\",\"\",baş!I11)","v":"ZEHRA ŞAHİNOĞLU"},{"$f":"H2.1!AD11","v":1},1,"GELİŞTİRİLMELİ",{"$f":"T2.1!AY11","v":1},1,"GELİŞTİRİLMELİ",{"$f":"M2.1!T11","v":1},1,"GELİŞTİRİLMELİ",{"$f":"GS2.1!K11","v":1},1,"GELİŞTİRİLMELİ",{"$f":"MZK2.1!P11","v":1},1,"GELİŞTİRİLMELİ",1,1,"GELİŞTİRİLMELİ"]
[{"$f":"IF(baş!G12=\"\",\"\",baş!G12)","v":10},{"$f":"IF(baş!H12=\"\",\"\",baş!H12)","v":113},{"$f":"IF(baş!I12=\"\",\"\",baş!I12)","v":"YUSUF ALİ TÜNÇ"},{"$f":"H2.1!AD12","v":1},1,"GELİŞTİRİLMELİ",{"$f":"T2.1!AY12","v":1},1,"GELİŞTİRİLMELİ",{"$f":"M2.1!T12","v":1},1,"GELİŞTİRİLMELİ",{"$f":"GS2.1!K12","v":1},1,"GELİŞTİRİLMELİ",{"$f":"MZK2.1!P12","v":1},1,"GELİŞTİRİLMELİ",1,1,"GELİŞTİRİLMELİ"]
[{"$f":"IF(baş!G13=\"\",\"\",baş!G13)","v":11},{"$f":"IF(baş!H13=\"\",\"\",baş!H13)","v":161},{"$f":"IF(baş!I13=\"\",\"\",baş!I13)","v":"HÜSEYİN CELAYİR"},{"$f":"H2.1!AD13","v":1},1,"GELİŞTİRİLMELİ",{"$f":"T2.1!AY13","v":1},1,"GELİŞTİRİLMELİ",{"$f":"M2.1!T13","v":1},1,"GELİŞTİRİLMELİ",{"$f":"GS2.1!K13","v":1},1,"GELİŞTİRİLMELİ",{"$f":"MZK2.1!P13","v":1},1,"GELİŞTİRİLMELİ",1,1,"GELİŞTİRİLMELİ"]
[{"$f":"IF(baş!G14=\"\",\"\",baş!G14)","v":12},{"$f":"IF(baş!H14=\"\",\"\",baş!H14)","v":177},{"$f":"IF(baş!I14=\"\",\"\",baş!I14)","v":"YİĞİT EFE YEŞİLDAL"},{"$f":"H2.1!AD14","v":1},1,"GELİŞTİRİLMELİ",{"$f":"T2.1!AY14","v":1},1,"GELİŞTİRİLMELİ",{"$f":"M2.1!T14","v":1},1,"GELİŞTİRİLMELİ",{"$f":"GS2.1!K14","v":1},1,"GELİŞTİRİLMELİ",{"$f":"MZK2.1!P14","v":1},1,"GELİŞTİRİLMELİ",1,1,"GELİŞTİRİLMELİ"]
[{"$f":"IF(baş!G15=\"\",\"\",baş!G15)","v":13},{"$f":"IF(baş!H15=\"\",\"\",baş!H15)","v":187},{"$f":"IF(baş!I15=\"\",\"\",baş!I15)","v":"HALEF TAHA ATEŞ"},{"$f":"H2.1!AD15","v":1},1,"GELİŞTİRİLMELİ",{"$f":"T2.1!AY15","v":1},1,"GELİŞTİRİLMELİ",{"$f":"M2.1!T15","v":1},1,"GELİŞTİRİLMELİ",{"$f":"GS2.1!K15","v":1},1,"GELİŞTİRİLMELİ",{"$f":"MZK2.1!P15","v":1},1,"GELİŞTİRİLMELİ",1,1,"GELİŞTİRİLMELİ"]
[{"$f":"IF(baş!G16=\"\",\"\",baş!G16)","v":14},{"$f":"IF(baş!H16=\"\",\"\",baş!H16)","v":188},{"$f":"IF(baş!I16=\"\",\"\",baş!I16)","v":"EMİRHAN MERTOĞLU"},{"$f":"H2.1!AD16","v":1},1,"GELİŞTİRİLMELİ",{"$f":"T2.1!AY16","v":1},1,"GELİŞTİRİLMELİ",{"$f":"M2.1!T16","v":1},1,"GELİŞTİRİLMELİ",{"$f":"GS2.1!K16","v":1},1,"GELİŞTİRİLMELİ",{"$f":"MZK2.1!P16","v":1},1,"GELİŞTİRİLMELİ",1,1,"GELİŞTİRİLMELİ"]
[{"$f":"IF(baş!G17=\"\",\"\",baş!G17)","v":15},{"$f":"IF(baş!H17=\"\",\"\",baş!H17)","v":189},{"$f":"IF(baş!I17=\"\",\"\",baş!I17)","v":"EMİNE GÜVEN"},{"$f":"H2.1!AD17","v":1},1,"GELİŞTİRİLMELİ",{"$f":"T2.1!AY17","v":1},1,"GELİŞTİRİLMELİ",{"$f":"M2.1!T17","v":1},1,"GELİŞTİRİLMELİ",{"$f":"GS2.1!K17","v":1},1,"GELİŞTİRİLMELİ",{"$f":"MZK2.1!P17","v":1},1,"GELİŞTİRİLMELİ",1,1,"GELİŞTİRİLMELİ"]
[{"$f":"IF(baş!G18=\"\",\"\",baş!G18)","v":16},{"$f":"IF(baş!H18=\"\",\"\",baş!H18)","v":213},{"$f":"IF(baş!I18=\"\",\"\",baş!I18)","v":"YAĞMUR KILIÇ"},{"$f":"H2.1!AD18","v":1},1,"GELİŞTİRİLMELİ",{"$f":"T2.1!AY18","v":1},1,"GELİŞTİRİLMELİ",{"$f":"M2.1!T18","v":1},1,"GELİŞTİRİLMELİ",{"$f":"GS2.1!K18","v":1},1,"GELİŞTİRİLMELİ",{"$f":"MZK2.1!P18","v":1},1,"GELİŞTİRİLMELİ",1,1,"GELİŞTİRİLMELİ"]
[{"$f":"IF(baş!G19=\"\",\"\",baş!G19)","v":17},{"$f":"IF(baş!H19=\"\",\"\",baş!H19)","v":214},{"$f":"IF(baş!I19=\"\",\"\",baş!I19)","v":"ERDAL GÜLATAR"},{"$f":"H2.1!AD19","v":1},1,"GELİŞTİRİLMELİ",{"$f":"T2.1!AY19","v":1},1,"GELİŞTİRİLMELİ",{"$f":"M2.1!T19","v":1},1,"GELİŞTİRİLMELİ",{"$f":"GS2.1!K19","v":1},1,"GELİŞTİRİLMELİ",{"$f":"MZK2.1!P19","v":1},1,"GELİŞTİRİLMELİ",1,1,"GELİŞTİRİLMELİ"]
[{"$f":"IF(baş!G20=\"\",\"\",baş!G20)","v":18},{"$f":"IF(baş!H20=\"\",\"\",baş!H20)","v":216},{"$f":"IF(baş!I20=\"\",\"\",baş!I20)","v":"GAMZE ACAR"},{"$f":"H2.1!AD20","v":1},1,"GELİŞTİRİLMELİ",{"$f":"T2.1!AY20","v":1},1,"GELİŞTİRİLMELİ",{"$f":"M2.1!T20","v":1},1,"GELİŞTİRİLMELİ",{"$f":"GS2.1!K20","v":1},1,"GELİŞTİRİLMELİ",{"$f":"MZK2.1!P20","v":1},1,"GELİŞTİRİLMELİ",1,1,"GELİŞTİRİLMELİ"]
[{"$f":"IF(baş!G21=\"\",\"\",baş!G21)","v":19},{"$f":"IF(baş!H21=\"\",\"\",baş!H21)","v":222},{"$f":"IF(baş!I21=\"\",\"\",baş!I21)","v":"HİRANUR DOĞANDEMİR"},{"$f":"H2.1!AD21","v":1},1,"GELİŞTİRİLMELİ",{"$f":"T2.1!AY21","v":1},1,"GELİŞTİRİLMELİ",{"$f":"M2.1!T21","v":1},1,"GELİŞTİRİLMELİ",{"$f":"GS2.1!K21","v":1},1,"GELİŞTİRİLMELİ",{"$f":"MZK2.1!P21","v":1},1,"GELİŞTİRİLMELİ",1,1,"GELİŞTİRİLMELİ"]
[{"$f":"IF(baş!G22=\"\",\"\",baş!G22)","v":20},{"$f":"IF(baş!H22=\"\",\"\",baş!H22)","v":224},{"$f":"IF(baş!I22=\"\",\"\",baş!I22)","v":"TALHA YILMAZ"},{"$f":"H2.1!AD22","v":1},1,"GELİŞTİRİLMELİ",{"$f":"T2.1!AY22","v":1},1,"GELİŞTİRİLMELİ",{"$f":"M2.1!T22","v":1},1,"GELİŞTİRİLMELİ",{"$f":"GS2.1!K22","v":1},1,"GELİŞTİRİLMELİ",{"$f":"MZK2.1!P22","v":1},1,"GELİŞTİRİLMELİ",1,1,"GELİŞTİRİLMELİ"]
[{"$f":"IF(baş!G23=\"\",\"\",baş!G23)","v":21},{"$f":"IF(baş!H23=\"\",\"\",baş!H23)","v":225},{"$f":"IF(baş!I23=\"\",\"\",baş!I23)","v":"YUSUF EMİR DAĞDÖGEN"},{"$f":"H2.1!AD23","v":1},1,"GELİŞTİRİLMELİ",{"$f":"T2.1!AY23","v":1},1,"GELİŞTİRİLMELİ",{"$f":"M2.1!T23","v":1},1,"GELİŞTİRİLMELİ",{"$f":"GS2.1!K23","v":1},1,"GELİŞTİRİLMELİ",{"$f":"MZK2.1!P23","v":1},1,"GELİŞTİRİLMELİ",1,1,"GELİŞTİRİLMELİ"]
[{"$f":"IF(baş!G24=\"\",\"\",baş!G24)","v":22},{"$f":"IF(baş!H24=\"\",\"\",baş!H24)","v":226},{"$f":"IF(baş!I24=\"\",\"\",baş!I24)","v":"İMREN CANPOLAT"},{"$f":"H2.1!AD24","v":1},1,"GELİŞTİRİLMELİ",{"$f":"T2.1!AY24","v":1},1,"GELİŞTİRİLMELİ",{"$f":"M2.1!T24","v":1},1,"GELİŞTİRİLMELİ",{"$f":"GS2.1!K24","v":1},1,"GELİŞTİRİLMELİ",{"$f":"MZK2.1!P24","v":1},1,"GELİŞTİRİLMELİ",1,1,"GELİŞTİRİLMELİ"]
[{"$f":"IF(baş!G25=\"\",\"\",baş!G25)","v":23},{"$f":"IF(baş!H25=\"\",\"\",baş!H25)","v":227},{"$f":"IF(baş!I25=\"\",\"\",baş!I25)","v":"ZEYNEP CANPOLAT"},{"$f":"H2.1!AD25","v":1},1,"GELİŞTİRİLMELİ",{"$f":"T2.1!AY25","v":1},1,"GELİŞTİRİLMELİ",{"$f":"M2.1!T25","v":1},1,"GELİŞTİRİLMELİ",{"$f":"GS2.1!K25","v":1},1,"GELİŞTİRİLMELİ",{"$f":"MZK2.1!P25","v":1},1,"GELİŞTİRİLMELİ",1,1,"GELİŞTİRİLMELİ"]
[{"$f":"IF(baş!G26=\"\",\"\",baş!G26)","v":24},{"$f":"IF(baş!H26=\"\",\"\",baş!H26)","v":229},{"$f":"IF(baş!I26=\"\",\"\",baş!I26)","v":"MERYEM PARMAK"},{"$f":"H2.1!AD26","v":1},1,"GELİŞTİRİLMELİ",{"$f":"T2.1!AY26","v":1},1,"GELİŞTİRİLMELİ",{"$f":"M2.1!T26","v":1},1,"GELİŞTİRİLMELİ",{"$f":"GS2.1!K26","v":1},1,"GELİŞTİRİLMELİ",{"$f":"MZK2.1!P26","v":1},1,"GELİŞTİRİLMELİ",1,1,"GELİŞTİRİLMELİ"]
[{"$f":"IF(baş!G27=\"\",\"\",baş!G27)","v":25},{"$f":"IF(baş!H27=\"\",\"\",baş!H27)","v":237},{"$f":"IF(baş!I27=\"\",\"\",baş!I27)","v":"ZEYNEP MİRAY BOYRAZ"},{"$f":"H2.1!AD27","v":1},1,"GELİŞTİRİLMELİ",{"$f":"T2.1!AY27","v":1},1,"GELİŞTİRİLMELİ",{"$f":"M2.1!T27","v":1},1,"GELİŞTİRİLMELİ",{"$f":"GS2.1!K27","v":1},1,"GELİŞTİRİLMELİ",{"$f":"MZK2.1!P27","v":1},1,"GELİŞTİRİLMELİ",1,1,"GELİŞTİRİLMELİ"]
[{"$f":"IF(baş!G28=\"\",\"\",baş!G28)","v":26},{"$f":"IF(baş!H28=\"\",\"\",baş!H28)","v":244},{"$f":"IF(baş!I28=\"\",\"\",baş!I28)","v":"TAMER ŞEKERCİLEROĞLU"},{"$f":"H2.1!AD28","v":1},1,"GELİŞTİRİLMELİ",{"$f":"T2.1!AY28","v":1},1,"GELİŞTİRİLMELİ",{"$f":"M2.1!T28","v":1},1,"GELİŞTİRİLMELİ",{"$f":"GS2.1!K28","v":1},1,"GELİŞTİRİLMELİ",{"$f":"MZK2.1!P28","v":1},1,"GELİŞTİRİLMELİ",1,1,"GELİŞTİRİLMELİ"]
[{"$f":"IF(baş!G29=\"\",\"\",baş!G29)","v":27},{"$f":"IF(baş!H29=\"\",\"\",baş!H29)","v":263},{"$f":"IF(baş!I29=\"\",\"\",baş!I29)","v":"MUHAMMED YUSUF YILMAZ"},{"$f":"H2.1!AD29","v":1},1,"GELİŞTİRİLMELİ",{"$f":"T2.1!AY29","v":1},1,"GELİŞTİRİLMELİ",{"$f":"M2.1!T29","v":1},1,"GELİŞTİRİLMELİ",{"$f":"GS2.1!K29","v":1},1,"GELİŞTİRİLMELİ",{"$f":"MZK2.1!P29","v":1},1,"GELİŞTİRİLMELİ",1,1,"GELİŞTİRİLMELİ"]
[{"$f":"IF(baş!G30=\"\",\"\",baş!G30)","v":28},{"$f":"IF(baş!H30=\"\",\"\",baş!H30)","v":264},{"$f":"IF(baş!I30=\"\",\"\",baş!I30)","v":"OĞUZHAN GÜRGÜZE"},{"$f":"H2.1!AD30","v":1},1,"GELİŞTİRİLMELİ",{"$f":"T2.1!AY30","v":1},1,"GELİŞTİRİLMELİ",{"$f":"M2.1!T30","v":1},1,"GELİŞTİRİLMELİ",{"$f":"GS2.1!K30","v":1},1,"GELİŞTİRİLMELİ",{"$f":"MZK2.1!P30","v":1},1,"GELİŞTİRİLMELİ",1,1,"GELİŞTİRİLMELİ"]
[{"$f":"IF(baş!G31=\"\",\"\",baş!G31)","v":29},{"$f":"IF(baş!H31=\"\",\"\",baş!H31)","v":279},{"$f":"IF(baş!I31=\"\",\"\",baş!I31)","v":"MİHRİMA EKİCİ"},{"$f":"H2.1!AD31","v":1},1,"GELİŞTİRİLMELİ",{"$f":"T2.1!AY31","v":1},1,"GELİŞTİRİLMELİ",{"$f":"M2.1!T31","v":1},1,"GELİŞTİRİLMELİ",{"$f":"GS2.1!K31","v":1},1,"GELİŞTİRİLMELİ",{"$f":"MZK2.1!P31","v":1},1,"GELİŞTİRİLMELİ",1,1,"GELİŞTİRİLMELİ"]
[{"$f":"IF(baş!G32=\"\",\"\",baş!G32)","v":30},{"$f":"IF(baş!H32=\"\",\"\",baş!H32)","v":290},{"$f":"IF(baş!I32=\"\",\"\",baş!I32)","v":"NİSA NUR YILDIZ"},{"$f":"H2.1!AD32","v":1},1,"GELİŞTİRİLMELİ",{"$f":"T2.1!AY32","v":1},1,"GELİŞTİRİLMELİ",{"$f":"M2.1!T32","v":1},1,"GELİŞTİRİLMELİ",{"$f":"GS2.1!K32","v":1},1,"GELİŞTİRİLMELİ",{"$f":"MZK2.1!P32","v":1},1,"GELİŞTİRİLMELİ",1,1,"GELİŞTİRİLMELİ"]
[{"$f":"IF(baş!G33=\"\",\"\",baş!G33)","v":31},{"$f":"IF(baş!H33=\"\",\"\",baş!H33)","v":293},{"$f":"IF(baş!I33=\"\",\"\",baş!I33)","v":"MEHMET ALATAŞ"},{"$f":"H2.1!AD33","v":1},1,"GELİŞTİRİLMELİ",{"$f":"T2.1!AY33","v":1},1,"GELİŞTİRİLMELİ",{"$f":"M2.1!T33","v":1},1,"GELİŞTİRİLMELİ",{"$f":"GS2.1!K33","v":1},1,"GELİŞTİRİLMELİ",{"$f":"MZK2.1!P33","v":1},1,"GELİŞTİRİLMELİ",1,1,"GELİŞTİRİLMELİ"]
[{"$f":"IF(baş!G34=\"\",\"\",baş!G34)","v":32},{"$f":"IF(baş!H34=\"\",\"\",baş!H34)","v":451},{"$f":"IF(baş!I34=\"\",\"\",baş!I34)","v":"İKRA YILDIRIM"},{"$f":"H2.1!AD34","v":1},1,"GELİŞTİRİLMELİ",{"$f":"T2.1!AY34","v":1},1,"GELİŞTİRİLMELİ",{"$f":"M2.1!T34","v":1},1,"GELİŞTİRİLMELİ",{"$f":"GS2.1!K34","v":1},1,"GELİŞTİRİLMELİ",{"$f":"MZK2.1!P34","v":1},1,"GELİŞTİRİLMELİ",1,1,"GELİŞTİRİLMELİ"]
[{"$f":"IF(baş!G35=\"\",\"\",baş!G35)","v":33},{"$f":"IF(baş!H35=\"\",\"\",baş!H35)","v":616},{"$f":"IF(baş!I35=\"\",\"\",baş!I35)","v":"EDA TURAL"},{"$f":"H2.1!AD35","v":1},{"$f":"AVERAGE(D36:D36)","v":1},"GELİŞTİRİLMELİ",{"$f":"T2.1!AY35","v":1},{"$f":"AVERAGE(G36:G36)","v":1},"GELİŞTİRİLMELİ",{"$f":"M2.1!T35","v":1},{"$f":"AVERAGE(J36:J36)","v":1},"GELİŞTİRİLMELİ",{"$f":"GS2.1!K35","v":1},{"$f":"AVERAGE(M36:M36)","v":1},"GELİŞTİRİLMELİ",{"$f":"MZK2.1!P35","v":1},{"$f":"AVERAGE(P36:P36)","v":1},"GELİŞTİRİLMELİ",1,{"$f":"AVERAGE(S36:S36)","v":1},"GELİŞTİRİLMELİ"]
[{"$f":"IF(baş!G36=\"\",\"\",baş!G36)","v":34},{"$f":"IF(baş!H36=\"\",\"\",baş!H36)","v":892},{"$f":"IF(baş!I36=\"\",\"\",baş!I36)","v":"ALMA ALRAMADAN"},{"$f":"H2.1!AD36","v":1},1,"GELİŞTİRİLMELİ",{"$f":"T2.1!AY36","v":1},1,"GELİŞTİRİLMELİ",{"$f":"M2.1!T36","v":1},1,"GELİŞTİRİLMELİ",{"$f":"GS2.1!K36","v":1},1,"GELİŞTİRİLMELİ",{"$f":"MZK2.1!P36","v":1},1,"GELİŞTİRİLMELİ",1,1,"GELİŞTİRİLMELİ"]
[{"$f":"IF(baş!G37=\"\",\"\",baş!G37)","v":35},{"$f":"IF(baş!H37=\"\",\"\",baş!H37)","v":1000},{"$f":"IF(baş!I37=\"\",\"\",baş!I37)","v":"TURGUT POLAT"},{"$f":"H2.1!AD37","v":1},1,"GELİŞTİRİLMELİ",{"$f":"T2.1!AY37","v":1},1,"GELİŞTİRİLMELİ",{"$f":"M2.1!T37","v":1},1,"GELİŞTİRİLMELİ",{"$f":"GS2.1!K37","v":1},1,"GELİŞTİRİLMELİ",{"$f":"MZK2.1!P37","v":1},1,"GELİŞTİRİLMELİ",1,1,"GELİŞTİRİLMELİ"]
[{"$f":"IF(baş!G38=\"\",\"\",baş!G38)","v":""},{"$f":"IF(baş!H38=\"\",\"\",baş!H38)","v":""},{"$f":"IF(baş!I38=\"\",\"\",baş!I38)","v":""},{"$f":"H2.1!AD38","v":1},1,"GELİŞTİRİLMELİ",{"$f":"T2.1!AY38","v":1},1,"GELİŞTİRİLMELİ",{"$f":"M2.1!T38","v":1},1,"GELİŞTİRİLMELİ",{"$f":"GS2.1!K38","v":1},1,"GELİŞTİRİLMELİ",{"$f":"MZK2.1!P38","v":1},1,"GELİŞTİRİLMELİ",1,1,"GELİŞTİRİLMELİ"]
[{"$f":"IF(baş!G39=\"\",\"\",baş!G39)","v":""},{"$f":"IF(baş!H39=\"\",\"\",baş!H39)","v":""},{"$f":"IF(baş!I39=\"\",\"\",baş!I39)","v":""},{"$f":"H2.1!AD39","v":1},1,"GELİŞTİRİLMELİ",{"$f":"T2.1!AY39","v":1},1,"GELİŞTİRİLMELİ",{"$f":"M2.1!T39","v":1},1,"GELİŞTİRİLMELİ",{"$f":"GS2.1!K39","v":1},1,"GELİŞTİRİLMELİ",{"$f":"MZK2.1!P39","v":1},1,"GELİŞTİRİLMELİ",1,1,"GELİŞTİRİLMELİ"]
[{"$f":"IF(baş!G40=\"\",\"\",baş!G40)","v":""},{"$f":"IF(baş!H40=\"\",\"\",baş!H40)","v":""},{"$f":"IF(baş!I40=\"\",\"\",baş!I40)","v":""},{"$f":"H2.1!AD40","v":1},1,"GELİŞTİRİLMELİ",{"$f":"T2.1!AY40","v":1},1,"GELİŞTİRİLMELİ",{"$f":"M2.1!T40","v":1},1,"GELİŞTİRİLMELİ",{"$f":"GS2.1!K40","v":1},1,"GELİŞTİRİLMELİ",{"$f":"MZK2.1!P40","v":1},1,"GELİŞTİRİLMELİ",1,1,"GELİŞTİRİLMELİ"]
[{"$f":"IF(baş!G41=\"\",\"\",baş!G41)","v":""},{"$f":"IF(baş!H41=\"\",\"\",baş!H41)","v":""},{"$f":"IF(baş!I41=\"\",\"\",baş!I41)","v":""},{"$f":"H2.1!AD41","v":1},1,"GELİŞTİRİLMELİ",{"$f":"T2.1!AY41","v":1},1,"GELİŞTİRİLMELİ",{"$f":"M2.1!T41","v":1},1,"GELİŞTİRİLMELİ",{"$f":"GS2.1!K41","v":1},1,"GELİŞTİRİLMELİ",{"$f":"MZK2.1!P41","v":1},1,"GELİŞTİRİLMELİ",1,1,"GELİŞTİRİLMELİ"]
[{"$f":"IF(baş!G42=\"\",\"\",baş!G42)","v":""},{"$f":"IF(baş!H42=\"\",\"\",baş!H42)","v":""},{"$f":"IF(baş!I42=\"\",\"\",baş!I42)","v":""},{"$f":"H2.1!AD42","v":1},1,"GELİŞTİRİLMELİ",{"$f":"T2.1!AY42","v":1},1,"GELİŞTİRİLMELİ",{"$f":"M2.1!T42","v":1},1,"GELİŞTİRİLMELİ",{"$f":"GS2.1!K42","v":1},1,"GELİŞTİRİLMELİ",{"$f":"MZK2.1!P42","v":1},1,"GELİŞTİRİLMELİ",1,1,"GELİŞTİRİLMELİ"]
[{"$f":"IF(baş!G43=\"\",\"\",baş!G43)","v":""},{"$f":"IF(baş!H43=\"\",\"\",baş!H43)","v":""},{"$f":"IF(baş!I43=\"\",\"\",baş!I43)","v":""},{"$f":"H2.1!AD43","v":1},1,"GELİŞTİRİLMELİ",{"$f":"T2.1!AY43","v":1},1,"GELİŞTİRİLMELİ",{"$f":"M2.1!T43","v":1},1,"GELİŞTİRİLMELİ",{"$f":"GS2.1!K43","v":1},1,"GELİŞTİRİLMELİ",{"$f":"MZK2.1!P43","v":1},1,"GELİŞTİRİLMELİ",1,1,"GELİŞTİRİLMELİ"]
[{"$f":"IF(baş!G44=\"\",\"\",baş!G44)","v":""},{"$f":"IF(baş!H44=\"\",\"\",baş!H44)","v":""},{"$f":"IF(baş!I44=\"\",\"\",baş!I44)","v":""},{"$f":"H2.1!AD44","v":1},1,"GELİŞTİRİLMELİ",{"$f":"T2.1!AY44","v":1},1,"GELİŞTİRİLMELİ",{"$f":"M2.1!T44","v":1},1,"GELİŞTİRİLMELİ",{"$f":"GS2.1!K44","v":1},1,"GELİŞTİRİLMELİ",{"$f":"MZK2.1!P44","v":1},1,"GELİŞTİRİLMELİ",1,1,"GELİŞTİRİLMELİ"]
[{"$f":"IF(baş!G45=\"\",\"\",baş!G45)","v":""},{"$f":"IF(baş!H45=\"\",\"\",baş!H45)","v":""},{"$f":"IF(baş!I45=\"\",\"\",baş!I45)","v":""},{"$f":"H2.1!AD45","v":1},1,"GELİŞTİRİLMELİ",{"$f":"T2.1!AY45","v":1},1,"GELİŞTİRİLMELİ",{"$f":"M2.1!T45","v":1},1,"GELİŞTİRİLMELİ",{"$f":"GS2.1!K45","v":1},1,"GELİŞTİRİLMELİ",{"$f":"MZK2.1!P45","v":1},1,"GELİŞTİRİLMELİ",1,1,"GELİŞTİRİLMELİ"]
[{"$f":"IF(baş!G46=\"\",\"\",baş!G46)","v":""},{"$f":"IF(baş!H46=\"\",\"\",baş!H46)","v":""},{"$f":"IF(baş!I46=\"\",\"\",baş!I46)","v":""},{"$f":"H2.1!AD46","v":1},1,"GELİŞTİRİLMELİ",{"$f":"T2.1!AY46","v":1},1,"GELİŞTİRİLMELİ",{"$f":"M2.1!T46","v":1},1,"GELİŞTİRİLMELİ",{"$f":"GS2.1!K46","v":1},1,"GELİŞTİRİLMELİ",{"$f":"MZK2.1!P46","v":1},1,"GELİŞTİRİLMELİ",1,1,"GELİŞTİRİLMELİ"]
[{"$f":"IF(baş!G47=\"\",\"\",baş!G47)","v":""},{"$f":"IF(baş!H47=\"\",\"\",baş!H47)","v":""},{"$f":"IF(baş!I47=\"\",\"\",baş!I47)","v":""},{"$f":"H2.1!AD47","v":1},1,"GELİŞTİRİLMELİ",{"$f":"T2.1!AY47","v":1},1,"GELİŞTİRİLMELİ",{"$f":"M2.1!T47","v":1},1,"GELİŞTİRİLMELİ",{"$f":"GS2.1!K47","v":1},1,"GELİŞTİRİLMELİ",{"$f":"MZK2.1!P47","v":1},1,"GELİŞTİRİLMELİ",1,1,"GELİŞTİRİLMELİ"]
[{"$f":"IF(baş!G48=\"\",\"\",baş!G48)","v":""},{"$f":"IF(baş!H48=\"\",\"\",baş!H48)","v":""},{"$f":"IF(baş!I48=\"\",\"\",baş!I48)","v":""},{"$f":"H2.1!AD48","v":1},1,"GELİŞTİRİLMELİ",{"$f":"T2.1!AY48","v":1},1,"GELİŞTİRİLMELİ",{"$f":"M2.1!T48","v":1},1,"GELİŞTİRİLMELİ",{"$f":"GS2.1!K48","v":1},1,"GELİŞTİRİLMELİ",{"$f":"MZK2.1!P48","v":1},1,"GELİŞTİRİLMELİ",1,1,"GELİŞTİRİLMELİ"]
[{"$f":"IF(baş!G49=\"\",\"\",baş!G49)","v":""},{"$f":"IF(baş!H49=\"\",\"\",baş!H49)","v":""},{"$f":"IF(baş!I49=\"\",\"\",baş!I49)","v":""},{"$f":"H2.1!AD49","v":1},1,"GELİŞTİRİLMELİ",{"$f":"T2.1!AY49","v":1},1,"GELİŞTİRİLMELİ",{"$f":"M2.1!T49","v":1},1,"GELİŞTİRİLMELİ",{"$f":"GS2.1!K49","v":1},1,"GELİŞTİRİLMELİ",{"$f":"MZK2.1!P49","v":1},1,"GELİŞTİRİLMELİ",1,1,"GELİŞTİRİLMELİ"]
[{"$f":"IF(baş!G50=\"\",\"\",baş!G50)","v":""},{"$f":"IF(baş!H50=\"\",\"\",baş!H50)","v":""},{"$f":"IF(baş!I50=\"\",\"\",baş!I50)","v":""},{"$f":"H2.1!AD50","v":1},1,"GELİŞTİRİLMELİ",{"$f":"T2.1!AY50","v":1},1,"GELİŞTİRİLMELİ",{"$f":"M2.1!T50","v":1},1,"GELİŞTİRİLMELİ",{"$f":"GS2.1!K50","v":1},1,"GELİŞTİRİLMELİ",{"$f":"MZK2.1!P50","v":1},1,"GELİŞTİRİLMELİ",1,1,"GELİŞTİRİLMELİ"]
[{"$f":"IF(baş!G51=\"\",\"\",baş!G51)","v":""},{"$f":"IF(baş!H51=\"\",\"\",baş!H51)","v":""},{"$f":"IF(baş!I51=\"\",\"\",baş!I51)","v":""},{"$f":"H2.1!AD51","v":1},1,"GELİŞTİRİLMELİ",{"$f":"T2.1!AY51","v":1},1,"GELİŞTİRİLMELİ",{"$f":"M2.1!T51","v":1},1,"GELİŞTİRİLMELİ",{"$f":"GS2.1!K51","v":1},1,"GELİŞTİRİLMELİ",{"$f":"MZK2.1!P51","v":1},1,"GELİŞTİRİLMELİ",1,1,"GELİŞTİRİLMELİ"]
[{"$f":"IF(baş!G52=\"\",\"\",baş!G52)","v":""},{"$f":"IF(baş!H52=\"\",\"\",baş!H52)","v":""},{"$f":"IF(baş!I52=\"\",\"\",baş!I52)","v":""},{"$f":"H2.1!AD52","v":1},1,"GELİŞTİRİLMELİ",{"$f":"T2.1!AY52","v":1},1,"GELİŞTİRİLMELİ",{"$f":"M2.1!T52","v":1},1,"GELİŞTİRİLMELİ",{"$f":"GS2.1!K52","v":1},1,"GELİŞTİRİLMELİ",{"$f":"MZK2.1!P52","v":1},1,"GELİŞTİRİLMELİ",1,1,"GELİŞTİRİLMELİ"]
[{"$f":"IF(baş!G53=\"\",\"\",baş!G53)","v":""},{"$f":"IF(baş!H53=\"\",\"\",baş!H53)","v":""},{"$f":"IF(baş!I53=\"\",\"\",baş!I53)","v":""},{"$f":"H2.1!AD53","v":1},1,"GELİŞTİRİLMELİ",{"$f":"T2.1!AY53","v":1},1,"GELİŞTİRİLMELİ",{"$f":"M2.1!T53","v":1},1,"GELİŞTİRİLMELİ",{"$f":"GS2.1!K53","v":1},1,"GELİŞTİRİLMELİ",{"$f":"MZK2.1!P53","v":1},1,"GELİŞTİRİLMELİ",1,1,"GELİŞTİRİLMELİ"]
[{"$f":"IF(baş!G54=\"\",\"\",baş!G54)","v":""},{"$f":"IF(baş!H54=\"\",\"\",baş!H54)","v":""},{"$f":"IF(baş!I54=\"\",\"\",baş!I54)","v":""},{"$f":"H2.1!AD54","v":1},1,"GELİŞTİRİLMELİ",{"$f":"T2.1!AY54","v":1},1,"GELİŞTİRİLMELİ",{"$f":"M2.1!T54","v":1},1,"GELİŞTİRİLMELİ",{"$f":"GS2.1!K54","v":1},1,"GELİŞTİRİLMELİ",{"$f":"MZK2.1!P54","v":1},1,"GELİŞTİRİLMELİ",1,1,"GELİŞTİRİLMELİ"]
[{"$f":"IF(baş!G55=\"\",\"\",baş!G55)","v":""},{"$f":"IF(baş!H55=\"\",\"\",baş!H55)","v":""},{"$f":"IF(baş!I55=\"\",\"\",baş!I55)","v":""},{"$f":"H2.1!AD55","v":1},1,"GELİŞTİRİLMELİ",{"$f":"T2.1!AY55","v":1},1,"GELİŞTİRİLMELİ",{"$f":"M2.1!T55","v":1},1,"GELİŞTİRİLMELİ",{"$f":"GS2.1!K55","v":1},1,"GELİŞTİRİLMELİ",{"$f":"MZK2.1!P55","v":1},1,"GELİŞTİRİLMELİ",1,1,"GELİŞTİRİLMELİ"]
[{"$f":"IF(baş!G56=\"\",\"\",baş!G56)","v":""},{"$f":"IF(baş!H56=\"\",\"\",baş!H56)","v":""},{"$f":"IF(baş!I56=\"\",\"\",baş!I56)","v":""},{"$f":"H2.1!AD56","v":1},1,"GELİŞTİRİLMELİ",{"$f":"T2.1!AY56","v":1},1,"GELİŞTİRİLMELİ",{"$f":"M2.1!T56","v":1},1,"GELİŞTİRİLMELİ",{"$f":"GS2.1!K56","v":1},1,"GELİŞTİRİLMELİ",{"$f":"MZK2.1!P56","v":1},1,"GELİŞTİRİLMELİ",1,1,"GELİŞTİRİLMELİ"]
[{"$f":"IF(baş!G57=\"\",\"\",baş!G57)","v":""},{"$f":"IF(baş!H57=\"\",\"\",baş!H57)","v":""},{"$f":"IF(baş!I57=\"\",\"\",baş!I57)","v":""},{"$f":"H2.1!AD57","v":1},1,"GELİŞTİRİLMELİ",{"$f":"T2.1!AY57","v":1},1,"GELİŞTİRİLMELİ",{"$f":"M2.1!T57","v":1},1,"GELİŞTİRİLMELİ",{"$f":"GS2.1!K57","v":1},1,"GELİŞTİRİLMELİ",{"$f":"MZK2.1!P57","v":1},1,"GELİŞTİRİLMELİ",1,1,"GELİŞTİRİLMELİ"]
[{"$f":"IF(baş!G58=\"\",\"\",baş!G58)","v":""},{"$f":"IF(baş!H58=\"\",\"\",baş!H58)","v":""},{"$f":"IF(baş!I58=\"\",\"\",baş!I58)","v":""},{"$f":"H2.1!AD58","v":1},1,"GELİŞTİRİLMELİ",{"$f":"T2.1!AY58","v":1},1,"GELİŞTİRİLMELİ",{"$f":"M2.1!T58","v":1},1,"GELİŞTİRİLMELİ",{"$f":"GS2.1!K58","v":1},1,"GELİŞTİRİLMELİ",{"$f":"MZK2.1!P58","v":1},1,"GELİŞTİRİLMELİ",1,1,"GELİŞTİRİLMELİ"]
[{"$f":"IF(baş!G59=\"\",\"\",baş!G59)","v":""},{"$f":"IF(baş!H59=\"\",\"\",baş!H59)","v":""},{"$f":"IF(baş!I59=\"\",\"\",baş!I59)","v":""},{"$f":"H2.1!AD59","v":1},1,"GELİŞTİRİLMELİ",{"$f":"T2.1!AY59","v":1},1,"GELİŞTİRİLMELİ",{"$f":"M2.1!T59","v":1},1,"GELİŞTİRİLMELİ",{"$f":"GS2.1!K59","v":1},1,"GELİŞTİRİLMELİ",{"$f":"MZK2.1!P59","v":1},1,"GELİŞTİRİLMELİ",1,1,"GELİŞTİRİLMELİ"]
[{"$f":"IF(baş!G60=\"\",\"\",baş!G60)","v":""},{"$f":"IF(baş!H60=\"\",\"\",baş!H60)","v":""},{"$f":"IF(baş!I60=\"\",\"\",baş!I60)","v":""},{"$f":"H2.1!AD60","v":1},1,"GELİŞTİRİLMELİ",{"$f":"T2.1!AY60","v":1},1,"GELİŞTİRİLMELİ",{"$f":"M2.1!T60","v":1},1,"GELİŞTİRİLMELİ",{"$f":"GS2.1!K60","v":1},1,"GELİŞTİRİLMELİ",{"$f":"MZK2.1!P60","v":1},1,"GELİŞTİRİLMELİ",1,1,"GELİŞTİRİLMELİ"]
[{"$f":"IF(baş!G61=\"\",\"\",baş!G61)","v":""},{"$f":"IF(baş!H61=\"\",\"\",baş!H61)","v":""},{"$f":"IF(baş!I61=\"\",\"\",baş!I61)","v":""},{"$f":"H2.1!AD61","v":1},1,"GELİŞTİRİLMELİ",{"$f":"T2.1!AY61","v":1},1,"GELİŞTİRİLMELİ",{"$f":"M2.1!T61","v":1},1,"GELİŞTİRİLMELİ",{"$f":"GS2.1!K61","v":1},1,"GELİŞTİRİLMELİ",{"$f":"MZK2.1!P61","v":1},1,"GELİŞTİRİLMELİ",1,1,"GELİŞTİRİLMELİ"]
[{"$f":"IF(baş!G62=\"\",\"\",baş!G62)","v":""},{"$f":"IF(baş!H62=\"\",\"\",baş!H62)","v":""},{"$f":"IF(baş!I62=\"\",\"\",baş!I62)","v":""},{"$f":"H2.1!AD62","v":1},1,"GELİŞTİRİLMELİ",{"$f":"T2.1!AY62","v":1},1,"GELİŞTİRİLMELİ",{"$f":"M2.1!T62","v":1},1,"GELİŞTİRİLMELİ",{"$f":"GS2.1!K62","v":1},1,"GELİŞTİRİLMELİ",{"$f":"MZK2.1!P62","v":1},1,"GELİŞTİRİLMELİ",1,1,"GELİŞTİRİLMELİ"]
[{"$f":"IF(baş!G63=\"\",\"\",baş!G63)","v":""},{"$f":"IF(baş!H63=\"\",\"\",baş!H63)","v":""},{"$f":"IF(baş!I63=\"\",\"\",baş!I63)","v":""},{"$f":"H2.1!AD63","v":1},1,"GELİŞTİRİLMELİ",{"$f":"T2.1!AY63","v":1},1,"GELİŞTİRİLMELİ",{"$f":"M2.1!T63","v":1},1,"GELİŞTİRİLMELİ",{"$f":"GS2.1!K63","v":1},1,"GELİŞTİRİLMELİ",{"$f":"MZK2.1!P63","v":1},1,"GELİŞTİRİLMELİ",1,1,"GELİŞTİRİLMELİ"]
[{"$f":"IF(baş!G64=\"\",\"\",baş!G64)","v":""},{"$f":"IF(baş!H64=\"\",\"\",baş!H64)","v":""},{"$f":"IF(baş!I64=\"\",\"\",baş!I64)","v":""},{"$f":"H2.1!AD64","v":1},1,"GELİŞTİRİLMELİ",{"$f":"T2.1!AY64","v":1},1,"GELİŞTİRİLMELİ",{"$f":"M2.1!T64","v":1},1,"GELİŞTİRİLMELİ",{"$f":"GS2.1!K64","v":1},1,"GELİŞTİRİLMELİ",{"$f":"MZK2.1!P64","v":1},1,"GELİŞTİRİLMELİ",1,1,"GELİŞTİRİLMELİ"]
[{"$f":"IF(baş!G65=\"\",\"\",baş!G65)","v":""},{"$f":"IF(baş!H65=\"\",\"\",baş!H65)","v":""},{"$f":"IF(baş!I65=\"\",\"\",baş!I65)","v":""},{"$f":"H2.1!AD65","v":1},1,"GELİŞTİRİLMELİ",{"$f":"T2.1!AY65","v":1},1,"GELİŞTİRİLMELİ",{"$f":"M2.1!T65","v":1},1,"GELİŞTİRİLMELİ",{"$f":"GS2.1!K65","v":1},1,"GELİŞTİRİLMELİ",{"$f":"MZK2.1!P65","v":1},1,"GELİŞTİRİLMELİ",1,1,"GELİŞTİRİLMELİ"]
[{"$f":"IF(baş!G66=\"\",\"\",baş!G66)","v":""},{"$f":"IF(baş!H66=\"\",\"\",baş!H66)","v":""},{"$f":"IF(baş!I66=\"\",\"\",baş!I66)","v":""},{"$f":"H2.1!AD66","v":1},1,"GELİŞTİRİLMELİ",{"$f":"T2.1!AY66","v":1},1,"GELİŞTİRİLMELİ",{"$f":"M2.1!T66","v":1},1,"GELİŞTİRİLMELİ",{"$f":"GS2.1!K66","v":1},1,"GELİŞTİRİLMELİ",{"$f":"MZK2.1!P66","v":1},1,"GELİŞTİRİLMELİ",1,1,"GELİŞTİRİLMELİ"]
[{"$f":"IF(baş!G67=\"\",\"\",baş!G67)","v":""},{"$f":"IF(baş!H67=\"\",\"\",baş!H67)","v":""},{"$f":"IF(baş!I67=\"\",\"\",baş!I67)","v":""},{"$f":"H2.1!AD67","v":1},{"$f":"AVERAGE(D68:D68)","v":1},"GELİŞTİRİLMELİ",{"$f":"T2.1!AY67","v":1},{"$f":"AVERAGE(G68:G68)","v":1},"GELİŞTİRİLMELİ",{"$f":"M2.1!T67","v":1},{"$f":"AVERAGE(J68:J68)","v":1},"GELİŞTİRİLMELİ",{"$f":"GS2.1!K67","v":1},{"$f":"AVERAGE(M68:M68)","v":1},"GELİŞTİRİLMELİ",{"$f":"MZK2.1!P67","v":1},{"$f":"AVERAGE(P68:P68)","v":1},"GELİŞTİRİLMELİ",1,{"$f":"AVERAGE(S68:S68)","v":1},"GELİŞTİRİLMELİ"]
[{"$f":"IF(baş!G68=\"\",\"\",baş!G68)","v":""},{"$f":"IF(baş!H68=\"\",\"\",baş!H68)","v":""},{"$f":"IF(baş!I68=\"\",\"\",baş!I68)","v":""},{"$f":"H2.1!AD68","v":1},1,{"$f":"IF(E69=\"\",\"\",(IF(E69>=2.5,\"ÇOK İYİ\",IF(E69>=1.5,\"İYİ\",IF(E69>=1,\"GELİŞTİRİLMELİ\")))))","v":"GELİŞTİRİLMELİ"},{"$f":"T2.1!AY68","v":1},1,{"$f":"IF(H69=\"\",\"\",(IF(H69>=2.5,\"ÇOK İYİ\",IF(H69>=1.5,\"İYİ\",IF(H69>=1,\"GELİŞTİRİLMELİ\")))))","v":"GELİŞTİRİLMELİ"},{"$f":"M2.1!T68","v":1},1,{"$f":"IF(K69=\"\",\"\",(IF(K69>=2.5,\"ÇOK İYİ\",IF(K69>=1.5,\"İYİ\",IF(K69>=1,\"GELİŞTİRİLMELİ\")))))","v":"GELİŞTİRİLMELİ"},{"$f":"GS2.1!K68","v":1},1,{"$f":"IF(N69=\"\",\"\",(IF(N69>=2.5,\"ÇOK İYİ\",IF(N69>=1.5,\"İYİ\",IF(N69>=1,\"GELİŞTİRİLMELİ\")))))","v":"GELİŞTİRİLMELİ"},{"$f":"MZK2.1!P68","v":1},1,{"$f":"IF(Q69=\"\",\"\",(IF(Q69>=2.5,\"ÇOK İYİ\",IF(Q69>=1.5,\"İYİ\",IF(Q69>=1,\"GELİŞTİRİLMELİ\")))))","v":"GELİŞTİRİLMELİ"},1,1,{"$f":"IF(T69=\"\",\"\",(IF(T69>=2.5,\"ÇOK İYİ\",IF(T69>=1.5,\"İYİ\",IF(T69>=1,\"GELİŞTİRİLMELİ\")))))","v":"GELİŞTİRİLMELİ"}]
[{"$f":"IF(baş!G69=\"\",\"\",baş!G69)","v":""},{"$f":"IF(baş!H69=\"\",\"\",baş!H69)","v":""},{"$f":"IF(baş!I69=\"\",\"\",baş!I69)","v":""},{"$f":"H2.1!AD69","v":1},1,"GELİŞTİRİLMELİ",{"$f":"T2.1!AY69","v":1},1,"GELİŞTİRİLMELİ",{"$f":"M2.1!T69","v":1},1,"GELİŞTİRİLMELİ",{"$f":"GS2.1!K69","v":1},1,"GELİŞTİRİLMELİ",{"$f":"MZK2.1!P69","v":1},1,"GELİŞTİRİLMELİ",1,1,"GELİŞTİRİLMELİ"]
[{"$f":"IF(baş!G70=\"\",\"\",baş!G70)","v":""},{"$f":"IF(baş!H70=\"\",\"\",baş!H70)","v":""},{"$f":"IF(baş!I70=\"\",\"\",baş!I70)","v":""},{"$f":"H2.1!AD70","v":1},1,"GELİŞTİRİLMELİ",{"$f":"T2.1!AY70","v":1},1,"GELİŞTİRİLMELİ",{"$f":"M2.1!T70","v":1},1,"GELİŞTİRİLMELİ",{"$f":"GS2.1!K70","v":1},1,"GELİŞTİRİLMELİ",{"$f":"MZK2.1!P70","v":1},1,"GELİŞTİRİLMELİ",1,1,"GELİŞTİRİLMELİ"]
[{"$f":"IF(baş!G71=\"\",\"\",baş!G71)","v":""},{"$f":"IF(baş!H71=\"\",\"\",baş!H71)","v":""},{"$f":"IF(baş!I71=\"\",\"\",baş!I71)","v":""},{"$f":"H2.1!AD71","v":1},1,"GELİŞTİRİLMELİ",{"$f":"T2.1!AY71","v":1},1,"GELİŞTİRİLMELİ",{"$f":"M2.1!T71","v":1},1,"GELİŞTİRİLMELİ",{"$f":"GS2.1!K71","v":1},1,"GELİŞTİRİLMELİ",{"$f":"MZK2.1!P71","v":1},1,"GELİŞTİRİLMELİ",1,1,"GELİŞTİRİLMELİ"]
[{"$f":"IF(baş!G72=\"\",\"\",baş!G72)","v":""},{"$f":"IF(baş!H72=\"\",\"\",baş!H72)","v":""},{"$f":"IF(baş!I72=\"\",\"\",baş!I72)","v":""},{"$f":"H2.1!AD72","v":1},1,"GELİŞTİRİLMELİ",{"$f":"T2.1!AY72","v":1},1,"GELİŞTİRİLMELİ",{"$f":"M2.1!T72","v":1},1,"GELİŞTİRİLMELİ",{"$f":"GS2.1!K72","v":1},1,"GELİŞTİRİLMELİ",{"$f":"MZK2.1!P72","v":1},1,"GELİŞTİRİLMELİ",1,1,"GELİŞTİRİLMELİ"]
[{"$f":"IF(baş!G73=\"\",\"\",baş!G73)","v":""},{"$f":"IF(baş!H73=\"\",\"\",baş!H73)","v":""},{"$f":"IF(baş!I73=\"\",\"\",baş!I73)","v":""},{"$f":"H2.1!AD73","v":1},1,"GELİŞTİRİLMELİ",{"$f":"T2.1!AY73","v":1},1,"GELİŞTİRİLMELİ",{"$f":"M2.1!T73","v":1},1,"GELİŞTİRİLMELİ",{"$f":"GS2.1!K73","v":1},1,"GELİŞTİRİLMELİ",{"$f":"MZK2.1!P73","v":1},1,"GELİŞTİRİLMELİ",1,1,"GELİŞTİRİLMELİ"]
[{"$f":"IF(baş!G74=\"\",\"\",baş!G74)","v":""},{"$f":"IF(baş!H74=\"\",\"\",baş!H74)","v":""},{"$f":"IF(baş!I74=\"\",\"\",baş!I74)","v":""},{"$f":"H2.1!AD74","v":1},1,"GELİŞTİRİLMELİ",{"$f":"T2.1!AY74","v":1},1,"GELİŞTİRİLMELİ",{"$f":"M2.1!T74","v":1},1,"GELİŞTİRİLMELİ",{"$f":"GS2.1!K74","v":1},1,"GELİŞTİRİLMELİ",{"$f":"MZK2.1!P74","v":1},1,"GELİŞTİRİLMELİ",1,1,"GELİŞTİRİLMELİ"]
[{"$f":"IF(baş!G75=\"\",\"\",baş!G75)","v":""},{"$f":"IF(baş!H75=\"\",\"\",baş!H75)","v":""},{"$f":"IF(baş!I75=\"\",\"\",baş!I75)","v":""},{"$f":"H2.1!AD75","v":1},1,"GELİŞTİRİLMELİ",{"$f":"T2.1!AY75","v":1},1,"GELİŞTİRİLMELİ",{"$f":"M2.1!T75","v":1},1,"GELİŞTİRİLMELİ",{"$f":"GS2.1!K75","v":1},1,"GELİŞTİRİLMELİ",{"$f":"MZK2.1!P75","v":1},1,"GELİŞTİRİLMELİ",1,1,"GELİŞTİRİLMELİ"]
[{"$f":"IF(baş!G76=\"\",\"\",baş!G76)","v":""},{"$f":"IF(baş!H76=\"\",\"\",baş!H76)","v":""},{"$f":"IF(baş!I76=\"\",\"\",baş!I76)","v":""},{"$f":"H2.1!AD76","v":1},1,"GELİŞTİRİLMELİ",{"$f":"T2.1!AY76","v":1},1,"GELİŞTİRİLMELİ",{"$f":"M2.1!T76","v":1},1,"GELİŞTİRİLMELİ",{"$f":"GS2.1!K76","v":1},1,"GELİŞTİRİLMELİ",{"$f":"MZK2.1!P76","v":1},1,"GELİŞTİRİLMELİ",1,1,"GELİŞTİRİLMELİ"]
[{"$f":"IF(baş!G77=\"\",\"\",baş!G77)","v":""},{"$f":"IF(baş!H77=\"\",\"\",baş!H77)","v":""},{"$f":"IF(baş!I77=\"\",\"\",baş!I77)","v":""},{"$f":"H2.1!AD77","v":1},1,"GELİŞTİRİLMELİ",{"$f":"T2.1!AY77","v":1},1,"GELİŞTİRİLMELİ",{"$f":"M2.1!T77","v":1},1,"GELİŞTİRİLMELİ",{"$f":"GS2.1!K77","v":1},1,"GELİŞTİRİLMELİ",{"$f":"MZK2.1!P77","v":1},1,"GELİŞTİRİLMELİ",1,1,"GELİŞTİRİLMELİ"]
[{"$f":"IF(baş!G78=\"\",\"\",baş!G78)","v":""},{"$f":"IF(baş!H78=\"\",\"\",baş!H78)","v":""},{"$f":"IF(baş!I78=\"\",\"\",baş!I78)","v":""},{"$f":"H2.1!AD78","v":1},1,"GELİŞTİRİLMELİ",{"$f":"T2.1!AY78","v":1},1,"GELİŞTİRİLMELİ",{"$f":"M2.1!T78","v":1},1,"GELİŞTİRİLMELİ",{"$f":"GS2.1!K78","v":1},1,"GELİŞTİRİLMELİ",{"$f":"MZK2.1!P78","v":1},1,"GELİŞTİRİLMELİ",1,1,"GELİŞTİRİLMELİ"]
[{"$f":"IF(baş!G79=\"\",\"\",baş!G79)","v":""},{"$f":"IF(baş!H79=\"\",\"\",baş!H79)","v":""},{"$f":"IF(baş!I79=\"\",\"\",baş!I79)","v":""},{"$f":"H2.1!AD79","v":1},1,"GELİŞTİRİLMELİ",{"$f":"T2.1!AY79","v":1},1,"GELİŞTİRİLMELİ",{"$f":"M2.1!T79","v":1},1,"GELİŞTİRİLMELİ",{"$f":"GS2.1!K79","v":1},1,"GELİŞTİRİLMELİ",{"$f":"MZK2.1!P79","v":1},1,"GELİŞTİRİLMELİ",1,1,"GELİŞTİRİLMELİ"]
[{"$f":"IF(baş!G80=\"\",\"\",baş!G80)","v":""},{"$f":"IF(baş!H80=\"\",\"\",baş!H80)","v":""},{"$f":"IF(baş!I80=\"\",\"\",baş!I80)","v":""},{"$f":"H2.1!AD80","v":1},1,"GELİŞTİRİLMELİ",{"$f":"T2.1!AY80","v":1},1,"GELİŞTİRİLMELİ",{"$f":"M2.1!T80","v":1},1,"GELİŞTİRİLMELİ",{"$f":"GS2.1!K80","v":1},1,"GELİŞTİRİLMELİ",{"$f":"MZK2.1!P80","v":1},1,"GELİŞTİRİLMELİ",1,1,"GELİŞTİRİLMELİ"]
[{"$f":"IF(baş!G81=\"\",\"\",baş!G81)","v":""},{"$f":"IF(baş!H81=\"\",\"\",baş!H81)","v":""},{"$f":"IF(baş!I81=\"\",\"\",baş!I81)","v":""},{"$f":"H2.1!AD81","v":1},1,"GELİŞTİRİLMELİ",{"$f":"T2.1!AY81","v":1},1,"GELİŞTİRİLMELİ",{"$f":"M2.1!T81","v":1},1,"GELİŞTİRİLMELİ",{"$f":"GS2.1!K81","v":1},1,"GELİŞTİRİLMELİ",{"$f":"MZK2.1!P81","v":1},1,"GELİŞTİRİLMELİ",1,1,"GELİŞTİRİLMELİ"]
[{"$f":"IF(baş!G82=\"\",\"\",baş!G82)","v":""},{"$f":"IF(baş!H82=\"\",\"\",baş!H82)","v":""},{"$f":"IF(baş!I82=\"\",\"\",baş!I82)","v":""},{"$f":"H2.1!AD82","v":1},1,"GELİŞTİRİLMELİ",{"$f":"T2.1!AY82","v":1},1,"GELİŞTİRİLMELİ",{"$f":"M2.1!T82","v":1},1,"GELİŞTİRİLMELİ",{"$f":"GS2.1!K82","v":1},1,"GELİŞTİRİLMELİ",{"$f":"MZK2.1!P82","v":1},1,"GELİŞTİRİLMELİ",1,1,"GELİŞTİRİLMELİ"]
[{"$f":"IF(baş!G83=\"\",\"\",baş!G83)","v":""},{"$f":"IF(baş!H83=\"\",\"\",baş!H83)","v":""},{"$f":"IF(baş!I83=\"\",\"\",baş!I83)","v":""},{"$f":"H2.1!AD83","v":1},1,"GELİŞTİRİLMELİ",{"$f":"T2.1!AY83","v":1},1,"GELİŞTİRİLMELİ",{"$f":"M2.1!T83","v":1},1,"GELİŞTİRİLMELİ",{"$f":"GS2.1!K83","v":1},1,"GELİŞTİRİLMELİ",{"$f":"MZK2.1!P83","v":1},1,"GELİŞTİRİLMELİ",1,1,"GELİŞTİRİLMELİ"]
[{"$f":"IF(baş!G84=\"\",\"\",baş!G84)","v":""},{"$f":"IF(baş!H84=\"\",\"\",baş!H84)","v":""},{"$f":"IF(baş!I84=\"\",\"\",baş!I84)","v":""},{"$f":"H2.1!AD84","v":1},1,"GELİŞTİRİLMELİ",{"$f":"T2.1!AY84","v":1},1,"GELİŞTİRİLMELİ",{"$f":"M2.1!T84","v":1},1,"GELİŞTİRİLMELİ",{"$f":"GS2.1!K84","v":1},1,"GELİŞTİRİLMELİ",{"$f":"MZK2.1!P84","v":1},1,"GELİŞTİRİLMELİ",1,1,"GELİŞTİRİLMELİ"]
[{"$f":"IF(baş!G85=\"\",\"\",baş!G85)","v":""},{"$f":"IF(baş!H85=\"\",\"\",baş!H85)","v":""},{"$f":"IF(baş!I85=\"\",\"\",baş!I85)","v":""},{"$f":"H2.1!AD85","v":1},1,"GELİŞTİRİLMELİ",{"$f":"T2.1!AY85","v":1},1,"GELİŞTİRİLMELİ",{"$f":"M2.1!T85","v":1},1,"GELİŞTİRİLMELİ",{"$f":"GS2.1!K85","v":1},1,"GELİŞTİRİLMELİ",{"$f":"MZK2.1!P85","v":1},1,"GELİŞTİRİLMELİ",1,1,"GELİŞTİRİLMELİ"]
[{"$f":"IF(baş!G86=\"\",\"\",baş!G86)","v":""},{"$f":"IF(baş!H86=\"\",\"\",baş!H86)","v":""},{"$f":"IF(baş!I86=\"\",\"\",baş!I86)","v":""},{"$f":"H2.1!AD86","v":1},1,"GELİŞTİRİLMELİ",{"$f":"T2.1!AY86","v":1},1,"GELİŞTİRİLMELİ",{"$f":"M2.1!T86","v":1},1,"GELİŞTİRİLMELİ",{"$f":"GS2.1!K86","v":1},1,"GELİŞTİRİLMELİ",{"$f":"MZK2.1!P86","v":1},1,"GELİŞTİRİLMELİ",1,1,"GELİŞTİRİLMELİ"]
[{"$f":"IF(baş!G87=\"\",\"\",baş!G87)","v":""},{"$f":"IF(baş!H87=\"\",\"\",baş!H87)","v":""},{"$f":"IF(baş!I87=\"\",\"\",baş!I87)","v":""},{"$f":"H2.1!AD87","v":1},1,"GELİŞTİRİLMELİ",{"$f":"T2.1!AY87","v":1},1,"GELİŞTİRİLMELİ",{"$f":"M2.1!T87","v":1},1,"GELİŞTİRİLMELİ",{"$f":"GS2.1!K87","v":1},1,"GELİŞTİRİLMELİ",{"$f":"MZK2.1!P87","v":1},1,"GELİŞTİRİLMELİ",1,1,"GELİŞTİRİLMELİ"]
[{"$f":"IF(baş!G88=\"\",\"\",baş!G88)","v":""},{"$f":"IF(baş!H88=\"\",\"\",baş!H88)","v":""},{"$f":"IF(baş!I88=\"\",\"\",baş!I88)","v":""},{"$f":"H2.1!AD88","v":1},1,"GELİŞTİRİLMELİ",{"$f":"T2.1!AY88","v":1},1,"GELİŞTİRİLMELİ",{"$f":"M2.1!T88","v":1},1,"GELİŞTİRİLMELİ",{"$f":"GS2.1!K88","v":1},1,"GELİŞTİRİLMELİ",{"$f":"MZK2.1!P88","v":1},1,"GELİŞTİRİLMELİ",1,1,"GELİŞTİRİLMELİ"]
[{"$f":"IF(baş!G89=\"\",\"\",baş!G89)","v":""},{"$f":"IF(baş!H89=\"\",\"\",baş!H89)","v":""},{"$f":"IF(baş!I89=\"\",\"\",baş!I89)","v":""},{"$f":"H2.1!AD89","v":1},1,"GELİŞTİRİLMELİ",{"$f":"T2.1!AY89","v":1},1,"GELİŞTİRİLMELİ",{"$f":"M2.1!T89","v":1},1,"GELİŞTİRİLMELİ",{"$f":"GS2.1!K89","v":1},1,"GELİŞTİRİLMELİ",{"$f":"MZK2.1!P89","v":1},1,"GELİŞTİRİLMELİ",1,1,"GELİŞTİRİLMELİ"]
[{"$f":"IF(baş!G90=\"\",\"\",baş!G90)","v":""},{"$f":"IF(baş!H90=\"\",\"\",baş!H90)","v":""},{"$f":"IF(baş!I90=\"\",\"\",baş!I90)","v":""},{"$f":"H2.1!AD90","v":1},1,"GELİŞTİRİLMELİ",{"$f":"T2.1!AY90","v":1},1,"GELİŞTİRİLMELİ",{"$f":"M2.1!T90","v":1},1,"GELİŞTİRİLMELİ",{"$f":"GS2.1!K90","v":1},1,"GELİŞTİRİLMELİ",{"$f":"MZK2.1!P90","v":1},1,"GELİŞTİRİLMELİ",1,1,"GELİŞTİRİLMELİ"]
[{"$f":"IF(baş!G91=\"\",\"\",baş!G91)","v":""},{"$f":"IF(baş!H91=\"\",\"\",baş!H91)","v":""},{"$f":"IF(baş!I91=\"\",\"\",baş!I91)","v":""},{"$f":"H2.1!AD91","v":1},1,"GELİŞTİRİLMELİ",{"$f":"T2.1!AY91","v":1},1,"GELİŞTİRİLMELİ",{"$f":"M2.1!T91","v":1},1,"GELİŞTİRİLMELİ",{"$f":"GS2.1!K91","v":1},1,"GELİŞTİRİLMELİ",{"$f":"MZK2.1!P91","v":1},1,"GELİŞTİRİLMELİ",1,1,"GELİŞTİRİLMELİ"]
[{"$f":"IF(baş!G92=\"\",\"\",baş!G92)","v":""},{"$f":"IF(baş!H92=\"\",\"\",baş!H92)","v":""},{"$f":"IF(baş!I92=\"\",\"\",baş!I92)","v":""},{"$f":"H2.1!AD92","v":1},1,"GELİŞTİRİLMELİ",{"$f":"T2.1!AY92","v":1},1,"GELİŞTİRİLMELİ",{"$f":"M2.1!T92","v":1},1,"GELİŞTİRİLMELİ",{"$f":"GS2.1!K92","v":1},1,"GELİŞTİRİLMELİ",{"$f":"MZK2.1!P92","v":1},1,"GELİŞTİRİLMELİ",1,1,"GELİŞTİRİLMELİ"]
[{"$f":"IF(baş!G93=\"\",\"\",baş!G93)","v":""},{"$f":"IF(baş!H93=\"\",\"\",baş!H93)","v":""},{"$f":"IF(baş!I93=\"\",\"\",baş!I93)","v":""},{"$f":"H2.1!AD93","v":1},1,"GELİŞTİRİLMELİ",{"$f":"T2.1!AY93","v":1},1,"GELİŞTİRİLMELİ",{"$f":"M2.1!T93","v":1},1,"GELİŞTİRİLMELİ",{"$f":"GS2.1!K93","v":1},1,"GELİŞTİRİLMELİ",{"$f":"MZK2.1!P93","v":1},1,"GELİŞTİRİLMELİ",1,1,"GELİŞTİRİLMELİ"]
[{"$f":"IF(baş!G94=\"\",\"\",baş!G94)","v":""},{"$f":"IF(baş!H94=\"\",\"\",baş!H94)","v":""},{"$f":"IF(baş!I94=\"\",\"\",baş!I94)","v":""},{"$f":"H2.1!AD94","v":1},1,"GELİŞTİRİLMELİ",{"$f":"T2.1!AY94","v":1},1,"GELİŞTİRİLMELİ",{"$f":"M2.1!T94","v":1},1,"GELİŞTİRİLMELİ",{"$f":"GS2.1!K94","v":1},1,"GELİŞTİRİLMELİ",{"$f":"MZK2.1!P94","v":1},1,"GELİŞTİRİLMELİ",1,1,"GELİŞTİRİLMELİ"]
[{"$f":"IF(baş!G95=\"\",\"\",baş!G95)","v":""},{"$f":"IF(baş!H95=\"\",\"\",baş!H95)","v":""},{"$f":"IF(baş!I95=\"\",\"\",baş!I95)","v":""},{"$f":"H2.1!AD95","v":1},1,"GELİŞTİRİLMELİ",{"$f":"T2.1!AY95","v":1},1,"GELİŞTİRİLMELİ",{"$f":"M2.1!T95","v":1},1,"GELİŞTİRİLMELİ",{"$f":"GS2.1!K95","v":1},1,"GELİŞTİRİLMELİ",{"$f":"MZK2.1!P95","v":1},1,"GELİŞTİRİLMELİ",1,1,"GELİŞTİRİLMELİ"]
[{"$f":"IF(baş!G96=\"\",\"\",baş!G96)","v":""},{"$f":"IF(baş!H96=\"\",\"\",baş!H96)","v":""},{"$f":"IF(baş!I96=\"\",\"\",baş!I96)","v":""},{"$f":"H2.1!AD96","v":1},1,"GELİŞTİRİLMELİ",{"$f":"T2.1!AY96","v":1},1,"GELİŞTİRİLMELİ",{"$f":"M2.1!T96","v":1},1,"GELİŞTİRİLMELİ",{"$f":"GS2.1!K96","v":1},1,"GELİŞTİRİLMELİ",{"$f":"MZK2.1!P96","v":1},1,"GELİŞTİRİLMELİ",1,1,"GELİŞTİRİLMELİ"]
[{"$f":"IF(baş!G97=\"\",\"\",baş!G97)","v":""},{"$f":"IF(baş!H97=\"\",\"\",baş!H97)","v":""},{"$f":"IF(baş!I97=\"\",\"\",baş!I97)","v":""},{"$f":"H2.1!AD97","v":1},1,"GELİŞTİRİLMELİ",{"$f":"T2.1!AY97","v":1},1,"GELİŞTİRİLMELİ",{"$f":"M2.1!T97","v":1},1,"GELİŞTİRİLMELİ",{"$f":"GS2.1!K97","v":1},1,"GELİŞTİRİLMELİ",{"$f":"MZK2.1!P97","v":1},1,"GELİŞTİRİLMELİ",1,1,"GELİŞTİRİLMELİ"]
[{"$f":"IF(baş!G98=\"\",\"\",baş!G98)","v":""},{"$f":"IF(baş!H98=\"\",\"\",baş!H98)","v":""},{"$f":"IF(baş!I98=\"\",\"\",baş!I98)","v":""},{"$f":"H2.1!AD98","v":1},1,"GELİŞTİRİLMELİ",{"$f":"T2.1!AY98","v":1},1,"GELİŞTİRİLMELİ",{"$f":"M2.1!T98","v":1},1,"GELİŞTİRİLMELİ",{"$f":"GS2.1!K98","v":1},1,"GELİŞTİRİLMELİ",{"$f":"MZK2.1!P98","v":1},1,"GELİŞTİRİLMELİ",1,1,"GELİŞTİRİLMELİ"]
[{"$f":"IF(baş!G99=\"\",\"\",baş!G99)","v":""},{"$f":"IF(baş!H99=\"\",\"\",baş!H99)","v":""},{"$f":"IF(baş!I99=\"\",\"\",baş!I99)","v":""},{"$f":"H2.1!AD99","v":1},{"$f":"AVERAGE(D100:D100)","v":1},"GELİŞTİRİLMELİ",{"$f":"T2.1!AY99","v":1},{"$f":"AVERAGE(G100:G100)","v":1},"GELİŞTİRİLMELİ",{"$f":"M2.1!T99","v":1},{"$f":"AVERAGE(J100:J100)","v":1},"GELİŞTİRİLMELİ",{"$f":"GS2.1!K99","v":1},{"$f":"AVERAGE(M100:M100)","v":1},"GELİŞTİRİLMELİ",{"$f":"MZK2.1!P99","v":1},{"$f":"AVERAGE(P100:P100)","v":1},"GELİŞTİRİLMELİ",1,{"$f":"AVERAGE(S100:S100)","v":1},"GELİŞTİRİLMELİ"]
[{"$f":"IF(baş!G100=\"\",\"\",baş!G100)","v":""},{"$f":"IF(baş!H100=\"\",\"\",baş!H100)","v":""},{"$f":"IF(baş!I100=\"\",\"\",baş!I100)","v":""},{"$f":"H2.1!AD100","v":1},1,"GELİŞTİRİLMELİ",{"$f":"T2.1!AY100","v":1},1,"GELİŞTİRİLMELİ",{"$f":"M2.1!T100","v":1},1,"GELİŞTİRİLMELİ",{"$f":"GS2.1!K100","v":1},1,"GELİŞTİRİLMELİ",{"$f":"MZK2.1!P100","v":1},1,"GELİŞTİRİLMELİ",1,1,"GELİŞTİRİLMELİ"]
[{"$f":"IF(baş!G101=\"\",\"\",baş!G101)","v":""},{"$f":"IF(baş!H101=\"\",\"\",baş!H101)","v":""},{"$f":"IF(baş!I101=\"\",\"\",baş!I101)","v":""},{"$f":"H2.1!AD101","v":1},1,"GELİŞTİRİLMELİ",{"$f":"T2.1!AY101","v":1},1,"GELİŞTİRİLMELİ",{"$f":"M2.1!T101","v":1},1,"GELİŞTİRİLMELİ",{"$f":"GS2.1!K101","v":1},1,"GELİŞTİRİLMELİ",{"$f":"MZK2.1!P101","v":1},1,"GELİŞTİRİLMELİ",1,1,"GELİŞTİRİLMELİ"]
[{"$f":"IF(baş!G102=\"\",\"\",baş!G102)","v":""},{"$f":"IF(baş!H102=\"\",\"\",baş!H102)","v":""},{"$f":"IF(baş!I102=\"\",\"\",baş!I102)","v":""},{"$f":"H2.1!AD102","v":1},1,"GELİŞTİRİLMELİ",{"$f":"T2.1!AY102","v":1},1,"GELİŞTİRİLMELİ",{"$f":"M2.1!T102","v":1},1,"GELİŞTİRİLMELİ",{"$f":"GS2.1!K102","v":1},1,"GELİŞTİRİLMELİ",{"$f":"MZK2.1!P102","v":1},1,"GELİŞTİRİLMELİ",1,1,"GELİŞTİRİLMELİ"]

{"sheet":"DAV1","index":4,"n_rows":107,"n_cols":100,"rows_kept":107,"cut":false,"hidden":false,"merged":[[0,3,0,9],[0,10,0,14],[0,15,0,19],[0,20,0,26],[0,0,0,2],[0,27,0,31],[0,42,0,45],[0,50,0,54],[0,32,0,37],[0,38,0,41],[0,46,0,49]]}
["DAVRANIŞ PUANI \nÖLÇÜTLERİ ",null,null,"1. Okul kültürüne\n uyum",null,null,null,null,null,null,"2. Öz bakım",null,null,null,null,"3. Kendini tanıma",null,null,null,null,"4. İletişim ve sosyal etkileşim",null,null,null,null,null,null,"5. Ortak değerlere uyma",null,null,null,null,"6. Çözüm odaklı olma ",null,null,null,null,null,"7. Sosyal faaliyetlere katılım",null,null,null,"8.Takım çalışması ve sorumluluk",null,null,null,"9.Verimli çalışma ",null,null,null,"10. Çevreye duyarlılık"]
["SIRA","No","\n\n\n\n\n\n\n\n\nAdı Soyadı","Karar alma süreçlerine katkı sağlama ve kararlara uyma,","Grupça alınan kararlara katkı,","Okul çalışanlarına karşı sorumlu davranma,","Okula/derse düzenli olarak devam etme,","Okulu, çevreyi, eğitim araç-gereçlerini koruma,","Belirlenen okul kurallarına uyma.","ORTALAMASI","Beden temizliğine dikkat etme,","Kıyafetinin temizliğine dikkat etme,","Sağlığının gerektirdiği beslenme kurallarına uyma,","Özel eşyalarının tertip ve düzenine özen gösterme.","ORTALAMASI","İlgi, yetenek, becerilerinin farkında olma,","Zayıf yönlerini tanıma ve geliştirme,","Serbest zamanını etkin bir şekilde kullanma,","İstek ve ihtiyaçlarına göre amaçlarını belirleme.","ORTALAMASI","İletişimde nezaket kurallarına uyma,","Olumlu iletişim dilini kullanma,","Çevresinde kabul görecek olumlu davranışlar gösterme,","Çevresinde gördüğü iyi örneklerden yararlanma,","Sosyal ilişkilerinde grup içinde rol alma,","Sahip olduğu hakları bilme ve kullanma.","ORTALAMASI","Başkalarının hak ve özgürlüklerine saygı gösterme,","Gerektiğinde başkalarına yardım etme,.","Bireysel ve kültürel farklılıklara hoşgörülü olma,","Toplumun ortak değerlerine saygı gösterme","ORTALAMASI","Sorunları fark edip tanımlama,","Sorunun farklı çözümlerinin olabileceğine inanma,","Sorun üzerinde odaklanma,","Alternatif çözüm yolları geliştirme,","Sorunun çözümü için sorumluluk üstlenme.","ORTALAMASI","Okulda yapılan çeşitli sosyal faaliyetlere\nkatılmak için çaba gösterme,","Aktif olarak katıldığı sosyal, kültürel,\nsanatsal ve sportif faaliyetlerde başarılı olma,","Aktif olarak katılamadığı okul faaliyetleri\nile ilgilenme veya izleme.","ORTALAMASI","İş birliği içinde çalışma,","Grup içerisindeki sorumluluklarını yerine getirme,","Grup içinde gerekli durumlarda bireysel olarak çalışma.","ORTALAMASI","Planlı ve düzenli çalışma,","Zamanı etkili şekilde kullanma,","Çalışmalarında gösterdiği gelişmenin farkında olma.","ORTALAMASI","Çevreyle ilgili faaliyetlere duyarlı olma ya da katılma,","Canlıları ve doğal yaşam alanlarını koruma,","Yaşadığı çevresini temiz tutma,","Doğal kaynakları tasarruflu kullanma.","ORTALAMASI"]
[{"$f":"IF(baş!G3=\"\",\"\",baş!G3)","v":1},{"$f":"IF(baş!H3=\"\",\"\",baş!H3)","v":11},{"$f":"IF(baş!I3=\"\",\"\",baş!I3)","v":"KAYRA ÇINAR ERGÜN"},3,3,3,3,3,3,{"$f":"AVERAGE(D3:I3)","v":3},3,3,3,3,{"$f":"AVERAGE(K3:N3)","v":3},3,3,3,3,{"$f":"AVERAGE(P3:S3)","v":3},3,3,3,3,3,3,{"$f":"AVERAGE(U3:Z3)","v":3},3,3,3,3,{"$f":"AVERAGE(AB3:AE3)","v":3},3,3,3,3,3,{"$f":"AVERAGE(AG3:AK3)","v":3},3,3,3,{"$f":"AVERAGE(AM3:AO3)","v":3},3,3,3,{"$f":"AVERAGE(AQ3:AS3)","v":3},3,3,3,{"$f":"AVERAGE(AU3:AW3)","v":3},3,3,3,3,{"$f":"AVERAGE(AY3:BB3)","v":3}]
[{"$f":"IF(baş!G4=\"\",\"\",baş!G4)","v":2},{"$f":"IF(baş!H4=\"\",\"\",baş!H4)","v":35},{"$f":"IF(baş!I4=\"\",\"\",baş!I4)","v":"FURKAN SOLMAZ"},3,3,3,3,3,3,{"$f":"AVERAGE(D4:I4)","v":3},3,3,3,3,{"$f":"AVERAGE(K4:N4)","v":3},3,3,3,3,{"$f":"AVERAGE(P4:S4)","v":3},3,3,3,3,3,3,{"$f":"AVERAGE(U4:Z4)","v":3},3,3,3,3,{"$f":"AVERAGE(AB4:AE4)","v":3},3,3,3,3,3,{"$f":"AVERAGE(AG4:AK4)","v":3},3,3,3,{"$f":"AVERAGE(AM4:AO4)","v":3},3,3,3,{"$f":"AVERAGE(AQ4:AS4)","v":3},3,3,3,{"$f":"AVERAGE(AU4:AW4)","v":3},3,3,3,3,{"$f":"AVERAGE(AY4:BB4)","v":3}]
[{"$f":"IF(baş!G5=\"\",\"\",baş!G5)","v":3},{"$f":"IF(baş!H5=\"\",\"\",baş!H5)","v":53},{"$f":"IF(baş!I5=\"\",\"\",baş!I5)","v":"İLKNUR MUMCU"},3,3,3,3,3,3,{"$f":"AVERAGE(D5:I5)","v":3},3,3,3,3,3,3,3,3,3,3,3,3,3,3,3,3,3,3,3,3,3,3,3,3,3,3,3,3,3,3,3,3,3,3,3,3,3,3,3,3,3,3,3,3,3]
[{"$f":"IF(baş!G6=\"\",\"\",baş!G6)","v":4},{"$f":"IF(baş!H6=\"\",\"\",baş!H6)","v":83},{"$f":"IF(baş!I6=\"\",\"\",baş!I6)","v":"MUHAMMET ALİ YILDIRIM"},3,3,3,3,3,3,3,3,3,3,3,3,3,3,3,3,3,3,3,3,3,3,3,3,3,3,3,3,3,3,3,3,3,3,3,3,3,3,3,3,3,3,3,3,3,3,3,3,3,3,3,3]
[{"$f":"IF(baş!G7=\"\",\"\",baş!G7)","v":5},{"$f":"IF(baş!H7=\"\",\"\",baş!H7)","v":93},{"$f":"IF(baş!I7=\"\",\"\",baş!I7)","v":"ERTUĞRUL GAZİ NAMLI"},3,3,3,3,3,3,3,3,3,3,3,3,3,3,3,3,3,3,3,3,3,3,3,3,3,3,3,3,3,3,3,3,3,3,3,3,3,3,3,3,3,3,3,3,3,3,3,3,3,3,3,3]
[{"$f":"IF(baş!G8=\"\",\"\",baş!G8)","v":6},{"$f":"IF(baş!H8=\"\",\"\",baş!H8)","v":100},{"$f":"IF(baş!I8=\"\",\"\",baş!I8)","v":"ECEM EFE"},3,3,3,3,3,3,3,3,3,3,3,3,3,3,3,3,3,3,3,3,3,3,3,3,3,3,3,3,3,3,3,3,3,3,3,3,3,3,3,3,3,3,3,3,3,3,3,3,3,3,3,3]
[{"$f":"IF(baş!G9=\"\",\"\",baş!G9)","v":7},{"$f":"IF(baş!H9=\"\",\"\",baş!H9)","v":105},{"$f":"IF(baş!I9=\"\",\"\",baş!I9)","v":"SELİM ZEKERİYA ÖZDEMİR"},3,3,3,3,3,3,3,3,3,3,3,3,3,3,3,3,3,3,3,3,3,3,3,3,3,3,3,3,3,3,3,3,3,3,3,3,3,3,3,3,3,3,3,3,3,3,3,3,3,3,3,3]
[{"$f":"IF(baş!G10=\"\",\"\",baş!G10)","v":8},{"$f":"IF(baş!H10=\"\",\"\",baş!H10)","v":108},{"$f":"IF(baş!I10=\"\",\"\",baş!I10)","v":"AREN KARAKAŞ"},3,3,3,3,3,3,3,3,3,3,3,3,3,3,3,3,3,3,3,3,3,3,3,3,3,3,3,3,3,3,3,3,3,3,3,3,3,3,3,3,3,3,3,3,3,3,3,3,3,3,3,3]
[{"$f":"IF(baş!G11=\"\",\"\",baş!G11)","v":9},{"$f":"IF(baş!H11=\"\",\"\",baş!H11)","v":111},{"$f":"IF(baş!I11=\"\",\"\",baş!I11)","v":"ZEHRA ŞAHİNOĞLU"},3,3,3,3,3,3,3,3,3,3,3,3,3,3,3,3,3,3,3,3,3,3,3,3,3,3,3,3,3,3,3,3,3,3,3,3,3,3,3,3,3,3,3,3,3,3,3,3,3,3,3,3]
[{"$f":"IF(baş!G12=\"\",\"\",baş!G12)","v":10},{"$f":"IF(baş!H12=\"\",\"\",baş!H12)","v":113},{"$f":"IF(baş!I12=\"\",\"\",baş!I12)","v":"YUSUF ALİ TÜNÇ"},3,3,3,3,3,3,3,3,3,3,3,3,3,3,3,3,3,3,3,3,3,3,3,3,3,3,3,3,3,3,3,3,3,3,3,3,3,3,3,3,3,3,3,3,3,3,3,3,3,3,3,3]
[{"$f":"IF(baş!G13=\"\",\"\",baş!G13)","v":11},{"$f":"IF(baş!H13=\"\",\"\",baş!H13)","v":161},{"$f":"IF(baş!I13=\"\",\"\",baş!I13)","v":"HÜSEYİN CELAYİR"},3,3,3,3,3,3,3,3,3,3,3,3,3,3,3,3,3,3,3,3,3,3,3,3,3,3,3,3,3,3,3,3,3,3,3,3,3,3,3,3,3,3,3,3,3,3,3,3,3,3,3,3]
[{"$f":"IF(baş!G14=\"\",\"\",baş!G14)","v":12},{"$f":"IF(baş!H14=\"\",\"\",baş!H14)","v":177},{"$f":"IF(baş!I14=\"\",\"\",baş!I14)","v":"YİĞİT EFE YEŞİLDAL"},3,3,3,3,3,3,3,3,3,3,3,3,3,3,3,3,3,3,3,3,3,3,3,3,3,3,3,3,3,3,3,3,3,3,3,3,3,3,3,3,3,3,3,3,3,3,3,3,3,3,3,3]
[{"$f":"IF(baş!G15=\"\",\"\",baş!G15)","v":13},{"$f":"IF(baş!H15=\"\",\"\",baş!H15)","v":187},{"$f":"IF(baş!I15=\"\",\"\",baş!I15)","v":"HALEF TAHA ATEŞ"},3,3,3,3,3,3,3,3,3,3,3,3,3,3,3,3,3,3,3,3,3,3,3,3,3,3,3,3,3,3,3,3,3,3,3,3,3,3,3,3,3,3,3,3,3,3,3,3,3,3,3,3]
[{"$f":"IF(baş!G16=\"\",\"\",baş!G16)","v":14},{"$f":"IF(baş!H16=\"\",\"\",baş!H16)","v":188},{"$f":"IF(baş!I16=\"\",\"\",baş!I16)","v":"EMİRHAN MERTOĞLU"},3,3,3,3,3,3,3,3,3,3,3,3,3,3,3,3,3,3,3,3,3,3,3,3,3,3,3,3,3,3,3,3,3,3,3,3,3,3,3,3,3,3,3,3,3,3,3,3,3,3,3,3]
[{"$f":"IF(baş!G17=\"\",\"\",baş!G17)","v":15},{"$f":"IF(baş!H17=\"\",\"\",baş!H17)","v":189},{"$f":"IF(baş!I17=\"\",\"\",baş!I17)","v":"EMİNE GÜVEN"},3,3,3,3,3,3,3,3,3,3,3,3,3,3,3,3,3,3,3,3,3,3,3,3,3,3,3,3,3,3,3,3,3,3,3,3,3,3,3,3,3,3,3,3,3,3,3,3,3,3,3,3]
[{"$f":"IF(baş!G18=\"\",\"\",baş!G18)","v":16},{"$f":"IF(baş!H18=\"\",\"\",baş!H18)","v":213},{"$f":"IF(baş!I18=\"\",\"\",baş!I18)","v":"YAĞMUR KILIÇ"},3,3,3,3,3,3,3,3,3,3,3,3,3,3,3,3,3,3,3,3,3,3,3,3,3,3,3,3,3,3,3,3,3,3,3,3,3,3,3,3,3,3,3,3,3,3,3,3,3,3,3,3]
[{"$f":"IF(baş!G19=\"\",\"\",baş!G19)","v":17},{"$f":"IF(baş!H19=\"\",\"\",baş!H19)","v":214},{"$f":"IF(baş!I19=\"\",\"\",baş!I19)","v":"ERDAL GÜLATAR"},3,3,3,3,3,3,3,3,3,3,3,3,3,3,3,3,3,3,3,3,3,3,3,3,3,3,3,3,3,3,3,3,3,3,3,3,3,3,3,3,3,3,3,3,3,3,3,3,3,3,3,3]
[{"$f":"IF(baş!G20=\"\",\"\",baş!G20)","v":18},{"$f":"IF(baş!H20=\"\",\"\",baş!H20)","v":216},{"$f":"IF(baş!I20=\"\",\"\",baş!I20)","v":"GAMZE ACAR"},3,3,3,3,3,3,3,3,3,3,3,3,3,3,3,3,3,3,3,3,3,3,3,3,3,3,3,3,3,3,3,3,3,3,3,3,3,3,3,3,3,3,3,3,3,3,3,3,3,3,3,3]
[{"$f":"IF(baş!G21=\"\",\"\",baş!G21)","v":19},{"$f":"IF(baş!H21=\"\",\"\",baş!H21)","v":222},{"$f":"IF(baş!I21=\"\",\"\",baş!I21)","v":"HİRANUR DOĞANDEMİR"},3,3,3,3,3,3,3,3,3,3,3,3,3,3,3,3,3,3,3,3,3,3,3,3,3,3,3,3,3,3,3,3,3,3,3,3,3,3,3,3,3,3,3,3,3,3,3,3,3,3,3,3]
[{"$f":"IF(baş!G22=\"\",\"\",baş!G22)","v":20},{"$f":"IF(baş!H22=\"\",\"\",baş!H22)","v":224},{"$f":"IF(baş!I22=\"\",\"\",baş!I22)","v":"TALHA YILMAZ"},3,3,3,3,3,3,3,3,3,3,3,3,3,3,3,3,3,3,3,3,3,3,3,3,3,3,3,3,3,3,3,3,3,3,3,3,3,3,3,3,3,3,3,3,3,3,3,3,3,3,3,3]
[{"$f":"IF(baş!G23=\"\",\"\",baş!G23)","v":21},{"$f":"IF(baş!H23=\"\",\"\",baş!H23)","v":225},{"$f":"IF(baş!I23=\"\",\"\",baş!I23)","v":"YUSUF EMİR DAĞDÖGEN"},3,3,3,3,3,3,3,3,3,3,3,3,3,3,3,3,3,3,3,3,3,3,3,3,3,3,3,3,3,3,3,3,3,3,3,3,3,3,3,3,3,3,3,3,3,3,3,3,3,3,3,3]
[{"$f":"IF(baş!G24=\"\",\"\",baş!G24)","v":22},{"$f":"IF(baş!H24=\"\",\"\",baş!H24)","v":226},{"$f":"IF(baş!I24=\"\",\"\",baş!I24)","v":"İMREN CANPOLAT"},3,3,3,3,3,3,3,3,3,3,3,3,3,3,3,3,{"$f":"AVERAGE(P24:S24)","v":3},3,3,3,3,3,3,3,3,3,3,3,3,3,3,3,3,3,3,3,3,3,3,3,3,3,3,3,3,3,3,3,3,3,3,3]
[{"$f":"IF(baş!G25=\"\",\"\",baş!G25)","v":23},{"$f":"IF(baş!H25=\"\",\"\",baş!H25)","v":227},{"$f":"IF(baş!I25=\"\",\"\",baş!I25)","v":"ZEYNEP CANPOLAT"},3,3,3,3,3,3,3,3,3,3,3,3,3,3,3,3,3,3,3,3,3,3,3,3,3,3,3,3,3,3,3,3,3,3,3,3,3,3,3,3,3,3,3,3,3,3,3,3,3,3,3,3]
[{"$f":"IF(baş!G26=\"\",\"\",baş!G26)","v":24},{"$f":"IF(baş!H26=\"\",\"\",baş!H26)","v":229},{"$f":"IF(baş!I26=\"\",\"\",baş!I26)","v":"MERYEM PARMAK"},3,3,3,3,3,3,3,3,3,3,3,3,3,3,3,3,3,3,3,3,3,3,3,3,3,3,3,3,3,3,3,3,3,3,3,3,3,3,3,3,3,3,3,3,3,3,3,3,3,3,3,3]
[{"$f":"IF(baş!G27=\"\",\"\",baş!G27)","v":25},{"$f":"IF(baş!H27=\"\",\"\",baş!H27)","v":237},{"$f":"IF(baş!I27=\"\",\"\",baş!I27)","v":"ZEYNEP MİRAY BOYRAZ"},3,3,3,3,3,3,3,3,3,3,3,3,3,3,3,3,3,3,3,3,3,3,3,3,3,3,3,3,3,3,3,3,3,3,3,3,3,3,3,3,3,3,3,3,3,3,3,3,3,3,3,3]
[{"$f":"IF(baş!G28=\"\",\"\",baş!G28)","v":26},{"$f":"IF(baş!H28=\"\",\"\",baş!H28)","v":244},{"$f":"IF(baş!I28=\"\",\"\",baş!I28)","v":"TAMER ŞEKERCİLEROĞLU"},3,3,3,3,3,3,3,3,3,3,3,3,3,3,3,3,3,3,3,3,3,3,3,3,3,3,3,3,3,3,3,3,3,3,3,3,3,3,3,3,3,3,3,3,3,3,3,3,3,3,3,3]
[{"$f":"IF(baş!G29=\"\",\"\",baş!G29)","v":27},{"$f":"IF(baş!H29=\"\",\"\",baş!H29)","v":263},{"$f":"IF(baş!I29=\"\",\"\",baş!I29)","v":"MUHAMMED YUSUF YILMAZ"},3,3,3,3,3,3,3,3,3,3,3,3,3,3,3,3,3,3,3,3,3,3,3,3,3,3,3,3,3,3,3,3,3,3,3,3,3,3,3,3,3,3,3,3,3,3,3,3,3,3,3,3]
[{"$f":"IF(baş!G30=\"\",\"\",baş!G30)","v":28},{"$f":"IF(baş!H30=\"\",\"\",baş!H30)","v":264},{"$f":"IF(baş!I30=\"\",\"\",baş!I30)","v":"OĞUZHAN GÜRGÜZE"},3,3,3,3,3,3,3,3,3,3,3,3,3,3,3,3,3,3,3,3,3,3,3,3,3,3,3,3,3,3,3,3,3,3,3,3,3,3,3,3,3,3,3,3,3,3,3,3,3,3,3,3]
[{"$f":"IF(baş!G31=\"\",\"\",baş!G31)","v":29},{"$f":"IF(baş!H31=\"\",\"\",baş!H31)","v":279},{"$f":"IF(baş!I31=\"\",\"\",baş!I31)","v":"MİHRİMA EKİCİ"},3,3,3,3,3,3,3,3,3,3,3,3,3,3,3,3,3,3,3,3,3,3,3,3,3,3,3,3,3,3,3,3,3,3,3,3,3,3,3,3,3,3,3,3,3,3,3,3,3,3,3,3]
[{"$f":"IF(baş!G32=\"\",\"\",baş!G32)","v":30},{"$f":"IF(baş!H32=\"\",\"\",baş!H32)","v":290},{"$f":"IF(baş!I32=\"\",\"\",baş!I32)","v":"NİSA NUR YILDIZ"},3,3,3,3,3,3,3,3,3,3,3,3,3,3,3,3,3,3,3,3,3,3,3,3,3,3,3,3,3,3,3,3,3,3,3,3,3,3,3,3,3,3,3,3,3,3,3,3,3,3,3,3]
[{"$f":"IF(baş!G33=\"\",\"\",baş!G33)","v":31},{"$f":"IF(baş!H33=\"\",\"\",baş!H33)","v":293},{"$f":"IF(baş!I33=\"\",\"\",baş!I33)","v":"MEHMET ALATAŞ"},3,3,3,3,3,3,3,3,3,3,3,3,3,3,3,3,3,3,3,3,3,3,3,3,3,3,3,3,3,3,3,3,3,3,3,3,3,3,3,3,3,3,3,3,3,3,3,3,3,3,3,3]
[{"$f":"IF(baş!G34=\"\",\"\",baş!G34)","v":32},{"$f":"IF(baş!H34=\"\",\"\",baş!H34)","v":451},{"$f":"IF(baş!I34=\"\",\"\",baş!I34)","v":"İKRA YILDIRIM"},3,3,3,3,3,3,3,3,3,3,3,3,3,3,3,3,3,3,3,3,3,3,3,3,3,3,3,3,3,3,3,3,3,3,3,3,3,3,3,3,3,3,3,3,3,3,3,3,3,3,3,3]
[{"$f":"IF(baş!G35=\"\",\"\",baş!G35)","v":33},{"$f":"IF(baş!H35=\"\",\"\",baş!H35)","v":616},{"$f":"IF(baş!I35=\"\",\"\",baş!I35)","v":"EDA TURAL"},3,3,3,3,3,3,3,3,3,3,3,3,3,3,3,3,3,3,3,3,3,3,3,3,3,3,3,3,3,3,3,3,3,3,3,3,3,3,3,3,3,3,3,3,3,3,3,3,3,3,3,3]
[{"$f":"IF(baş!G36=\"\",\"\",baş!G36)","v":34},{"$f":"IF(baş!H36=\"\",\"\",baş!H36)","v":892},{"$f":"IF(baş!I36=\"\",\"\",baş!I36)","v":"ALMA ALRAMADAN"},3,3,3,3,3,3,{"$f":"AVERAGE(D36:I36)","v":3},3,3,3,3,{"$f":"AVERAGE(K36:N36)","v":3},3,3,3,3,{"$f":"AVERAGE(P36:S36)","v":3},3,3,3,3,3,3,{"$f":"AVERAGE(U36:Z36)","v":3},3,3,3,3,{"$f":"AVERAGE(AB36:AE36)","v":3},3,3,3,3,3,{"$f":"AVERAGE(AG36:AK36)","v":3},3,3,3,{"$f":"AVERAGE(AM36:AO36)","v":3},3,3,3,{"$f":"AVERAGE(AQ36:AS36)","v":3},3,3,3,{"$f":"AVERAGE(AU36:AW36)","v":3},3,3,3,3,{"$f":"AVERAGE(AY36:BB36)","v":3}]
[{"$f":"IF(baş!G37=\"\",\"\",baş!G37)","v":35},{"$f":"IF(baş!H37=\"\",\"\",baş!H37)","v":1000},{"$f":"IF(baş!I37=\"\",\"\",baş!I37)","v":"TURGUT POLAT"},3,3,3,3,3,3,{"$f":"AVERAGE(D37:I37)","v":3},3,3,3,3,{"$f":"AVERAGE(K37:N37)","v":3},3,3,3,3,{"$f":"AVERAGE(P37:S37)","v":3},3,3,3,3,3,3,{"$f":"AVERAGE(U37:Z37)","v":3},3,3,3,3,{"$f":"AVERAGE(AB37:AE37)","v":3},3,3,3,3,3,{"$f":"AVERAGE(AG37:AK37)","v":3},3,3,3,{"$f":"AVERAGE(AM37:AO37)","v":3},3,3,3,{"$f":"AVERAGE(AQ37:AS37)","v":3},3,3,3,{"$f":"AVERAGE(AU37:AW37)","v":3},3,3,3,3,{"$f":"AVERAGE(AY37:BB37)","v":3}]
[{"$f":"IF(baş!G38=\"\",\"\",baş!G38)","v":""},{"$f":"IF(baş!H38=\"\",\"\",baş!H38)","v":""},{"$f":"IF(baş!I38=\"\",\"\",baş!I38)","v":""},3,3,3,3,3,3,3,3,3,3,3,3,3,3,3,3,3,3,3,3,3,3,3,3,3,3,3,3,3,3,3,3,3,3,3,3,3,3,3,3,3,3,3,3,3,3,3,3,3,3,3,3]
[{"$f":"IF(baş!G39=\"\",\"\",baş!G39)","v":""},{"$f":"IF(baş!H39=\"\",\"\",baş!H39)","v":""},{"$f":"IF(baş!I39=\"\",\"\",baş!I39)","v":""},3,3,3,3,3,3,3,3,3,3,3,3,3,3,3,3,3,3,3,3,3,3,3,3,3,3,3,3,3,3,3,3,3,3,3,3,3,3,3,3,3,3,3,3,3,3,3,3,3,3,3,3]
[{"$f":"IF(baş!G40=\"\",\"\",baş!G40)","v":""},{"$f":"IF(baş!H40=\"\",\"\",baş!H40)","v":""},{"$f":"IF(baş!I40=\"\",\"\",baş!I40)","v":""},3,3,3,3,3,3,3,3,3,3,3,3,3,3,3,3,3,3,3,3,3,3,3,3,3,3,3,3,3,3,3,3,3,3,3,3,3,3,3,3,3,3,3,3,3,3,3,3,3,3,3,3]
[{"$f":"IF(baş!G41=\"\",\"\",baş!G41)","v":""},{"$f":"IF(baş!H41=\"\",\"\",baş!H41)","v":""},{"$f":"IF(baş!I41=\"\",\"\",baş!I41)","v":""},3,3,3,3,3,3,3,3,3,3,3,3,3,3,3,3,3,3,3,3,3,3,3,3,3,3,3,3,3,3,3,3,3,3,3,3,3,3,3,3,3,3,3,3,3,3,3,3,3,3,3,3]
[{"$f":"IF(baş!G42=\"\",\"\",baş!G42)","v":""},{"$f":"IF(baş!H42=\"\",\"\",baş!H42)","v":""},{"$f":"IF(baş!I42=\"\",\"\",baş!I42)","v":""},3,3,3,3,3,3,{"$f":"AVERAGE(D42:I42)","v":3},3,3,3,3,{"$f":"AVERAGE(K42:N42)","v":3},3,3,3,3,{"$f":"AVERAGE(P42:S42)","v":3},3,3,3,3,3,3,{"$f":"AVERAGE(U42:Z42)","v":3},3,3,3,3,{"$f":"AVERAGE(AB42:AE42)","v":3},3,3,3,3,3,{"$f":"AVERAGE(AG42:AK42)","v":3},3,3,3,{"$f":"AVERAGE(AM42:AO42)","v":3},3,3,3,{"$f":"AVERAGE(AQ42:AS42)","v":3},3,3,3,{"$f":"AVERAGE(AU42:AW42)","v":3},3,3,3,3,{"$f":"AVERAGE(AY42:BB42)","v":3}]
[{"$f":"IF(baş!G43=\"\",\"\",baş!G43)","v":""},{"$f":"IF(baş!H43=\"\",\"\",baş!H43)","v":""},{"$f":"IF(baş!I43=\"\",\"\",baş!I43)","v":""},3,3,3,3,3,3,3,3,3,3,3,3,3,3,3,3,3,3,3,3,3,3,3,3,3,3,3,3,3,3,3,3,3,3,3,3,3,3,3,3,3,3,3,3,3,3,3,3,3,3,3,3]
[{"$f":"IF(baş!G44=\"\",\"\",baş!G44)","v":""},{"$f":"IF(baş!H44=\"\",\"\",baş!H44)","v":""},{"$f":"IF(baş!I44=\"\",\"\",baş!I44)","v":""},3,3,3,3,3,3,3,3,3,3,3,3,3,3,3,3,3,3,3,3,3,3,3,3,3,3,3,3,3,3,3,3,3,3,3,3,3,3,3,3,3,3,3,3,3,3,3,3,3,3,3,3]
[{"$f":"IF(baş!G45=\"\",\"\",baş!G45)","v":""},{"$f":"IF(baş!H45=\"\",\"\",baş!H45)","v":""},{"$f":"IF(baş!I45=\"\",\"\",baş!I45)","v":""},3,3,3,3,3,3,3,3,3,3,3,3,3,3,3,3,3,3,3,3,3,3,3,3,3,3,3,3,3,3,3,3,3,3,3,3,3,3,3,3,3,3,3,3,3,3,3,3,3,3,3,3]
[{"$f":"IF(baş!G46=\"\",\"\",baş!G46)","v":""},{"$f":"IF(baş!H46=\"\",\"\",baş!H46)","v":""},{"$f":"IF(baş!I46=\"\",\"\",baş!I46)","v":""},3,3,3,3,3,3,3,3,3,3,3,3,3,3,3,3,3,3,3,3,3,3,3,3,3,3,3,3,3,3,3,3,3,3,3,3,3,3,3,3,3,3,3,3,3,3,3,3,3,3,3,3]
[{"$f":"IF(baş!G47=\"\",\"\",baş!G47)","v":""},{"$f":"IF(baş!H47=\"\",\"\",baş!H47)","v":""},{"$f":"IF(baş!I47=\"\",\"\",baş!I47)","v":""},3,3,3,3,3,3,3,3,3,3,3,3,3,3,3,3,3,3,3,3,3,3,3,3,3,3,3,3,3,3,3,3,3,3,3,3,3,3,3,3,3,3,3,3,3,3,3,3,3,3,3,3]
[{"$f":"IF(baş!G48=\"\",\"\",baş!G48)","v":""},{"$f":"IF(baş!H48=\"\",\"\",baş!H48)","v":""},{"$f":"IF(baş!I48=\"\",\"\",baş!I48)","v":""},3,3,3,3,3,3,3,3,3,3,3,3,3,3,3,3,3,3,3,3,3,3,3,3,3,3,3,3,3,3,3,3,3,3,3,3,3,3,3,3,3,3,3,3,3,3,3,3,3,3,3,3]
[{"$f":"IF(baş!G49=\"\",\"\",baş!G49)","v":""},{"$f":"IF(baş!H49=\"\",\"\",baş!H49)","v":""},{"$f":"IF(baş!I49=\"\",\"\",baş!I49)","v":""},3,3,3,3,3,3,3,3,3,3,3,3,3,3,3,3,3,3,3,3,3,3,3,3,3,3,3,3,3,3,3,3,3,3,3,3,3,3,3,3,3,3,3,3,3,3,3,3,3,3,3,3]
[{"$f":"IF(baş!G50=\"\",\"\",baş!G50)","v":""},{"$f":"IF(baş!H50=\"\",\"\",baş!H50)","v":""},{"$f":"IF(baş!I50=\"\",\"\",baş!I50)","v":""},3,3,3,3,3,3,3,3,3,3,3,3,3,3,3,3,3,3,3,3,3,3,3,3,3,3,3,3,3,3,3,3,3,3,3,3,3,3,3,3,3,3,3,3,3,3,3,3,3,3,3,3]
[{"$f":"IF(baş!G51=\"\",\"\",baş!G51)","v":""},{"$f":"IF(baş!H51=\"\",\"\",baş!H51)","v":""},{"$f":"IF(baş!I51=\"\",\"\",baş!I51)","v":""},3,3,3,3,3,3,3,3,3,3,3,3,3,3,3,3,3,3,3,3,3,3,3,3,3,3,3,3,3,3,3,3,3,3,3,3,3,3,3,3,3,3,3,3,3,3,3,3,3,3,3,3]
[{"$f":"IF(baş!G52=\"\",\"\",baş!G52)","v":""},{"$f":"IF(baş!H52=\"\",\"\",baş!H52)","v":""},{"$f":"IF(baş!I52=\"\",\"\",baş!I52)","v":""},3,3,3,3,3,3,3,3,3,3,3,3,3,3,3,3,3,3,3,3,3,3,3,3,3,3,3,3,3,3,3,3,3,3,3,3,3,3,3,3,3,3,3,3,3,3,3,3,3,3,3,3]
[{"$f":"IF(baş!G53=\"\",\"\",baş!G53)","v":""},{"$f":"IF(baş!H53=\"\",\"\",baş!H53)","v":""},{"$f":"IF(baş!I53=\"\",\"\",baş!I53)","v":""},3,3,3,3,3,3,3,3,3,3,3,3,3,3,3,3,3,3,3,3,3,3,3,3,3,3,3,3,3,3,3,3,3,3,3,3,3,3,3,3,3,3,3,3,3,3,3,3,3,3,3,3]
[{"$f":"IF(baş!G54=\"\",\"\",baş!G54)","v":""},{"$f":"IF(baş!H54=\"\",\"\",baş!H54)","v":""},{"$f":"IF(baş!I54=\"\",\"\",baş!I54)","v":""},3,3,3,3,3,3,3,3,3,3,3,3,3,3,3,3,3,3,3,3,3,3,3,3,3,3,3,3,3,3,3,3,3,3,3,3,3,3,3,3,3,3,3,3,3,3,3,3,3,3,3,3]
[{"$f":"IF(baş!G55=\"\",\"\",baş!G55)","v":""},{"$f":"IF(baş!H55=\"\",\"\",baş!H55)","v":""},{"$f":"IF(baş!I55=\"\",\"\",baş!I55)","v":""},3,3,3,3,3,3,3,3,3,3,3,3,3,3,3,3,3,3,3,3,3,3,3,3,3,3,3,3,3,3,3,3,3,3,3,3,3,3,3,3,3,3,3,3,3,3,3,3,3,3,3,3]
[{"$f":"IF(baş!G56=\"\",\"\",baş!G56)","v":""},{"$f":"IF(baş!H56=\"\",\"\",baş!H56)","v":""},{"$f":"IF(baş!I56=\"\",\"\",baş!I56)","v":""},3,3,3,3,3,3,3,3,3,3,3,3,3,3,3,3,3,3,3,3,3,3,3,3,3,3,3,3,3,3,3,3,3,3,3,3,3,3,3,3,3,3,3,3,3,3,3,3,3,3,3,3]
[{"$f":"IF(baş!G57=\"\",\"\",baş!G57)","v":""},{"$f":"IF(baş!H57=\"\",\"\",baş!H57)","v":""},{"$f":"IF(baş!I57=\"\",\"\",baş!I57)","v":""},3,3,3,3,3,3,3,3,3,3,3,3,3,3,3,3,3,3,3,3,3,3,3,3,3,3,3,3,3,3,3,3,3,3,3,3,3,3,3,3,3,3,3,3,3,3,3,3,3,3,3,3]
[{"$f":"IF(baş!G58=\"\",\"\",baş!G58)","v":""},{"$f":"IF(baş!H58=\"\",\"\",baş!H58)","v":""},{"$f":"IF(baş!I58=\"\",\"\",baş!I58)","v":""},3,3,3,3,3,3,3,3,3,3,3,3,3,3,3,3,3,3,3,3,3,3,3,3,3,3,3,3,3,3,3,3,3,3,3,3,3,3,3,3,3,3,3,3,3,3,3,3,3,3,3,3]
[{"$f":"IF(baş!G59=\"\",\"\",baş!G59)","v":""},{"$f":"IF(baş!H59=\"\",\"\",baş!H59)","v":""},{"$f":"IF(baş!I59=\"\",\"\",baş!I59)","v":""},3,3,3,3,3,3,3,3,3,3,3,3,3,3,3,3,3,3,3,3,3,3,3,3,3,3,3,3,3,3,3,3,3,3,3,3,3,3,3,3,3,3,3,3,3,3,3,3,3,3,3,3]
[{"$f":"IF(baş!G60=\"\",\"\",baş!G60)","v":""},{"$f":"IF(baş!H60=\"\",\"\",baş!H60)","v":""},{"$f":"IF(baş!I60=\"\",\"\",baş!I60)","v":""},3,3,3,3,3,3,3,3,3,3,3,3,3,3,3,3,3,3,3,3,3,3,3,3,3,3,3,3,3,3,3,3,3,3,3,3,3,3,3,3,3,3,3,3,3,3,3,3,3,3,3,3]
[{"$f":"IF(baş!G61=\"\",\"\",baş!G61)","v":""},{"$f":"IF(baş!H61=\"\",\"\",baş!H61)","v":""},{"$f":"IF(baş!I61=\"\",\"\",baş!I61)","v":""},3,3,3,3,3,3,3,3,3,3,3,3,3,3,3,3,3,3,3,3,3,3,3,3,3,3,3,3,3,3,3,3,3,3,3,3,3,3,3,3,3,3,3,3,3,3,3,3,3,3,3,3]
[{"$f":"IF(baş!G62=\"\",\"\",baş!G62)","v":""},{"$f":"IF(baş!H62=\"\",\"\",baş!H62)","v":""},{"$f":"IF(baş!I62=\"\",\"\",baş!I62)","v":""},3,3,3,3,3,3,3,3,3,3,3,3,3,3,3,3,3,3,3,3,3,3,3,3,3,3,3,3,3,3,3,3,3,3,3,3,3,3,3,3,3,3,3,3,3,3,3,3,3,3,3,3]
[{"$f":"IF(baş!G63=\"\",\"\",baş!G63)","v":""},{"$f":"IF(baş!H63=\"\",\"\",baş!H63)","v":""},{"$f":"IF(baş!I63=\"\",\"\",baş!I63)","v":""},3,3,3,3,3,3,3,3,3,3,3,3,3,3,3,3,3,3,3,3,3,3,3,3,3,3,3,3,3,3,3,3,3,3,3,3,3,3,3,3,3,3,3,3,3,3,3,3,3,3,3,3]
[{"$f":"IF(baş!G64=\"\",\"\",baş!G64)","v":""},{"$f":"IF(baş!H64=\"\",\"\",baş!H64)","v":""},{"$f":"IF(baş!I64=\"\",\"\",baş!I64)","v":""},3,3,3,3,3,3,3,3,3,3,3,3,3,3,3,3,3,3,3,3,3,3,3,3,3,3,3,3,3,3,3,3,3,3,3,3,3,3,3,3,3,3,3,3,3,3,3,3,3,3,3,3]
[{"$f":"IF(baş!G65=\"\",\"\",baş!G65)","v":""},{"$f":"IF(baş!H65=\"\",\"\",baş!H65)","v":""},{"$f":"IF(baş!I65=\"\",\"\",baş!I65)","v":""},3,3,3,3,3,3,3,3,3,3,3,3,3,3,3,3,3,3,3,3,3,3,3,3,3,3,3,3,3,3,3,3,3,3,3,3,3,3,3,3,3,3,3,3,3,3,3,3,3,3,3,3]
[{"$f":"IF(baş!G66=\"\",\"\",baş!G66)","v":""},{"$f":"IF(baş!H66=\"\",\"\",baş!H66)","v":""},{"$f":"IF(baş!I66=\"\",\"\",baş!I66)","v":""},3,3,3,3,3,3,3,3,3,3,3,3,3,3,3,3,3,3,3,3,3,3,3,3,3,3,3,3,3,3,3,3,3,3,3,3,3,3,3,3,3,3,3,3,3,3,3,3,3,3,3,3]
[{"$f":"IF(baş!G67=\"\",\"\",baş!G67)","v":""},{"$f":"IF(baş!H67=\"\",\"\",baş!H67)","v":""},{"$f":"IF(baş!I67=\"\",\"\",baş!I67)","v":""},3,3,3,3,3,3,3,3,3,3,3,3,3,3,3,3,3,3,3,3,3,3,3,3,3,3,3,3,3,3,3,3,3,3,3,3,3,3,3,3,3,3,3,3,3,3,3,3,3,3,3,3]
[{"$f":"IF(baş!G68=\"\",\"\",baş!G68)","v":""},{"$f":"IF(baş!H68=\"\",\"\",baş!H68)","v":""},{"$f":"IF(baş!I68=\"\",\"\",baş!I68)","v":""},3,3,3,3,3,3,3,3,3,3,3,3,3,3,3,3,3,3,3,3,3,3,3,3,3,3,3,3,3,3,3,3,3,3,3,3,3,3,3,3,3,3,3,3,3,3,3,3,3,3,3,3]
[{"$f":"IF(baş!G69=\"\",\"\",baş!G69)","v":""},{"$f":"IF(baş!H69=\"\",\"\",baş!H69)","v":""},{"$f":"IF(baş!I69=\"\",\"\",baş!I69)","v":""},3,3,3,3,3,3,3,3,3,3,3,3,3,3,3,3,3,3,3,3,3,3,3,3,3,3,3,3,3,3,3,3,3,3,3,3,3,3,3,3,3,3,3,3,3,3,3,3,3,3,3,3]
[{"$f":"IF(baş!G70=\"\",\"\",baş!G70)","v":""},{"$f":"IF(baş!H70=\"\",\"\",baş!H70)","v":""},{"$f":"IF(baş!I70=\"\",\"\",baş!I70)","v":""},3,3,3,3,3,3,3,3,3,3,3,3,3,3,3,3,3,3,3,3,3,3,3,3,3,3,3,3,3,3,3,3,3,3,3,3,3,3,3,3,3,3,3,3,3,3,3,3,3,3,3,3]
[{"$f":"IF(baş!G71=\"\",\"\",baş!G71)","v":""},{"$f":"IF(baş!H71=\"\",\"\",baş!H71)","v":""},{"$f":"IF(baş!I71=\"\",\"\",baş!I71)","v":""},3,3,3,3,3,3,3,3,3,3,3,3,3,3,3,3,3,3,3,3,3,3,3,3,3,3,3,3,3,3,3,3,3,3,3,3,3,3,3,3,3,3,3,3,3,3,3,3,3,3,3,3]
[{"$f":"IF(baş!G72=\"\",\"\",baş!G72)","v":""},{"$f":"IF(baş!H72=\"\",\"\",baş!H72)","v":""},{"$f":"IF(baş!I72=\"\",\"\",baş!I72)","v":""},3,3,3,3,3,3,3,3,3,3,3,3,3,3,3,3,3,3,3,3,3,3,3,3,3,3,3,3,3,3,3,3,3,3,3,3,3,3,3,3,3,3,3,3,3,3,3,3,3,3,3,3]
[{"$f":"IF(baş!G73=\"\",\"\",baş!G73)","v":""},{"$f":"IF(baş!H73=\"\",\"\",baş!H73)","v":""},{"$f":"IF(baş!I73=\"\",\"\",baş!I73)","v":""},3,3,3,3,3,3,3,3,3,3,3,3,3,3,3,3,3,3,3,3,3,3,3,3,3,3,3,3,3,3,3,3,3,3,3,3,3,3,3,3,3,3,3,3,3,3,3,3,3,3,3,3]
[{"$f":"IF(baş!G74=\"\",\"\",baş!G74)","v":""},{"$f":"IF(baş!H74=\"\",\"\",baş!H74)","v":""},{"$f":"IF(baş!I74=\"\",\"\",baş!I74)","v":""},3,3,3,3,3,3,3,3,3,3,3,3,3,3,3,3,3,3,3,3,3,3,3,3,3,3,3,3,3,3,3,3,3,3,3,3,3,3,3,3,3,3,3,3,3,3,3,3,3,3,3,3]
[{"$f":"IF(baş!G75=\"\",\"\",baş!G75)","v":""},{"$f":"IF(baş!H75=\"\",\"\",baş!H75)","v":""},{"$f":"IF(baş!I75=\"\",\"\",baş!I75)","v":""},3,3,3,3,3,3,3,3,3,3,3,3,3,3,3,3,3,3,3,3,3,3,3,3,3,3,3,3,3,3,3,3,3,3,3,3,3,3,3,3,3,3,3,3,3,3,3,3,3,3,3,3]
[{"$f":"IF(baş!G76=\"\",\"\",baş!G76)","v":""},{"$f":"IF(baş!H76=\"\",\"\",baş!H76)","v":""},{"$f":"IF(baş!I76=\"\",\"\",baş!I76)","v":""},3,3,3,3,3,3,3,3,3,3,3,3,3,3,3,3,3,3,3,3,3,3,3,3,3,3,3,3,3,3,3,3,3,3,3,3,3,3,3,3,3,3,3,3,3,3,3,3,3,3,3,3]
[{"$f":"IF(baş!G77=\"\",\"\",baş!G77)","v":""},{"$f":"IF(baş!H77=\"\",\"\",baş!H77)","v":""},{"$f":"IF(baş!I77=\"\",\"\",baş!I77)","v":""},3,3,3,3,3,3,3,3,3,3,3,3,3,3,3,3,3,3,3,3,3,3,3,3,3,3,3,3,3,3,3,3,3,3,3,3,3,3,3,3,3,3,3,3,3,3,3,3,3,3,3,3]
[{"$f":"IF(baş!G78=\"\",\"\",baş!G78)","v":""},{"$f":"IF(baş!H78=\"\",\"\",baş!H78)","v":""},{"$f":"IF(baş!I78=\"\",\"\",baş!I78)","v":""},3,3,3,3,3,3,3,3,3,3,3,3,3,3,3,3,3,3,3,3,3,3,3,3,3,3,3,3,3,3,3,3,3,3,3,3,3,3,3,3,3,3,3,3,3,3,3,3,3,3,3,3]
[{"$f":"IF(baş!G79=\"\",\"\",baş!G79)","v":""},{"$f":"IF(baş!H79=\"\",\"\",baş!H79)","v":""},{"$f":"IF(baş!I79=\"\",\"\",baş!I79)","v":""},3,3,3,3,3,3,3,3,3,3,3,3,3,3,3,3,3,3,3,3,3,3,3,3,3,3,3,3,3,3,3,3,3,3,3,3,3,3,3,3,3,3,3,3,3,3,3,3,3,3,3,3]
[{"$f":"IF(baş!G80=\"\",\"\",baş!G80)","v":""},{"$f":"IF(baş!H80=\"\",\"\",baş!H80)","v":""},{"$f":"IF(baş!I80=\"\",\"\",baş!I80)","v":""},3,3,3,3,3,3,3,3,3,3,3,3,3,3,3,3,3,3,3,3,3,3,3,3,3,3,3,3,3,3,3,3,3,3,3,3,3,3,3,3,3,3,3,3,3,3,3,3,3,3,3,3]
[{"$f":"IF(baş!G81=\"\",\"\",baş!G81)","v":""},{"$f":"IF(baş!H81=\"\",\"\",baş!H81)","v":""},{"$f":"IF(baş!I81=\"\",\"\",baş!I81)","v":""},3,3,3,3,3,3,3,3,3,3,3,3,3,3,3,3,3,3,3,3,3,3,3,3,3,3,3,3,3,3,3,3,3,3,3,3,3,3,3,3,3,3,3,3,3,3,3,3,3,3,3,3]
[{"$f":"IF(baş!G82=\"\",\"\",baş!G82)","v":""},{"$f":"IF(baş!H82=\"\",\"\",baş!H82)","v":""},{"$f":"IF(baş!I82=\"\",\"\",baş!I82)","v":""},3,3,3,3,3,3,3,3,3,3,3,3,3,3,3,3,3,3,3,3,3,3,3,3,3,3,3,3,3,3,3,3,3,3,3,3,3,3,3,3,3,3,3,3,3,3,3,3,3,3,3,3]
[{"$f":"IF(baş!G83=\"\",\"\",baş!G83)","v":""},{"$f":"IF(baş!H83=\"\",\"\",baş!H83)","v":""},{"$f":"IF(baş!I83=\"\",\"\",baş!I83)","v":""},3,3,3,3,3,3,3,3,3,3,3,3,3,3,3,3,3,3,3,3,3,3,3,3,3,3,3,3,3,3,3,3,3,3,3,3,3,3,3,3,3,3,3,3,3,3,3,3,3,3,3,3]
[{"$f":"IF(baş!G84=\"\",\"\",baş!G84)","v":""},{"$f":"IF(baş!H84=\"\",\"\",baş!H84)","v":""},{"$f":"IF(baş!I84=\"\",\"\",baş!I84)","v":""},3,3,3,3,3,3,3,3,3,3,3,3,3,3,3,3,3,3,3,3,3,3,3,3,3,3,3,3,3,3,3,3,3,3,3,3,3,3,3,3,3,3,3,3,3,3,3,3,3,3,3,3]
[{"$f":"IF(baş!G85=\"\",\"\",baş!G85)","v":""},{"$f":"IF(baş!H85=\"\",\"\",baş!H85)","v":""},{"$f":"IF(baş!I85=\"\",\"\",baş!I85)","v":""},3,3,3,3,3,3,3,3,3,3,3,3,3,3,3,3,3,3,3,3,3,3,3,3,3,3,3,3,3,3,3,3,3,3,3,3,3,3,3,3,3,3,3,3,3,3,3,3,3,3,3,3]
[{"$f":"IF(baş!G86=\"\",\"\",baş!G86)","v":""},{"$f":"IF(baş!H86=\"\",\"\",baş!H86)","v":""},{"$f":"IF(baş!I86=\"\",\"\",baş!I86)","v":""},3,3,3,3,3,3,3,3,3,3,3,3,3,3,3,3,3,3,3,3,3,3,3,3,3,3,3,3,3,3,3,3,3,3,3,3,3,3,3,3,3,3,3,3,3,3,3,3,3,3,3,3]
[{"$f":"IF(baş!G87=\"\",\"\",baş!G87)","v":""},{"$f":"IF(baş!H87=\"\",\"\",baş!H87)","v":""},{"$f":"IF(baş!I87=\"\",\"\",baş!I87)","v":""},3,3,3,3,3,3,3,3,3,3,3,3,3,3,3,3,3,3,3,3,3,3,3,3,3,3,3,3,3,3,3,3,3,3,3,3,3,3,3,3,3,3,3,3,3,3,3,3,3,3,3,3]
[{"$f":"IF(baş!G88=\"\",\"\",baş!G88)","v":""},{"$f":"IF(baş!H88=\"\",\"\",baş!H88)","v":""},{"$f":"IF(baş!I88=\"\",\"\",baş!I88)","v":""},3,3,3,3,3,3,3,3,3,3,3,3,3,3,3,3,3,3,3,3,3,3,3,3,3,3,3,3,3,3,3,3,3,3,3,3,3,3,3,3,3,3,3,3,3,3,3,3,3,3,3,3]
[{"$f":"IF(baş!G89=\"\",\"\",baş!G89)","v":""},{"$f":"IF(baş!H89=\"\",\"\",baş!H89)","v":""},{"$f":"IF(baş!I89=\"\",\"\",baş!I89)","v":""},3,3,3,3,3,3,3,3,3,3,3,3,3,3,3,3,3,3,3,3,3,3,3,3,3,3,3,3,3,3,3,3,3,3,3,3,3,3,3,3,3,3,3,3,3,3,3,3,3,3,3,3]
[{"$f":"IF(baş!G90=\"\",\"\",baş!G90)","v":""},{"$f":"IF(baş!H90=\"\",\"\",baş!H90)","v":""},{"$f":"IF(baş!I90=\"\",\"\",baş!I90)","v":""},3,3,3,3,3,3,3,3,3,3,3,3,3,3,3,3,3,3,3,3,3,3,3,3,3,3,3,3,3,3,3,3,3,3,3,3,3,3,3,3,3,3,3,3,3,3,3,3,3,3,3,3]
[{"$f":"IF(baş!G91=\"\",\"\",baş!G91)","v":""},{"$f":"IF(baş!H91=\"\",\"\",baş!H91)","v":""},{"$f":"IF(baş!I91=\"\",\"\",baş!I91)","v":""},3,3,3,3,3,3,3,3,3,3,3,3,3,3,3,3,3,3,3,3,3,3,3,3,3,3,3,3,3,3,3,3,3,3,3,3,3,3,3,3,3,3,3,3,3,3,3,3,3,3,3,3]
[{"$f":"IF(baş!G92=\"\",\"\",baş!G92)","v":""},{"$f":"IF(baş!H92=\"\",\"\",baş!H92)","v":""},{"$f":"IF(baş!I92=\"\",\"\",baş!I92)","v":""},3,3,3,3,3,3,3,3,3,3,3,3,3,3,3,3,3,3,3,3,3,3,3,3,3,3,3,3,3,3,3,3,3,3,3,3,3,3,3,3,3,3,3,3,3,3,3,3,3,3,3,3]
[{"$f":"IF(baş!G93=\"\",\"\",baş!G93)","v":""},{"$f":"IF(baş!H93=\"\",\"\",baş!H93)","v":""},{"$f":"IF(baş!I93=\"\",\"\",baş!I93)","v":""},3,3,3,3,3,3,3,3,3,3,3,3,3,3,3,3,3,3,3,3,3,3,3,3,3,3,3,3,3,3,3,3,3,3,3,3,3,3,3,3,3,3,3,3,3,3,3,3,3,3,3,3]
[{"$f":"IF(baş!G94=\"\",\"\",baş!G94)","v":""},{"$f":"IF(baş!H94=\"\",\"\",baş!H94)","v":""},{"$f":"IF(baş!I94=\"\",\"\",baş!I94)","v":""},3,3,3,3,3,3,3,3,3,3,3,3,3,3,3,3,3,3,3,3,3,3,3,3,3,3,3,3,3,3,3,3,3,3,3,3,3,3,3,3,3,3,3,3,3,3,3,3,3,3,3,3]
[{"$f":"IF(baş!G95=\"\",\"\",baş!G95)","v":""},{"$f":"IF(baş!H95=\"\",\"\",baş!H95)","v":""},{"$f":"IF(baş!I95=\"\",\"\",baş!I95)","v":""},3,3,3,3,3,3,3,3,3,3,3,3,3,3,3,3,3,3,3,3,3,3,3,3,3,3,3,3,3,3,3,3,3,3,3,3,3,3,3,3,3,3,3,3,3,3,3,3,3,3,3,3]
[{"$f":"IF(baş!G96=\"\",\"\",baş!G96)","v":""},{"$f":"IF(baş!H96=\"\",\"\",baş!H96)","v":""},{"$f":"IF(baş!I96=\"\",\"\",baş!I96)","v":""},3,3,3,3,3,3,3,3,3,3,3,3,3,3,3,3,3,3,3,3,3,3,3,3,3,3,3,3,3,3,3,3,3,3,3,3,3,3,3,3,3,3,3,3,3,3,3,3,3,3,3,3]
[{"$f":"IF(baş!G97=\"\",\"\",baş!G97)","v":""},{"$f":"IF(baş!H97=\"\",\"\",baş!H97)","v":""},{"$f":"IF(baş!I97=\"\",\"\",baş!I97)","v":""},3,3,3,3,3,3,3,3,3,3,3,3,3,3,3,3,3,3,3,3,3,3,3,3,3,3,3,3,3,3,3,3,3,3,3,3,3,3,3,3,3,3,3,3,3,3,3,3,3,3,3,3]
[{"$f":"IF(baş!G98=\"\",\"\",baş!G98)","v":""},{"$f":"IF(baş!H98=\"\",\"\",baş!H98)","v":""},{"$f":"IF(baş!I98=\"\",\"\",baş!I98)","v":""},3,3,3,3,3,3,3,3,3,3,3,3,3,3,3,3,3,3,3,3,3,3,3,3,3,3,3,3,3,3,3,3,3,3,3,3,3,3,3,3,3,3,3,3,3,3,3,3,3,3,3,3]
[{"$f":"IF(baş!G99=\"\",\"\",baş!G99)","v":""},{"$f":"IF(baş!H99=\"\",\"\",baş!H99)","v":""},{"$f":"IF(baş!I99=\"\",\"\",baş!I99)","v":""},3,3,3,3,3,3,3,3,3,3,3,3,3,3,3,3,3,3,3,3,3,3,3,3,3,3,3,3,3,3,3,3,3,3,3,3,3,3,3,3,3,3,3,3,3,3,3,3,3,3,3,3]
[{"$f":"IF(baş!G100=\"\",\"\",baş!G100)","v":""},{"$f":"IF(baş!H100=\"\",\"\",baş!H100)","v":""},{"$f":"IF(baş!I100=\"\",\"\",baş!I100)","v":""},3,3,3,3,3,3,3,3,3,3,3,3,3,3,3,3,3,3,3,3,3,3,3,3,3,3,3,3,3,3,3,3,3,3,3,3,3,3,3,3,3,3,3,3,3,3,3,3,3,3,3,3]
[{"$f":"IF(baş!G101=\"\",\"\",baş!G101)","v":""},{"$f":"IF(baş!H101=\"\",\"\",baş!H101)","v":""},{"$f":"IF(baş!I101=\"\",\"\",baş!I101)","v":""},3,3,3,3,3,3,3,3,3,3,3,3,3,3,3,3,3,3,3,3,3,3,3,3,3,3,3,3,3,3,3,3,3,3,3,3,3,3,3,3,3,3,3,3,3,3,3,3,3,3,3,3]
[{"$f":"IF(baş!G102=\"\",\"\",baş!G102)","v":""},{"$f":"IF(baş!H102=\"\",\"\",baş!H102)","v":""},{"$f":"IF(baş!I102=\"\",\"\",baş!I102)","v":""},3,3,3,3,3,3,3,3,3,3,3,3,3,3,3,3,3,3,3,3,3,3,3,3,3,3,3,3,3,3,3,3,3,3,3,3,3,3,3,3,3,3,3,3,3,3,3,3,3,3,3,3]
[]
[1,1,1,1,1,1,1,1,1,1,1,1,1,1,1,1,1,1,1,1,1,1,1,1,1,1,1,1,1,1,1,1,1,1,1,1,1,1,1,1,1,1,1,1,1,1,1,1,1,1,1,1,1,1,1,1,1,1,1,1,1,1,1,1,1,1,1,1,1,1,1,1,1,1,1,1,1,1,1,1,1,1,1,1,1,1,1,1,1,1,1,1,1,1,1,1,1,1,1,1]
[2,2,2,2,2,2,2,2,2,2,2,2,2,2,2,2,2,2,2,2,2,2,2,2,2,2,2,2,2,2,2,2,2,2,2,2,2,2,2,2,2,2,2,2,2,2,2,2,2,2,2,2,2,2,2,2,2,2,2,2,2,2,2,2,2,2,2,2,2,2,2,2,2,2,2,2,2,2,2,2,2,2,2,2,2,2,2,2,2,2,2,2,2,2,2,2,2,2,2,2]
[3,3,3,3,3,3,3,3,3,3,3,3,3,3,3,3,3,3,3,3,3,3,3,3,3,3,3,3,3,3,3,3,3,3,3,3,3,3,3,3,3,3,3,3,3,3,3,3,3,3,3,3,3,3,3,3,3,3,3,3,3,3,3,3,3,3,3,3,3,3,3,3,3,3,3,3,3,3,3,3,3,3,3,3,3,3,3,3,3,3,3,3,3,3,3,3,3,3,3,3]
[4,4,4,4,4,4,4,4,4,4,4,4,4,4,4,4,4,4,4,4,4,4,4,4,4,4,4,4,4,4,4,4,4,4,4,4,4,4,4,4,4,4,4,4,4,4,4,4,4,4,4,4,4,4,4,4,4,4,4,4,4,4,4,4,4,4,4,4,4,4,4,4,4,4,4,4,4,4,4,4,4,4,4,4,4,4,4,4,4,4,4,4,4,4,4,4,4,4,4,4]

{"sheet":"DAV2","index":5,"n_rows":107,"n_cols":100,"rows_kept":107,"cut":false,"hidden":false,"merged":[[0,32,0,37],[0,38,0,41],[0,42,0,45],[0,46,0,49],[0,50,0,54],[0,27,0,31],[0,0,0,2],[0,3,0,9],[0,10,0,14],[0,15,0,19],[0,20,0,26]]}
["DAVRANIŞ PUANI \nÖLÇÜTLERİ ",null,null,"1. Okul kültürüne\n uyum",null,null,null,null,null,null,"2. Öz bakım",null,null,null,null,"3. Kendini tanıma",null,null,null,null,"4. İletişim ve sosyal etkileşim",null,null,null,null,null,null,"5. Ortak değerlere uyma",null,null,null,null,"6. Çözüm odaklı olma ",null,null,null,null,null,"7. Sosyal faaliyetlere katılım",null,null,null,"8.Takım çalışması ve sorumluluk",null,null,null,"9.Verimli çalışma ",null,null,null,"10. Çevreye duyarlılık"]
["SIRA","No","\n\n\n\n\n\n\n\n\nAdı Soyadı","Karar alma süreçlerine katkı sağlama ve kararlara uyma,","Grupça alınan kararlara katkı,","Okul çalışanlarına karşı sorumlu davranma,","Okula/derse düzenli olarak devam etme,","Okulu, çevreyi, eğitim araç-gereçlerini koruma,","Belirlenen okul kurallarına uyma.","ORTALAMASI","Beden temizliğine dikkat etme,","Kıyafetinin temizliğine dikkat etme,","Sağlığının gerektirdiği beslenme kurallarına uyma,","Özel eşyalarının tertip ve düzenine özen gösterme.","ORTALAMASI","İlgi, yetenek, becerilerinin farkında olma,","Zayıf yönlerini tanıma ve geliştirme,","Serbest zamanını etkin bir şekilde kullanma,","İstek ve ihtiyaçlarına göre amaçlarını belirleme.","ORTALAMASI","İletişimde nezaket kurallarına uyma,","Olumlu iletişim dilini kullanma,","Çevresinde kabul görecek olumlu davranışlar gösterme,","Çevresinde gördüğü iyi örneklerden yararlanma,","Sosyal ilişkilerinde grup içinde rol alma,","Sahip olduğu hakları bilme ve kullanma.","ORTALAMASI","Başkalarının hak ve özgürlüklerine saygı gösterme,","Gerektiğinde başkalarına yardım etme,.","Bireysel ve kültürel farklılıklara hoşgörülü olma,","Toplumun ortak değerlerine saygı gösterme","ORTALAMASI","Sorunları fark edip tanımlama,","Sorunun farklı çözümlerinin olabileceğine inanma,","Sorun üzerinde odaklanma,","Alternatif çözüm yolları geliştirme,","Sorunun çözümü için sorumluluk üstlenme.","ORTALAMASI","Okulda yapılan çeşitli sosyal faaliyetlere\nkatılmak için çaba gösterme,","Aktif olarak katıldığı sosyal, kültürel,\nsanatsal ve sportif faaliyetlerde başarılı olma,","Aktif olarak katılamadığı okul faaliyetleri\nile ilgilenme veya izleme.","ORTALAMASI","İş birliği içinde çalışma,","Grup içerisindeki sorumluluklarını yerine getirme,","Grup içinde gerekli durumlarda bireysel olarak çalışma.","ORTALAMASI","Planlı ve düzenli çalışma,","Zamanı etkili şekilde kullanma,","Çalışmalarında gösterdiği gelişmenin farkında olma.","ORTALAMASI","Çevreyle ilgili faaliyetlere duyarlı olma ya da katılma,","Canlıları ve doğal yaşam alanlarını koruma,","Yaşadığı çevresini temiz tutma,","Doğal kaynakları tasarruflu kullanma.","ORTALAMASI"]
[{"$f":"IF(baş!G3=\"\",\"\",baş!G3)","v":1},{"$f":"IF(baş!H3=\"\",\"\",baş!H3)","v":11},{"$f":"IF(baş!I3=\"\",\"\",baş!I3)","v":"KAYRA ÇINAR ERGÜN"},3,3,3,3,3,3,{"$f":"AVERAGE(D3:I3)","v":3},3,3,3,3,{"$f":"AVERAGE(K3:N3)","v":3},3,3,3,3,{"$f":"AVERAGE(P3:S3)","v":3},3,3,3,3,3,3,{"$f":"AVERAGE(U3:Z3)","v":3},3,3,3,3,{"$f":"AVERAGE(AB3:AE3)","v":3},3,3,3,3,3,{"$f":"AVERAGE(AG3:AK3)","v":3},3,3,3,{"$f":"AVERAGE(AM3:AO3)","v":3},3,3,3,{"$f":"AVERAGE(AQ3:AS3)","v":3},3,3,3,{"$f":"AVERAGE(AU3:AW3)","v":3},3,3,3,3,{"$f":"AVERAGE(AY3:BB3)","v":3}]
[{"$f":"IF(baş!G4=\"\",\"\",baş!G4)","v":2},{"$f":"IF(baş!H4=\"\",\"\",baş!H4)","v":35},{"$f":"IF(baş!I4=\"\",\"\",baş!I4)","v":"FURKAN SOLMAZ"},3,3,3,3,3,3,{"$f":"AVERAGE(D4:I4)","v":3},3,3,3,3,{"$f":"AVERAGE(K4:N4)","v":3},3,3,3,3,{"$f":"AVERAGE(P4:S4)","v":3},3,3,3,3,3,3,{"$f":"AVERAGE(U4:Z4)","v":3},3,3,3,3,{"$f":"AVERAGE(AB4:AE4)","v":3},3,3,3,3,3,{"$f":"AVERAGE(AG4:AK4)","v":3},3,3,3,{"$f":"AVERAGE(AM4:AO4)","v":3},3,3,3,{"$f":"AVERAGE(AQ4:AS4)","v":3},3,3,3,{"$f":"AVERAGE(AU4:AW4)","v":3},3,3,3,3,{"$f":"AVERAGE(AY4:BB4)","v":3}]
[{"$f":"IF(baş!G5=\"\",\"\",baş!G5)","v":3},{"$f":"IF(baş!H5=\"\",\"\",baş!H5)","v":53},{"$f":"IF(baş!I5=\"\",\"\",baş!I5)","v":"İLKNUR MUMCU"},3,3,3,3,3,3,{"$f":"AVERAGE(D5:I5)","v":3},3,3,3,3,3,3,3,3,3,3,3,3,3,3,3,3,3,3,3,3,3,3,3,3,3,3,3,3,3,3,3,3,3,3,3,3,3,3,3,3,3,3,3,3,3]
[{"$f":"IF(baş!G6=\"\",\"\",baş!G6)","v":4},{"$f":"IF(baş!H6=\"\",\"\",baş!H6)","v":83},{"$f":"IF(baş!I6=\"\",\"\",baş!I6)","v":"MUHAMMET ALİ YILDIRIM"},3,3,3,3,3,3,3,3,3,3,3,3,3,3,3,3,3,3,3,3,3,3,3,3,3,3,3,3,3,3,3,3,3,3,3,3,3,3,3,3,3,3,3,3,3,3,3,3,3,3,3,3]
[{"$f":"IF(baş!G7=\"\",\"\",baş!G7)","v":5},{"$f":"IF(baş!H7=\"\",\"\",baş!H7)","v":93},{"$f":"IF(baş!I7=\"\",\"\",baş!I7)","v":"ERTUĞRUL GAZİ NAMLI"},3,3,3,3,3,3,3,3,3,3,3,3,3,3,3,3,3,3,3,3,3,3,3,3,3,3,3,3,3,3,3,3,3,3,3,3,3,3,3,3,3,3,3,3,3,3,3,3,3,3,3,3]
[{"$f":"IF(baş!G8=\"\",\"\",baş!G8)","v":6},{"$f":"IF(baş!H8=\"\",\"\",baş!H8)","v":100},{"$f":"IF(baş!I8=\"\",\"\",baş!I8)","v":"ECEM EFE"},3,3,3,3,3,3,3,3,3,3,3,3,3,3,3,3,3,3,3,3,3,3,3,3,3,3,3,3,3,3,3,3,3,3,3,3,3,3,3,3,3,3,3,3,3,3,3,3,3,3,3,3]
[{"$f":"IF(baş!G9=\"\",\"\",baş!G9)","v":7},{"$f":"IF(baş!H9=\"\",\"\",baş!H9)","v":105},{"$f":"IF(baş!I9=\"\",\"\",baş!I9)","v":"SELİM ZEKERİYA ÖZDEMİR"},3,3,3,3,3,3,3,3,3,3,3,3,3,3,3,3,3,3,3,3,3,3,3,3,3,3,3,3,3,3,3,3,3,3,3,3,3,3,3,3,3,3,3,3,3,3,3,3,3,3,3,3]
[{"$f":"IF(baş!G10=\"\",\"\",baş!G10)","v":8},{"$f":"IF(baş!H10=\"\",\"\",baş!H10)","v":108},{"$f":"IF(baş!I10=\"\",\"\",baş!I10)","v":"AREN KARAKAŞ"},3,3,3,3,3,3,3,3,3,3,3,3,3,3,3,3,3,3,3,3,3,3,3,3,3,3,3,3,3,3,3,3,3,3,3,3,3,3,3,3,3,3,3,3,3,3,3,3,3,3,3,3]
[{"$f":"IF(baş!G11=\"\",\"\",baş!G11)","v":9},{"$f":"IF(baş!H11=\"\",\"\",baş!H11)","v":111},{"$f":"IF(baş!I11=\"\",\"\",baş!I11)","v":"ZEHRA ŞAHİNOĞLU"},3,3,3,3,3,3,3,3,3,3,3,3,3,3,3,3,3,3,3,3,3,3,3,3,3,3,3,3,3,3,3,3,3,3,3,3,3,3,3,3,3,3,3,3,3,3,3,3,3,3,3,3]
[{"$f":"IF(baş!G12=\"\",\"\",baş!G12)","v":10},{"$f":"IF(baş!H12=\"\",\"\",baş!H12)","v":113},{"$f":"IF(baş!I12=\"\",\"\",baş!I12)","v":"YUSUF ALİ TÜNÇ"},3,3,3,3,3,3,3,3,3,3,3,3,3,3,3,3,3,3,3,3,3,3,3,3,3,3,3,3,3,3,3,3,3,3,3,3,3,3,3,3,3,3,3,3,3,3,3,3,3,3,3,3]
[{"$f":"IF(baş!G13=\"\",\"\",baş!G13)","v":11},{"$f":"IF(baş!H13=\"\",\"\",baş!H13)","v":161},{"$f":"IF(baş!I13=\"\",\"\",baş!I13)","v":"HÜSEYİN CELAYİR"},3,3,3,3,3,3,3,3,3,3,3,3,3,3,3,3,3,3,3,3,3,3,3,3,3,3,3,3,3,3,3,3,3,3,3,3,3,3,3,3,3,3,3,3,3,3,3,3,3,3,3,3]
[{"$f":"IF(baş!G14=\"\",\"\",baş!G14)","v":12},{"$f":"IF(baş!H14=\"\",\"\",baş!H14)","v":177},{"$f":"IF(baş!I14=\"\",\"\",baş!I14)","v":"YİĞİT EFE YEŞİLDAL"},3,3,3,3,3,3,3,3,3,3,3,3,3,3,3,3,3,3,3,3,3,3,3,3,3,3,3,3,3,3,3,3,3,3,3,3,3,3,3,3,3,3,3,3,3,3,3,3,3,3,3,3]
[{"$f":"IF(baş!G15=\"\",\"\",baş!G15)","v":13},{"$f":"IF(baş!H15=\"\",\"\",baş!H15)","v":187},{"$f":"IF(baş!I15=\"\",\"\",baş!I15)","v":"HALEF TAHA ATEŞ"},3,3,3,3,3,3,3,3,3,3,3,3,3,3,3,3,3,3,3,3,3,3,3,3,3,3,3,3,3,3,3,3,3,3,3,3,3,3,3,3,3,3,3,3,3,3,3,3,3,3,3,3]
[{"$f":"IF(baş!G16=\"\",\"\",baş!G16)","v":14},{"$f":"IF(baş!H16=\"\",\"\",baş!H16)","v":188},{"$f":"IF(baş!I16=\"\",\"\",baş!I16)","v":"EMİRHAN MERTOĞLU"},3,3,3,3,3,3,3,3,3,3,3,3,3,3,3,3,3,3,3,3,3,3,3,3,3,3,3,3,3,3,3,3,3,3,3,3,3,3,3,3,3,3,3,3,3,3,3,3,3,3,3,3]
[{"$f":"IF(baş!G17=\"\",\"\",baş!G17)","v":15},{"$f":"IF(baş!H17=\"\",\"\",baş!H17)","v":189},{"$f":"IF(baş!I17=\"\",\"\",baş!I17)","v":"EMİNE GÜVEN"},3,3,3,3,3,3,3,3,3,3,3,3,3,3,3,3,3,3,3,3,3,3,3,3,3,3,3,3,3,3,3,3,3,3,3,3,3,3,3,3,3,3,3,3,3,3,3,3,3,3,3,3]
[{"$f":"IF(baş!G18=\"\",\"\",baş!G18)","v":16},{"$f":"IF(baş!H18=\"\",\"\",baş!H18)","v":213},{"$f":"IF(baş!I18=\"\",\"\",baş!I18)","v":"YAĞMUR KILIÇ"},3,3,3,3,3,3,3,3,3,3,3,3,3,3,3,3,3,3,3,3,3,3,3,3,3,3,3,3,3,3,3,3,3,3,3,3,3,3,3,3,3,3,3,3,3,3,3,3,3,3,3,3]
[{"$f":"IF(baş!G19=\"\",\"\",baş!G19)","v":17},{"$f":"IF(baş!H19=\"\",\"\",baş!H19)","v":214},{"$f":"IF(baş!I19=\"\",\"\",baş!I19)","v":"ERDAL GÜLATAR"},3,3,3,3,3,3,3,3,3,3,3,3,3,3,3,3,3,3,3,3,3,3,3,3,3,3,3,3,3,3,3,3,3,3,3,3,3,3,3,3,3,3,3,3,3,3,3,3,3,3,3,3]
[{"$f":"IF(baş!G20=\"\",\"\",baş!G20)","v":18},{"$f":"IF(baş!H20=\"\",\"\",baş!H20)","v":216},{"$f":"IF(baş!I20=\"\",\"\",baş!I20)","v":"GAMZE ACAR"},3,3,3,3,3,3,3,3,3,3,3,3,3,3,3,3,3,3,3,3,3,3,3,3,3,3,3,3,3,3,3,3,3,3,3,3,3,3,3,3,3,3,3,3,3,3,3,3,3,3,3,3]
[{"$f":"IF(baş!G21=\"\",\"\",baş!G21)","v":19},{"$f":"IF(baş!H21=\"\",\"\",baş!H21)","v":222},{"$f":"IF(baş!I21=\"\",\"\",baş!I21)","v":"HİRANUR DOĞANDEMİR"},3,3,3,3,3,3,3,3,3,3,3,3,3,3,3,3,3,3,3,3,3,3,3,3,3,3,3,3,3,3,3,3,3,3,3,3,3,3,3,3,3,3,3,3,3,3,3,3,3,3,3,3]
[{"$f":"IF(baş!G22=\"\",\"\",baş!G22)","v":20},{"$f":"IF(baş!H22=\"\",\"\",baş!H22)","v":224},{"$f":"IF(baş!I22=\"\",\"\",baş!I22)","v":"TALHA YILMAZ"},3,3,3,3,3,3,3,3,3,3,3,3,3,3,3,3,3,3,3,3,3,3,3,3,3,3,3,3,3,3,3,3,3,3,3,3,3,3,3,3,3,3,3,3,3,3,3,3,3,3,3,3]
[{"$f":"IF(baş!G23=\"\",\"\",baş!G23)","v":21},{"$f":"IF(baş!H23=\"\",\"\",baş!H23)","v":225},{"$f":"IF(baş!I23=\"\",\"\",baş!I23)","v":"YUSUF EMİR DAĞDÖGEN"},3,3,3,3,3,3,3,3,3,3,3,3,3,3,3,3,3,3,3,3,3,3,3,3,3,3,3,3,3,3,3,3,3,3,3,3,3,3,3,3,3,3,3,3,3,3,3,3,3,3,3,3]
[{"$f":"IF(baş!G24=\"\",\"\",baş!G24)","v":22},{"$f":"IF(baş!H24=\"\",\"\",baş!H24)","v":226},{"$f":"IF(baş!I24=\"\",\"\",baş!I24)","v":"İMREN CANPOLAT"},3,3,3,3,3,3,3,3,3,3,3,3,3,3,3,3,{"$f":"AVERAGE(P24:S24)","v":3},3,3,3,3,3,3,3,3,3,3,3,3,3,3,3,3,3,3,3,3,3,3,3,3,3,3,3,3,3,3,3,3,3,3,3]
[{"$f":"IF(baş!G25=\"\",\"\",baş!G25)","v":23},{"$f":"IF(baş!H25=\"\",\"\",baş!H25)","v":227},{"$f":"IF(baş!I25=\"\",\"\",baş!I25)","v":"ZEYNEP CANPOLAT"},3,3,3,3,3,3,3,3,3,3,3,3,3,3,3,3,3,3,3,3,3,3,3,3,3,3,3,3,3,3,3,3,3,3,3,3,3,3,3,3,3,3,3,3,3,3,3,3,3,3,3,3]
[{"$f":"IF(baş!G26=\"\",\"\",baş!G26)","v":24},{"$f":"IF(baş!H26=\"\",\"\",baş!H26)","v":229},{"$f":"IF(baş!I26=\"\",\"\",baş!I26)","v":"MERYEM PARMAK"},3,3,3,3,3,3,3,3,3,3,3,3,3,3,3,3,3,3,3,3,3,3,3,3,3,3,3,3,3,3,3,3,3,3,3,3,3,3,3,3,3,3,3,3,3,3,3,3,3,3,3,3]
[{"$f":"IF(baş!G27=\"\",\"\",baş!G27)","v":25},{"$f":"IF(baş!H27=\"\",\"\",baş!H27)","v":237},{"$f":"IF(baş!I27=\"\",\"\",baş!I27)","v":"ZEYNEP MİRAY BOYRAZ"},3,3,3,3,3,3,3,3,3,3,3,3,3,3,3,3,3,3,3,3,3,3,3,3,3,3,3,3,3,3,3,3,3,3,3,3,3,3,3,3,3,3,3,3,3,3,3,3,3,3,3,3]
[{"$f":"IF(baş!G28=\"\",\"\",baş!G28)","v":26},{"$f":"IF(baş!H28=\"\",\"\",baş!H28)","v":244},{"$f":"IF(baş!I28=\"\",\"\",baş!I28)","v":"TAMER ŞEKERCİLEROĞLU"},3,3,3,3,3,3,3,3,3,3,3,3,3,3,3,3,3,3,3,3,3,3,3,3,3,3,3,3,3,3,3,3,3,3,3,3,3,3,3,3,3,3,3,3,3,3,3,3,3,3,3,3]
[{"$f":"IF(baş!G29=\"\",\"\",baş!G29)","v":27},{"$f":"IF(baş!H29=\"\",\"\",baş!H29)","v":263},{"$f":"IF(baş!I29=\"\",\"\",baş!I29)","v":"MUHAMMED YUSUF YILMAZ"},3,3,3,3,3,3,3,3,3,3,3,3,3,3,3,3,3,3,3,3,3,3,3,3,3,3,3,3,3,3,3,3,3,3,3,3,3,3,3,3,3,3,3,3,3,3,3,3,3,3,3,3]
[{"$f":"IF(baş!G30=\"\",\"\",baş!G30)","v":28},{"$f":"IF(baş!H30=\"\",\"\",baş!H30)","v":264},{"$f":"IF(baş!I30=\"\",\"\",baş!I30)","v":"OĞUZHAN GÜRGÜZE"},3,3,3,3,3,3,3,3,3,3,3,3,3,3,3,3,3,3,3,3,3,3,3,3,3,3,3,3,3,3,3,3,3,3,3,3,3,3,3,3,3,3,3,3,3,3,3,3,3,3,3,3]
[{"$f":"IF(baş!G31=\"\",\"\",baş!G31)","v":29},{"$f":"IF(baş!H31=\"\",\"\",baş!H31)","v":279},{"$f":"IF(baş!I31=\"\",\"\",baş!I31)","v":"MİHRİMA EKİCİ"},3,3,3,3,3,3,3,3,3,3,3,3,3,3,3,3,3,3,3,3,3,3,3,3,3,3,3,3,3,3,3,3,3,3,3,3,3,3,3,3,3,3,3,3,3,3,3,3,3,3,3,3]
[{"$f":"IF(baş!G32=\"\",\"\",baş!G32)","v":30},{"$f":"IF(baş!H32=\"\",\"\",baş!H32)","v":290},{"$f":"IF(baş!I32=\"\",\"\",baş!I32)","v":"NİSA NUR YILDIZ"},3,3,3,3,3,3,3,3,3,3,3,3,3,3,3,3,3,3,3,3,3,3,3,3,3,3,3,3,3,3,3,3,3,3,3,3,3,3,3,3,3,3,3,3,3,3,3,3,3,3,3,3]
[{"$f":"IF(baş!G33=\"\",\"\",baş!G33)","v":31},{"$f":"IF(baş!H33=\"\",\"\",baş!H33)","v":293},{"$f":"IF(baş!I33=\"\",\"\",baş!I33)","v":"MEHMET ALATAŞ"},3,3,3,3,3,3,3,3,3,3,3,3,3,3,3,3,3,3,3,3,3,3,3,3,3,3,3,3,3,3,3,3,3,3,3,3,3,3,3,3,3,3,3,3,3,3,3,3,3,3,3,3]
[{"$f":"IF(baş!G34=\"\",\"\",baş!G34)","v":32},{"$f":"IF(baş!H34=\"\",\"\",baş!H34)","v":451},{"$f":"IF(baş!I34=\"\",\"\",baş!I34)","v":"İKRA YILDIRIM"},3,3,3,3,3,3,3,3,3,3,3,3,3,3,3,3,3,3,3,3,3,3,3,3,3,3,3,3,3,3,3,3,3,3,3,3,3,3,3,3,3,3,3,3,3,3,3,3,3,3,3,3]
[{"$f":"IF(baş!G35=\"\",\"\",baş!G35)","v":33},{"$f":"IF(baş!H35=\"\",\"\",baş!H35)","v":616},{"$f":"IF(baş!I35=\"\",\"\",baş!I35)","v":"EDA TURAL"},3,3,3,3,3,3,3,3,3,3,3,3,3,3,3,3,3,3,3,3,3,3,3,3,3,3,3,3,3,3,3,3,3,3,3,3,3,3,3,3,3,3,3,3,3,3,3,3,3,3,3,3]
[{"$f":"IF(baş!G36=\"\",\"\",baş!G36)","v":34},{"$f":"IF(baş!H36=\"\",\"\",baş!H36)","v":892},{"$f":"IF(baş!I36=\"\",\"\",baş!I36)","v":"ALMA ALRAMADAN"},3,3,3,3,3,3,3,3,3,3,3,3,3,3,3,3,3,3,3,3,3,3,3,3,3,3,3,3,3,3,3,3,3,3,3,3,3,3,3,3,3,3,3,3,3,3,3,3,3,3,3,3]
[{"$f":"IF(baş!G37=\"\",\"\",baş!G37)","v":35},{"$f":"IF(baş!H37=\"\",\"\",baş!H37)","v":1000},{"$f":"IF(baş!I37=\"\",\"\",baş!I37)","v":"TURGUT POLAT"},3,3,3,3,3,3,3,3,3,3,3,3,3,3,3,3,3,3,3,3,3,3,3,3,3,3,3,3,3,3,3,3,3,3,3,3,3,3,3,3,3,3,3,3,3,3,3,3,3,3,3,3]
[{"$f":"IF(baş!G38=\"\",\"\",baş!G38)","v":""},{"$f":"IF(baş!H38=\"\",\"\",baş!H38)","v":""},{"$f":"IF(baş!I38=\"\",\"\",baş!I38)","v":""},3,3,3,3,3,3,3,3,3,3,3,3,3,3,3,3,3,3,3,3,3,3,3,3,3,3,3,3,3,3,3,3,3,3,3,3,3,3,3,3,3,3,3,3,3,3,3,3,3,3,3,3]
[{"$f":"IF(baş!G39=\"\",\"\",baş!G39)","v":""},{"$f":"IF(baş!H39=\"\",\"\",baş!H39)","v":""},{"$f":"IF(baş!I39=\"\",\"\",baş!I39)","v":""},3,3,3,3,3,3,3,3,3,3,3,3,3,3,3,3,3,3,3,3,3,3,3,3,3,3,3,3,3,3,3,3,3,3,3,3,3,3,3,3,3,3,3,3,3,3,3,3,3,3,3,3]
[{"$f":"IF(baş!G40=\"\",\"\",baş!G40)","v":""},{"$f":"IF(baş!H40=\"\",\"\",baş!H40)","v":""},{"$f":"IF(baş!I40=\"\",\"\",baş!I40)","v":""},3,3,3,3,3,3,3,3,3,3,3,3,3,3,3,3,3,3,3,3,3,3,3,3,3,3,3,3,3,3,3,3,3,3,3,3,3,3,3,3,3,3,3,3,3,3,3,3,3,3,3,3]
[{"$f":"IF(baş!G41=\"\",\"\",baş!G41)","v":""},{"$f":"IF(baş!H41=\"\",\"\",baş!H41)","v":""},{"$f":"IF(baş!I41=\"\",\"\",baş!I41)","v":""},3,3,3,3,3,3,3,3,3,3,3,3,3,3,3,3,3,3,3,3,3,3,3,3,3,3,3,3,3,3,3,3,3,3,3,3,3,3,3,3,3,3,3,3,3,3,3,3,3,3,3,3]
[{"$f":"IF(baş!G42=\"\",\"\",baş!G42)","v":""},{"$f":"IF(baş!H42=\"\",\"\",baş!H42)","v":""},{"$f":"IF(baş!I42=\"\",\"\",baş!I42)","v":""},3,3,3,3,3,3,3,3,3,3,3,3,3,3,3,3,3,3,3,3,3,3,3,3,3,3,3,3,3,3,3,3,3,3,3,3,3,3,3,3,3,3,3,3,3,3,3,3,3,3,3,3]
[{"$f":"IF(baş!G43=\"\",\"\",baş!G43)","v":""},{"$f":"IF(baş!H43=\"\",\"\",baş!H43)","v":""},{"$f":"IF(baş!I43=\"\",\"\",baş!I43)","v":""},3,3,3,3,3,3,3,3,3,3,3,3,3,3,3,3,3,3,3,3,3,3,3,3,3,3,3,3,3,3,3,3,3,3,3,3,3,3,3,3,3,3,3,3,3,3,3,3,3,3,3,3]
[{"$f":"IF(baş!G44=\"\",\"\",baş!G44)","v":""},{"$f":"IF(baş!H44=\"\",\"\",baş!H44)","v":""},{"$f":"IF(baş!I44=\"\",\"\",baş!I44)","v":""},3,3,3,3,3,3,3,3,3,3,3,3,3,3,3,3,3,3,3,3,3,3,3,3,3,3,3,3,3,3,3,3,3,3,3,3,3,3,3,3,3,3,3,3,3,3,3,3,3,3,3,3]
[{"$f":"IF(baş!G45=\"\",\"\",baş!G45)","v":""},{"$f":"IF(baş!H45=\"\",\"\",baş!H45)","v":""},{"$f":"IF(baş!I45=\"\",\"\",baş!I45)","v":""},3,3,3,3,3,3,3,3,3,3,3,3,3,3,3,3,3,3,3,3,3,3,3,3,3,3,3,3,3,3,3,3,3,3,3,3,3,3,3,3,3,3,3,3,3,3,3,3,3,3,3,3]
[{"$f":"IF(baş!G46=\"\",\"\",baş!G46)","v":""},{"$f":"IF(baş!H46=\"\",\"\",baş!H46)","v":""},{"$f":"IF(baş!I46=\"\",\"\",baş!I46)","v":""},3,3,3,3,3,3,3,3,3,3,3,3,3,3,3,3,3,3,3,3,3,3,3,3,3,3,3,3,3,3,3,3,3,3,3,3,3,3,3,3,3,3,3,3,3,3,3,3,3,3,3,3]
[{"$f":"IF(baş!G47=\"\",\"\",baş!G47)","v":""},{"$f":"IF(baş!H47=\"\",\"\",baş!H47)","v":""},{"$f":"IF(baş!I47=\"\",\"\",baş!I47)","v":""},3,3,3,3,3,3,3,3,3,3,3,3,3,3,3,3,3,3,3,3,3,3,3,3,3,3,3,3,3,3,3,3,3,3,3,3,3,3,3,3,3,3,3,3,3,3,3,3,3,3,3,3]
[{"$f":"IF(baş!G48=\"\",\"\",baş!G48)","v":""},{"$f":"IF(baş!H48=\"\",\"\",baş!H48)","v":""},{"$f":"IF(baş!I48=\"\",\"\",baş!I48)","v":""},3,3,3,3,3,3,3,3,3,3,3,3,3,3,3,3,3,3,3,3,3,3,3,3,3,3,3,3,3,3,3,3,3,3,3,3,3,3,3,3,3,3,3,3,3,3,3,3,3,3,3,3]
[{"$f":"IF(baş!G49=\"\",\"\",baş!G49)","v":""},{"$f":"IF(baş!H49=\"\",\"\",baş!H49)","v":""},{"$f":"IF(baş!I49=\"\",\"\",baş!I49)","v":""},3,3,3,3,3,3,3,3,3,3,3,3,3,3,3,3,3,3,3,3,3,3,3,3,3,3,3,3,3,3,3,3,3,3,3,3,3,3,3,3,3,3,3,3,3,3,3,3,3,3,3,3]
[{"$f":"IF(baş!G50=\"\",\"\",baş!G50)","v":""},{"$f":"IF(baş!H50=\"\",\"\",baş!H50)","v":""},{"$f":"IF(baş!I50=\"\",\"\",baş!I50)","v":""},3,3,3,3,3,3,3,3,3,3,3,3,3,3,3,3,3,3,3,3,3,3,3,3,3,3,3,3,3,3,3,3,3,3,3,3,3,3,3,3,3,3,3,3,3,3,3,3,3,3,3,3]
[{"$f":"IF(baş!G51=\"\",\"\",baş!G51)","v":""},{"$f":"IF(baş!H51=\"\",\"\",baş!H51)","v":""},{"$f":"IF(baş!I51=\"\",\"\",baş!I51)","v":""},3,3,3,3,3,3,3,3,3,3,3,3,3,3,3,3,3,3,3,3,3,3,3,3,3,3,3,3,3,3,3,3,3,3,3,3,3,3,3,3,3,3,3,3,3,3,3,3,3,3,3,3]
[{"$f":"IF(baş!G52=\"\",\"\",baş!G52)","v":""},{"$f":"IF(baş!H52=\"\",\"\",baş!H52)","v":""},{"$f":"IF(baş!I52=\"\",\"\",baş!I52)","v":""},3,3,3,3,3,3,3,3,3,3,3,3,3,3,3,3,3,3,3,3,3,3,3,3,3,3,3,3,3,3,3,3,3,3,3,3,3,3,3,3,3,3,3,3,3,3,3,3,3,3,3,3]
[{"$f":"IF(baş!G53=\"\",\"\",baş!G53)","v":""},{"$f":"IF(baş!H53=\"\",\"\",baş!H53)","v":""},{"$f":"IF(baş!I53=\"\",\"\",baş!I53)","v":""},3,3,3,3,3,3,3,3,3,3,3,3,3,3,3,3,3,3,3,3,3,3,3,3,3,3,3,3,3,3,3,3,3,3,3,3,3,3,3,3,3,3,3,3,3,3,3,3,3,3,3,3]
[{"$f":"IF(baş!G54=\"\",\"\",baş!G54)","v":""},{"$f":"IF(baş!H54=\"\",\"\",baş!H54)","v":""},{"$f":"IF(baş!I54=\"\",\"\",baş!I54)","v":""},3,3,3,3,3,3,3,3,3,3,3,3,3,3,3,3,3,3,3,3,3,3,3,3,3,3,3,3,3,3,3,3,3,3,3,3,3,3,3,3,3,3,3,3,3,3,3,3,3,3,3,3]
[{"$f":"IF(baş!G55=\"\",\"\",baş!G55)","v":""},{"$f":"IF(baş!H55=\"\",\"\",baş!H55)","v":""},{"$f":"IF(baş!I55=\"\",\"\",baş!I55)","v":""},3,3,3,3,3,3,3,3,3,3,3,3,3,3,3,3,3,3,3,3,3,3,3,3,3,3,3,3,3,3,3,3,3,3,3,3,3,3,3,3,3,3,3,3,3,3,3,3,3,3,3,3]
[{"$f":"IF(baş!G56=\"\",\"\",baş!G56)","v":""},{"$f":"IF(baş!H56=\"\",\"\",baş!H56)","v":""},{"$f":"IF(baş!I56=\"\",\"\",baş!I56)","v":""},3,3,3,3,3,3,3,3,3,3,3,3,3,3,3,3,3,3,3,3,3,3,3,3,3,3,3,3,3,3,3,3,3,3,3,3,3,3,3,3,3,3,3,3,3,3,3,3,3,3,3,3]
[{"$f":"IF(baş!G57=\"\",\"\",baş!G57)","v":""},{"$f":"IF(baş!H57=\"\",\"\",baş!H57)","v":""},{"$f":"IF(baş!I57=\"\",\"\",baş!I57)","v":""},3,3,3,3,3,3,3,3,3,3,3,3,3,3,3,3,3,3,3,3,3,3,3,3,3,3,3,3,3,3,3,3,3,3,3,3,3,3,3,3,3,3,3,3,3,3,3,3,3,3,3,3]
[{"$f":"IF(baş!G58=\"\",\"\",baş!G58)","v":""},{"$f":"IF(baş!H58=\"\",\"\",baş!H58)","v":""},{"$f":"IF(baş!I58=\"\",\"\",baş!I58)","v":""},3,3,3,3,3,3,3,3,3,3,3,3,3,3,3,3,3,3,3,3,3,3,3,3,3,3,3,3,3,3,3,3,3,3,3,3,3,3,3,3,3,3,3,3,3,3,3,3,3,3,3,3]
[{"$f":"IF(baş!G59=\"\",\"\",baş!G59)","v":""},{"$f":"IF(baş!H59=\"\",\"\",baş!H59)","v":""},{"$f":"IF(baş!I59=\"\",\"\",baş!I59)","v":""},3,3,3,3,3,3,3,3,3,3,3,3,3,3,3,3,3,3,3,3,3,3,3,3,3,3,3,3,3,3,3,3,3,3,3,3,3,3,3,3,3,3,3,3,3,3,3,3,3,3,3,3]
[{"$f":"IF(baş!G60=\"\",\"\",baş!G60)","v":""},{"$f":"IF(baş!H60=\"\",\"\",baş!H60)","v":""},{"$f":"IF(baş!I60=\"\",\"\",baş!I60)","v":""},3,3,3,3,3,3,3,3,3,3,3,3,3,3,3,3,3,3,3,3,3,3,3,3,3,3,3,3,3,3,3,3,3,3,3,3,3,3,3,3,3,3,3,3,3,3,3,3,3,3,3,3]
[{"$f":"IF(baş!G61=\"\",\"\",baş!G61)","v":""},{"$f":"IF(baş!H61=\"\",\"\",baş!H61)","v":""},{"$f":"IF(baş!I61=\"\",\"\",baş!I61)","v":""},3,3,3,3,3,3,3,3,3,3,3,3,3,3,3,3,3,3,3,3,3,3,3,3,3,3,3,3,3,3,3,3,3,3,3,3,3,3,3,3,3,3,3,3,3,3,3,3,3,3,3,3]
[{"$f":"IF(baş!G62=\"\",\"\",baş!G62)","v":""},{"$f":"IF(baş!H62=\"\",\"\",baş!H62)","v":""},{"$f":"IF(baş!I62=\"\",\"\",baş!I62)","v":""},3,3,3,3,3,3,3,3,3,3,3,3,3,3,3,3,3,3,3,3,3,3,3,3,3,3,3,3,3,3,3,3,3,3,3,3,3,3,3,3,3,3,3,3,3,3,3,3,3,3,3,3]
[{"$f":"IF(baş!G63=\"\",\"\",baş!G63)","v":""},{"$f":"IF(baş!H63=\"\",\"\",baş!H63)","v":""},{"$f":"IF(baş!I63=\"\",\"\",baş!I63)","v":""},3,3,3,3,3,3,3,3,3,3,3,3,3,3,3,3,3,3,3,3,3,3,3,3,3,3,3,3,3,3,3,3,3,3,3,3,3,3,3,3,3,3,3,3,3,3,3,3,3,3,3,3]
[{"$f":"IF(baş!G64=\"\",\"\",baş!G64)","v":""},{"$f":"IF(baş!H64=\"\",\"\",baş!H64)","v":""},{"$f":"IF(baş!I64=\"\",\"\",baş!I64)","v":""},3,3,3,3,3,3,3,3,3,3,3,3,3,3,3,3,3,3,3,3,3,3,3,3,3,3,3,3,3,3,3,3,3,3,3,3,3,3,3,3,3,3,3,3,3,3,3,3,3,3,3,3]
[{"$f":"IF(baş!G65=\"\",\"\",baş!G65)","v":""},{"$f":"IF(baş!H65=\"\",\"\",baş!H65)","v":""},{"$f":"IF(baş!I65=\"\",\"\",baş!I65)","v":""},3,3,3,3,3,3,3,3,3,3,3,3,3,3,3,3,3,3,3,3,3,3,3,3,3,3,3,3,3,3,3,3,3,3,3,3,3,3,3,3,3,3,3,3,3,3,3,3,3,3,3,3]
[{"$f":"IF(baş!G66=\"\",\"\",baş!G66)","v":""},{"$f":"IF(baş!H66=\"\",\"\",baş!H66)","v":""},{"$f":"IF(baş!I66=\"\",\"\",baş!I66)","v":""},3,3,3,3,3,3,3,3,3,3,3,3,3,3,3,3,3,3,3,3,3,3,3,3,3,3,3,3,3,3,3,3,3,3,3,3,3,3,3,3,3,3,3,3,3,3,3,3,3,3,3,3]
[{"$f":"IF(baş!G67=\"\",\"\",baş!G67)","v":""},{"$f":"IF(baş!H67=\"\",\"\",baş!H67)","v":""},{"$f":"IF(baş!I67=\"\",\"\",baş!I67)","v":""},3,3,3,3,3,3,3,3,3,3,3,3,3,3,3,3,3,3,3,3,3,3,3,3,3,3,3,3,3,3,3,3,3,3,3,3,3,3,3,3,3,3,3,3,3,3,3,3,3,3,3,3]
[{"$f":"IF(baş!G68=\"\",\"\",baş!G68)","v":""},{"$f":"IF(baş!H68=\"\",\"\",baş!H68)","v":""},{"$f":"IF(baş!I68=\"\",\"\",baş!I68)","v":""},3,3,3,3,3,3,3,3,3,3,3,{"$f":"AVERAGE(K68:N68)","v":3},3,3,3,3,{"$f":"AVERAGE(P68:S68)","v":3},3,3,3,3,3,3,{"$f":"AVERAGE(U68:Z68)","v":3},3,3,3,3,{"$f":"AVERAGE(AB68:AE68)","v":3},3,3,3,3,3,{"$f":"AVERAGE(AG68:AK68)","v":3},3,3,3,{"$f":"AVERAGE(AM68:AO68)","v":3},3,3,3,{"$f":"AVERAGE(AQ68:AS68)","v":3},3,3,3,{"$f":"AVERAGE(AU68:AW68)","v":3},3,3,3,3,{"$f":"AVERAGE(AY68:BB68)","v":3}]
[{"$f":"IF(baş!G69=\"\",\"\",baş!G69)","v":""},{"$f":"IF(baş!H69=\"\",\"\",baş!H69)","v":""},{"$f":"IF(baş!I69=\"\",\"\",baş!I69)","v":""},3,3,3,3,3,3,{"$f":"AVERAGE(D69:I69)","v":3},3,3,3,3,3,3,3,3,3,3,3,3,3,3,3,3,3,3,3,3,3,3,3,3,3,3,3,3,3,3,3,3,3,3,3,3,3,3,3,3,3,3,3,3,3]
[{"$f":"IF(baş!G70=\"\",\"\",baş!G70)","v":""},{"$f":"IF(baş!H70=\"\",\"\",baş!H70)","v":""},{"$f":"IF(baş!I70=\"\",\"\",baş!I70)","v":""},3,3,3,3,3,3,3,3,3,3,3,3,3,3,3,3,3,3,3,3,3,3,3,3,3,3,3,3,3,3,3,3,3,3,3,3,3,3,3,3,3,3,3,3,3,3,3,3,3,3,3,3]
[{"$f":"IF(baş!G71=\"\",\"\",baş!G71)","v":""},{"$f":"IF(baş!H71=\"\",\"\",baş!H71)","v":""},{"$f":"IF(baş!I71=\"\",\"\",baş!I71)","v":""},3,3,3,3,3,3,3,3,3,3,3,3,3,3,3,3,3,3,3,3,3,3,3,3,3,3,3,3,3,3,3,3,3,3,3,3,3,3,3,3,3,3,3,3,3,3,3,3,3,3,3,3]
[{"$f":"IF(baş!G72=\"\",\"\",baş!G72)","v":""},{"$f":"IF(baş!H72=\"\",\"\",baş!H72)","v":""},{"$f":"IF(baş!I72=\"\",\"\",baş!I72)","v":""},3,3,3,3,3,3,3,3,3,3,3,3,3,3,3,3,3,3,3,3,3,3,3,3,3,3,3,3,3,3,3,3,3,3,3,3,3,3,3,3,3,3,3,3,3,3,3,3,3,3,3,3]
[{"$f":"IF(baş!G73=\"\",\"\",baş!G73)","v":""},{"$f":"IF(baş!H73=\"\",\"\",baş!H73)","v":""},{"$f":"IF(baş!I73=\"\",\"\",baş!I73)","v":""},3,3,3,3,3,3,3,3,3,3,3,3,3,3,3,3,3,3,3,3,3,3,3,3,3,3,3,3,3,3,3,3,3,3,3,3,3,3,3,3,3,3,3,3,3,3,3,3,3,3,3,3]
[{"$f":"IF(baş!G74=\"\",\"\",baş!G74)","v":""},{"$f":"IF(baş!H74=\"\",\"\",baş!H74)","v":""},{"$f":"IF(baş!I74=\"\",\"\",baş!I74)","v":""},3,3,3,3,3,3,3,3,3,3,3,3,3,3,3,3,3,3,3,3,3,3,3,3,3,3,3,3,3,3,3,3,3,3,3,3,3,3,3,3,3,3,3,3,3,3,3,3,3,3,3,3]
[{"$f":"IF(baş!G75=\"\",\"\",baş!G75)","v":""},{"$f":"IF(baş!H75=\"\",\"\",baş!H75)","v":""},{"$f":"IF(baş!I75=\"\",\"\",baş!I75)","v":""},3,3,3,3,3,3,3,3,3,3,3,3,3,3,3,3,3,3,3,3,3,3,3,3,3,3,3,3,3,3,3,3,3,3,3,3,3,3,3,3,3,3,3,3,3,3,3,3,3,3,3,3]
[{"$f":"IF(baş!G76=\"\",\"\",baş!G76)","v":""},{"$f":"IF(baş!H76=\"\",\"\",baş!H76)","v":""},{"$f":"IF(baş!I76=\"\",\"\",baş!I76)","v":""},3,3,3,3,3,3,3,3,3,3,3,3,3,3,3,3,3,3,3,3,3,3,3,3,3,3,3,3,3,3,3,3,3,3,3,3,3,3,3,3,3,3,3,3,3,3,3,3,3,3,3,3]
[{"$f":"IF(baş!G77=\"\",\"\",baş!G77)","v":""},{"$f":"IF(baş!H77=\"\",\"\",baş!H77)","v":""},{"$f":"IF(baş!I77=\"\",\"\",baş!I77)","v":""},3,3,3,3,3,3,3,3,3,3,3,3,3,3,3,3,3,3,3,3,3,3,3,3,3,3,3,3,3,3,3,3,3,3,3,3,3,3,3,3,3,3,3,3,3,3,3,3,3,3,3,3]
[{"$f":"IF(baş!G78=\"\",\"\",baş!G78)","v":""},{"$f":"IF(baş!H78=\"\",\"\",baş!H78)","v":""},{"$f":"IF(baş!I78=\"\",\"\",baş!I78)","v":""},3,3,3,3,3,3,3,3,3,3,3,3,3,3,3,3,3,3,3,3,3,3,3,3,3,3,3,3,3,3,3,3,3,3,3,3,3,3,3,3,3,3,3,3,3,3,3,3,3,3,3,3]
[{"$f":"IF(baş!G79=\"\",\"\",baş!G79)","v":""},{"$f":"IF(baş!H79=\"\",\"\",baş!H79)","v":""},{"$f":"IF(baş!I79=\"\",\"\",baş!I79)","v":""},3,3,3,3,3,3,3,3,3,3,3,3,3,3,3,3,3,3,3,3,3,3,3,3,3,3,3,3,3,3,3,3,3,3,3,3,3,3,3,3,3,3,3,3,3,3,3,3,3,3,3,3]
[{"$f":"IF(baş!G80=\"\",\"\",baş!G80)","v":""},{"$f":"IF(baş!H80=\"\",\"\",baş!H80)","v":""},{"$f":"IF(baş!I80=\"\",\"\",baş!I80)","v":""},3,3,3,3,3,3,3,3,3,3,3,3,3,3,3,3,3,3,3,3,3,3,3,3,3,3,3,3,3,3,3,3,3,3,3,3,3,3,3,3,3,3,3,3,3,3,3,3,3,3,3,3]
[{"$f":"IF(baş!G81=\"\",\"\",baş!G81)","v":""},{"$f":"IF(baş!H81=\"\",\"\",baş!H81)","v":""},{"$f":"IF(baş!I81=\"\",\"\",baş!I81)","v":""},3,3,3,3,3,3,3,3,3,3,3,3,3,3,3,3,3,3,3,3,3,3,3,3,3,3,3,3,3,3,3,3,3,3,3,3,3,3,3,3,3,3,3,3,3,3,3,3,3,3,3,3]
[{"$f":"IF(baş!G82=\"\",\"\",baş!G82)","v":""},{"$f":"IF(baş!H82=\"\",\"\",baş!H82)","v":""},{"$f":"IF(baş!I82=\"\",\"\",baş!I82)","v":""},3,3,3,3,3,3,3,3,3,3,3,3,3,3,3,3,3,3,3,3,3,3,3,3,3,3,3,3,3,3,3,3,3,3,3,3,3,3,3,3,3,3,3,3,3,3,3,3,3,3,3,3]
[{"$f":"IF(baş!G83=\"\",\"\",baş!G83)","v":""},{"$f":"IF(baş!H83=\"\",\"\",baş!H83)","v":""},{"$f":"IF(baş!I83=\"\",\"\",baş!I83)","v":""},3,3,3,3,3,3,3,3,3,3,3,3,3,3,3,3,3,3,3,3,3,3,3,3,3,3,3,3,3,3,3,3,3,3,3,3,3,3,3,3,3,3,3,3,3,3,3,3,3,3,3,3]
[{"$f":"IF(baş!G84=\"\",\"\",baş!G84)","v":""},{"$f":"IF(baş!H84=\"\",\"\",baş!H84)","v":""},{"$f":"IF(baş!I84=\"\",\"\",baş!I84)","v":""},3,3,3,3,3,3,3,3,3,3,3,3,3,3,3,3,3,3,3,3,3,3,3,3,3,3,3,3,3,3,3,3,3,3,3,3,3,3,3,3,3,3,3,3,3,3,3,3,3,3,3,3]
[{"$f":"IF(baş!G85=\"\",\"\",baş!G85)","v":""},{"$f":"IF(baş!H85=\"\",\"\",baş!H85)","v":""},{"$f":"IF(baş!I85=\"\",\"\",baş!I85)","v":""},3,3,3,3,3,3,3,3,3,3,3,3,3,3,3,3,3,3,3,3,3,3,3,3,3,3,3,3,3,3,3,3,3,3,3,3,3,3,3,3,3,3,3,3,3,3,3,3,3,3,3,3]
[{"$f":"IF(baş!G86=\"\",\"\",baş!G86)","v":""},{"$f":"IF(baş!H86=\"\",\"\",baş!H86)","v":""},{"$f":"IF(baş!I86=\"\",\"\",baş!I86)","v":""},3,3,3,3,3,3,3,3,3,3,3,3,3,3,3,3,3,3,3,3,3,3,3,3,3,3,3,3,3,3,3,3,3,3,3,3,3,3,3,3,3,3,3,3,3,3,3,3,3,3,3,3]
[{"$f":"IF(baş!G87=\"\",\"\",baş!G87)","v":""},{"$f":"IF(baş!H87=\"\",\"\",baş!H87)","v":""},{"$f":"IF(baş!I87=\"\",\"\",baş!I87)","v":""},3,3,3,3,3,3,3,3,3,3,3,3,3,3,3,3,3,3,3,3,3,3,3,3,3,3,3,3,3,3,3,3,3,3,3,3,3,3,3,3,3,3,3,3,3,3,3,3,3,3,3,3]
[{"$f":"IF(baş!G88=\"\",\"\",baş!G88)","v":""},{"$f":"IF(baş!H88=\"\",\"\",baş!H88)","v":""},{"$f":"IF(baş!I88=\"\",\"\",baş!I88)","v":""},3,3,3,3,3,3,3,3,3,3,3,3,3,3,3,3,3,3,3,3,3,3,3,3,3,3,3,3,3,3,3,3,3,3,3,3,3,3,3,3,3,3,3,3,3,3,3,3,3,3,3,3]
[{"$f":"IF(baş!G89=\"\",\"\",baş!G89)","v":""},{"$f":"IF(baş!H89=\"\",\"\",baş!H89)","v":""},{"$f":"IF(baş!I89=\"\",\"\",baş!I89)","v":""},3,3,3,3,3,3,3,3,3,3,3,3,3,3,3,3,3,3,3,3,3,3,3,3,3,3,3,3,3,3,3,3,3,3,3,3,3,3,3,3,3,3,3,3,3,3,3,3,3,3,3,3]
[{"$f":"IF(baş!G90=\"\",\"\",baş!G90)","v":""},{"$f":"IF(baş!H90=\"\",\"\",baş!H90)","v":""},{"$f":"IF(baş!I90=\"\",\"\",baş!I90)","v":""},3,3,3,3,3,3,3,3,3,3,3,3,3,3,3,3,3,3,3,3,3,3,3,3,3,3,3,3,3,3,3,3,3,3,3,3,3,3,3,3,3,3,3,3,3,3,3,3,3,3,3,3]
[{"$f":"IF(baş!G91=\"\",\"\",baş!G91)","v":""},{"$f":"IF(baş!H91=\"\",\"\",baş!H91)","v":""},{"$f":"IF(baş!I91=\"\",\"\",baş!I91)","v":""},3,3,3,3,3,3,3,3,3,3,3,3,3,3,3,3,3,3,3,3,3,3,3,3,3,3,3,3,3,3,3,3,3,3,3,3,3,3,3,3,3,3,3,3,3,3,3,3,3,3,3,3]
[{"$f":"IF(baş!G92=\"\",\"\",baş!G92)","v":""},{"$f":"IF(baş!H92=\"\",\"\",baş!H92)","v":""},{"$f":"IF(baş!I92=\"\",\"\",baş!I92)","v":""},3,3,3,3,3,3,3,3,3,3,3,3,3,3,3,3,3,3,3,3,3,3,3,3,3,3,3,3,3,3,3,3,3,3,3,3,3,3,3,3,3,3,3,3,3,3,3,3,3,3,3,3]
[{"$f":"IF(baş!G93=\"\",\"\",baş!G93)","v":""},{"$f":"IF(baş!H93=\"\",\"\",baş!H93)","v":""},{"$f":"IF(baş!I93=\"\",\"\",baş!I93)","v":""},3,3,3,3,3,3,3,3,3,3,3,3,3,3,3,3,3,3,3,3,3,3,3,3,3,3,3,3,3,3,3,3,3,3,3,3,3,3,3,3,3,3,3,3,3,3,3,3,3,3,3,3]
[{"$f":"IF(baş!G94=\"\",\"\",baş!G94)","v":""},{"$f":"IF(baş!H94=\"\",\"\",baş!H94)","v":""},{"$f":"IF(baş!I94=\"\",\"\",baş!I94)","v":""},3,3,3,3,3,3,3,3,3,3,3,3,3,3,3,3,3,3,3,3,3,3,3,3,3,3,3,3,3,3,3,3,3,3,3,3,3,3,3,3,3,3,3,3,3,3,3,3,3,3,3,3]
[{"$f":"IF(baş!G95=\"\",\"\",baş!G95)","v":""},{"$f":"IF(baş!H95=\"\",\"\",baş!H95)","v":""},{"$f":"IF(baş!I95=\"\",\"\",baş!I95)","v":""},3,3,3,3,3,3,3,3,3,3,3,3,3,3,3,3,3,3,3,3,3,3,3,3,3,3,3,3,3,3,3,3,3,3,3,3,3,3,3,3,3,3,3,3,3,3,3,3,3,3,3,3]
[{"$f":"IF(baş!G96=\"\",\"\",baş!G96)","v":""},{"$f":"IF(baş!H96=\"\",\"\",baş!H96)","v":""},{"$f":"IF(baş!I96=\"\",\"\",baş!I96)","v":""},3,3,3,3,3,3,3,3,3,3,3,3,3,3,3,3,3,3,3,3,3,3,3,3,3,3,3,3,3,3,3,3,3,3,3,3,3,3,3,3,3,3,3,3,3,3,3,3,3,3,3,3]
[{"$f":"IF(baş!G97=\"\",\"\",baş!G97)","v":""},{"$f":"IF(baş!H97=\"\",\"\",baş!H97)","v":""},{"$f":"IF(baş!I97=\"\",\"\",baş!I97)","v":""},3,3,3,3,3,3,3,3,3,3,3,3,3,3,3,3,3,3,3,3,3,3,3,3,3,3,3,3,3,3,3,3,3,3,3,3,3,3,3,3,3,3,3,3,3,3,3,3,3,3,3,3]
[{"$f":"IF(baş!G98=\"\",\"\",baş!G98)","v":""},{"$f":"IF(baş!H98=\"\",\"\",baş!H98)","v":""},{"$f":"IF(baş!I98=\"\",\"\",baş!I98)","v":""},3,3,3,3,3,3,3,3,3,3,3,3,3,3,3,3,3,3,3,3,3,3,3,3,3,3,3,3,3,3,3,3,3,3,3,3,3,3,3,3,3,3,3,3,3,3,3,3,3,3,3,3]
[{"$f":"IF(baş!G99=\"\",\"\",baş!G99)","v":""},{"$f":"IF(baş!H99=\"\",\"\",baş!H99)","v":""},{"$f":"IF(baş!I99=\"\",\"\",baş!I99)","v":""},3,3,3,3,3,3,3,3,3,3,3,3,3,3,3,3,3,3,3,3,3,3,3,3,3,3,3,3,3,3,3,3,3,3,3,3,3,3,3,3,3,3,3,3,3,3,3,3,3,3,3,3]
[{"$f":"IF(baş!G100=\"\",\"\",baş!G100)","v":""},{"$f":"IF(baş!H100=\"\",\"\",baş!H100)","v":""},{"$f":"IF(baş!I100=\"\",\"\",baş!I100)","v":""},3,3,3,3,3,3,3,3,3,3,3,3,3,3,3,3,3,3,3,3,3,3,3,3,3,3,3,3,3,3,3,3,3,3,3,3,3,3,3,3,3,3,3,3,3,3,3,3,3,3,3,3]
[{"$f":"IF(baş!G101=\"\",\"\",baş!G101)","v":""},{"$f":"IF(baş!H101=\"\",\"\",baş!H101)","v":""},{"$f":"IF(baş!I101=\"\",\"\",baş!I101)","v":""},3,3,3,3,3,3,3,3,3,3,3,3,3,3,3,3,3,3,3,3,3,3,3,3,3,3,3,3,3,3,3,3,3,3,3,3,3,3,3,3,3,3,3,3,3,3,3,3,3,3,3,3]
[{"$f":"IF(baş!G102=\"\",\"\",baş!G102)","v":""},{"$f":"IF(baş!H102=\"\",\"\",baş!H102)","v":""},{"$f":"IF(baş!I102=\"\",\"\",baş!I102)","v":""},3,3,3,3,3,3,3,3,3,3,3,3,3,3,3,3,3,3,3,3,3,3,3,3,3,3,3,3,3,3,3,3,3,3,3,3,3,3,3,3,3,3,3,3,3,3,3,3,3,3,3,3]
[]
[1,1,1,1,1,1,1,1,1,1,1,1,1,1,1,1,1,1,1,1,1,1,1,1,1,1,1,1,1,1,1,1,1,1,1,1,1,1,1,1,1,1,1,1,1,1,1,1,1,1,1,1,1,1,1,1,1,1,1,1,1,1,1,1,1,1,1,1,1,1,1,1,1,1,1,1,1,1,1,1,1,1,1,1,1,1,1,1,1,1,1,1,1,1,1,1,1,1,1,1]
[2,2,2,2,2,2,2,2,2,2,2,2,2,2,2,2,2,2,2,2,2,2,2,2,2,2,2,2,2,2,2,2,2,2,2,2,2,2,2,2,2,2,2,2,2,2,2,2,2,2,2,2,2,2,2,2,2,2,2,2,2,2,2,2,2,2,2,2,2,2,2,2,2,2,2,2,2,2,2,2,2,2,2,2,2,2,2,2,2,2,2,2,2,2,2,2,2,2,2,2]
[3,3,3,3,3,3,3,3,3,3,3,3,3,3,3,3,3,3,3,3,3,3,3,3,3,3,3,3,3,3,3,3,3,3,3,3,3,3,3,3,3,3,3,3,3,3,3,3,3,3,3,3,3,3,3,3,3,3,3,3,3,3,3,3,3,3,3,3,3,3,3,3,3,3,3,3,3,3,3,3,3,3,3,3,3,3,3,3,3,3,3,3,3,3,3,3,3,3,3,3]
[4,4,4,4,4,4,4,4,4,4,4,4,4,4,4,4,4,4,4,4,4,4,4,4,4,4,4,4,4,4,4,4,4,4,4,4,4,4,4,4,4,4,4,4,4,4,4,4,4,4,4,4,4,4,4,4,4,4,4,4,4,4,4,4,4,4,4,4,4,4,4,4,4,4,4,4,4,4,4,4,4,4,4,4,4,4,4,4,4,4,4,4,4,4,4,4,4,4,4,4]

{"sheet":"H2.1","index":6,"n_rows":107,"n_cols":100,"rows_kept":107,"cut":false,"hidden":false,"merged":[[0,0,0,2],[1,3,1,28]]}
["HAYAT BİLGİSİ \n1. DÖNEM",null,null,"HB.1.1.1. Sınıf içi tanışma etkinliğine katılır.","HB.1.1.2. Kendisiyle akranları arasındaki benzer ve farklı yönleri ayırt eder.","HB.1.1.3. Okula geliş ve okuldan gidişlerde güvenlik kurallarına uyar.","HB.1.1.4. Sınıfının okul içindeki yerini bulur.","HB.1.1.5. Sınıf içerisinde bulunan ders araç ve gereçleri ile şeref köşesini tanır.","HB.1.1.6. Bayrak töreninde nasıl davranması gerektiğini kavrar. ","HB.1.1.7. Okulunun bölümlerini tanır. ","HB.1.1.8. Okul çalışanlarını tanır.","HB.1.1.9. İhtiyaç duyduğu durumlarda okul çalışanlarından yardım alır.","HB.1.5.6. Bayram, kutlama ve törenlere katılmaya istekli olur.","HB.1.1.10. Sınıf içi kuralları belirleme sürecine katılır.","HB.1.1.11. Okul kurallarına uyar.","HB.1.5.5. Atatürk’ün hayatını bilir.","HB.1.1.12. Okulda iletişim kurarken nezaket ifadelerini kullanır.","HB.1.1.13. Okul içi etkinliklerde görev almaya istekli olur.","HB.1.1.14. Okulla ilgili olumlu duygu ve düşünceler geliştirir.","HB.1.1.15. Kullanacağı ders araç ve gereçlerini seçer.","HB.1.2.1. Aile bireylerini tanıtır.","HB.1.2.2. Aile hayatının önemini kavrar.","HB.1.2.3. Evinin yerini tarif eder.","HB.1.2.4. Evde aile bireyleri ile iletişim kurarken nezaket ifadelerini kullanır.","HB.1.2.5. Evdeki kaynakları verimli bir şekilde kullanır.\n","HB.1.2.6. Gün içerisinde neler yapabileceğini planlar.","HB.1.2.7. İstek ve ihtiyaçları arasındaki farkı ayırt eder.","HB.1.3.1. Kişisel bakımını düzenli olarak yapar.","HB.1.3.2. Sağlığını korumak için alması gereken önlemleri fark eder.","ORTALAMA","DEĞERLENDİRME SONUCU"]
["SIRA","OKUL NO","ADI SOYADI"]
[{"$f":"IF('DAV1'!A3=\"\",\"\",'DAV1'!A3)","v":1},{"$f":"IF('DAV1'!B3=\"\",\"\",'DAV1'!B3)","v":11},{"$f":"IF('DAV1'!C3=\"\",\"\",'DAV1'!C3)","v":"KAYRA ÇINAR ERGÜN"},1,1,1,1,1,1,1,1,1,1,1,1,1,1,1,1,1,1,1,1,1,1,1,1,1,1,{"$f":"AVERAGE(D3:AC3)","v":1},{"$f":"IF(AD3=\"\",\"\",(IF(AD3>=2.5,\"ÇOK İYİ\",IF(AD3>=1.5,\"İYİ\",IF(AD3>=1,\"GELİŞTİRİLMELİ\")))))","v":"GELİŞTİRİLMELİ"}]
[{"$f":"IF('DAV1'!A4=\"\",\"\",'DAV1'!A4)","v":2},{"$f":"IF('DAV1'!B4=\"\",\"\",'DAV1'!B4)","v":35},{"$f":"IF('DAV1'!C4=\"\",\"\",'DAV1'!C4)","v":"FURKAN SOLMAZ"},1,1,1,1,1,1,1,1,1,1,1,1,1,1,1,1,1,1,1,1,1,1,1,1,1,1,1,{"$f":"IF(AD4=\"\",\"\",(IF(AD4>=2.5,\"ÇOK İYİ\",IF(AD4>=1.5,\"İYİ\",IF(AD4>=1,\"GELİŞTİRİLMELİ\")))))","v":"GELİŞTİRİLMELİ"}]
[{"$f":"IF('DAV1'!A5=\"\",\"\",'DAV1'!A5)","v":3},{"$f":"IF('DAV1'!B5=\"\",\"\",'DAV1'!B5)","v":53},{"$f":"IF('DAV1'!C5=\"\",\"\",'DAV1'!C5)","v":"İLKNUR MUMCU"},1,1,1,1,1,1,1,1,1,1,1,1,1,1,1,1,1,1,1,1,1,1,1,1,1,1,1,"GELİŞTİRİLMELİ"]
[{"$f":"IF('DAV1'!A6=\"\",\"\",'DAV1'!A6)","v":4},{"$f":"IF('DAV1'!B6=\"\",\"\",'DAV1'!B6)","v":83},{"$f":"IF('DAV1'!C6=\"\",\"\",'DAV1'!C6)","v":"MUHAMMET ALİ YILDIRIM"},1,1,1,1,1,1,1,1,1,1,1,1,1,1,1,1,1,1,1,1,1,1,1,1,1,1,1,"GELİŞTİRİLMELİ"]
[{"$f":"IF('DAV1'!A7=\"\",\"\",'DAV1'!A7)","v":5},{"$f":"IF('DAV1'!B7=\"\",\"\",'DAV1'!B7)","v":93},{"$f":"IF('DAV1'!C7=\"\",\"\",'DAV1'!C7)","v":"ERTUĞRUL GAZİ NAMLI"},1,1,1,1,1,1,1,1,1,1,1,1,1,1,1,1,1,1,1,1,1,1,1,1,1,1,1,"GELİŞTİRİLMELİ"]
[{"$f":"IF('DAV1'!A8=\"\",\"\",'DAV1'!A8)","v":6},{"$f":"IF('DAV1'!B8=\"\",\"\",'DAV1'!B8)","v":100},{"$f":"IF('DAV1'!C8=\"\",\"\",'DAV1'!C8)","v":"ECEM EFE"},1,1,1,1,1,1,1,1,1,1,1,1,1,1,1,1,1,1,1,1,1,1,1,1,1,1,1,"GELİŞTİRİLMELİ"]
[{"$f":"IF('DAV1'!A9=\"\",\"\",'DAV1'!A9)","v":7},{"$f":"IF('DAV1'!B9=\"\",\"\",'DAV1'!B9)","v":105},{"$f":"IF('DAV1'!C9=\"\",\"\",'DAV1'!C9)","v":"SELİM ZEKERİYA ÖZDEMİR"},1,1,1,1,1,1,1,1,1,1,1,1,1,1,1,1,1,1,1,1,1,1,1,1,1,1,1,"GELİŞTİRİLMELİ"]
[{"$f":"IF('DAV1'!A10=\"\",\"\",'DAV1'!A10)","v":8},{"$f":"IF('DAV1'!B10=\"\",\"\",'DAV1'!B10)","v":108},{"$f":"IF('DAV1'!C10=\"\",\"\",'DAV1'!C10)","v":"AREN KARAKAŞ"},1,1,1,1,1,1,1,1,1,1,1,1,1,1,1,1,1,1,1,1,1,1,1,1,1,1,1,"GELİŞTİRİLMELİ"]
[{"$f":"IF('DAV1'!A11=\"\",\"\",'DAV1'!A11)","v":9},{"$f":"IF('DAV1'!B11=\"\",\"\",'DAV1'!B11)","v":111},{"$f":"IF('DAV1'!C11=\"\",\"\",'DAV1'!C11)","v":"ZEHRA ŞAHİNOĞLU"},1,1,1,1,1,1,1,1,1,1,1,1,1,1,1,1,1,1,1,1,1,1,1,1,1,1,1,"GELİŞTİRİLMELİ"]
[{"$f":"IF('DAV1'!A12=\"\",\"\",'DAV1'!A12)","v":10},{"$f":"IF('DAV1'!B12=\"\",\"\",'DAV1'!B12)","v":113},{"$f":"IF('DAV1'!C12=\"\",\"\",'DAV1'!C12)","v":"YUSUF ALİ TÜNÇ"},1,1,1,1,1,1,1,1,1,1,1,1,1,1,1,1,1,1,1,1,1,1,1,1,1,1,1,"GELİŞTİRİLMELİ"]
[{"$f":"IF('DAV1'!A13=\"\",\"\",'DAV1'!A13)","v":11},{"$f":"IF('DAV1'!B13=\"\",\"\",'DAV1'!B13)","v":161},{"$f":"IF('DAV1'!C13=\"\",\"\",'DAV1'!C13)","v":"HÜSEYİN CELAYİR"},1,1,1,1,1,1,1,1,1,1,1,1,1,1,1,1,1,1,1,1,1,1,1,1,1,1,1,"GELİŞTİRİLMELİ"]
[{"$f":"IF('DAV1'!A14=\"\",\"\",'DAV1'!A14)","v":12},{"$f":"IF('DAV1'!B14=\"\",\"\",'DAV1'!B14)","v":177},{"$f":"IF('DAV1'!C14=\"\",\"\",'DAV1'!C14)","v":"YİĞİT EFE YEŞİLDAL"},1,1,1,1,1,1,1,1,1,1,1,1,1,1,1,1,1,1,1,1,1,1,1,1,1,1,1,"GELİŞTİRİLMELİ"]
[{"$f":"IF('DAV1'!A15=\"\",\"\",'DAV1'!A15)","v":13},{"$f":"IF('DAV1'!B15=\"\",\"\",'DAV1'!B15)","v":187},{"$f":"IF('DAV1'!C15=\"\",\"\",'DAV1'!C15)","v":"HALEF TAHA ATEŞ"},1,1,1,1,1,1,1,1,1,1,1,1,1,1,1,1,1,1,1,1,1,1,1,1,1,1,1,"GELİŞTİRİLMELİ"]
[{"$f":"IF('DAV1'!A16=\"\",\"\",'DAV1'!A16)","v":14},{"$f":"IF('DAV1'!B16=\"\",\"\",'DAV1'!B16)","v":188},{"$f":"IF('DAV1'!C16=\"\",\"\",'DAV1'!C16)","v":"EMİRHAN MERTOĞLU"},1,1,1,1,1,1,1,1,1,1,1,1,1,1,1,1,1,1,1,1,1,1,1,1,1,1,1,"GELİŞTİRİLMELİ"]
[{"$f":"IF('DAV1'!A17=\"\",\"\",'DAV1'!A17)","v":15},{"$f":"IF('DAV1'!B17=\"\",\"\",'DAV1'!B17)","v":189},{"$f":"IF('DAV1'!C17=\"\",\"\",'DAV1'!C17)","v":"EMİNE GÜVEN"},1,1,1,1,1,1,1,1,1,1,1,1,1,1,1,1,1,1,1,1,1,1,1,1,1,1,1,"GELİŞTİRİLMELİ"]
[{"$f":"IF('DAV1'!A18=\"\",\"\",'DAV1'!A18)","v":16},{"$f":"IF('DAV1'!B18=\"\",\"\",'DAV1'!B18)","v":213},{"$f":"IF('DAV1'!C18=\"\",\"\",'DAV1'!C18)","v":"YAĞMUR KILIÇ"},1,1,1,1,1,1,1,1,1,1,1,1,1,1,1,1,1,1,1,1,1,1,1,1,1,1,1,"GELİŞTİRİLMELİ"]
[{"$f":"IF('DAV1'!A19=\"\",\"\",'DAV1'!A19)","v":17},{"$f":"IF('DAV1'!B19=\"\",\"\",'DAV1'!B19)","v":214},{"$f":"IF('DAV1'!C19=\"\",\"\",'DAV1'!C19)","v":"ERDAL GÜLATAR"},1,1,1,1,1,1,1,1,1,1,1,1,1,1,1,1,1,1,1,1,1,1,1,1,1,1,1,"GELİŞTİRİLMELİ"]
[{"$f":"IF('DAV1'!A20=\"\",\"\",'DAV1'!A20)","v":18},{"$f":"IF('DAV1'!B20=\"\",\"\",'DAV1'!B20)","v":216},{"$f":"IF('DAV1'!C20=\"\",\"\",'DAV1'!C20)","v":"GAMZE ACAR"},1,1,1,1,1,1,1,1,1,1,1,1,1,1,1,1,1,1,1,1,1,1,1,1,1,1,1,"GELİŞTİRİLMELİ"]
[{"$f":"IF('DAV1'!A21=\"\",\"\",'DAV1'!A21)","v":19},{"$f":"IF('DAV1'!B21=\"\",\"\",'DAV1'!B21)","v":222},{"$f":"IF('DAV1'!C21=\"\",\"\",'DAV1'!C21)","v":"HİRANUR DOĞANDEMİR"},1,1,1,1,1,1,1,1,1,1,1,1,1,1,1,1,1,1,1,1,1,1,1,1,1,1,1,"GELİŞTİRİLMELİ"]
[{"$f":"IF('DAV1'!A22=\"\",\"\",'DAV1'!A22)","v":20},{"$f":"IF('DAV1'!B22=\"\",\"\",'DAV1'!B22)","v":224},{"$f":"IF('DAV1'!C22=\"\",\"\",'DAV1'!C22)","v":"TALHA YILMAZ"},1,1,1,1,1,1,1,1,1,1,1,1,1,1,1,1,1,1,1,1,1,1,1,1,1,1,1,"GELİŞTİRİLMELİ"]
[{"$f":"IF('DAV1'!A23=\"\",\"\",'DAV1'!A23)","v":21},{"$f":"IF('DAV1'!B23=\"\",\"\",'DAV1'!B23)","v":225},{"$f":"IF('DAV1'!C23=\"\",\"\",'DAV1'!C23)","v":"YUSUF EMİR DAĞDÖGEN"},1,1,1,1,1,1,1,1,1,1,1,1,1,1,1,1,1,1,1,1,1,1,1,1,1,1,1,"GELİŞTİRİLMELİ"]
[{"$f":"IF('DAV1'!A24=\"\",\"\",'DAV1'!A24)","v":22},{"$f":"IF('DAV1'!B24=\"\",\"\",'DAV1'!B24)","v":226},{"$f":"IF('DAV1'!C24=\"\",\"\",'DAV1'!C24)","v":"İMREN CANPOLAT"},1,1,1,1,1,1,1,1,1,1,1,1,1,1,1,1,1,1,1,1,1,1,1,1,1,1,1,"GELİŞTİRİLMELİ"]
[{"$f":"IF('DAV1'!A25=\"\",\"\",'DAV1'!A25)","v":23},{"$f":"IF('DAV1'!B25=\"\",\"\",'DAV1'!B25)","v":227},{"$f":"IF('DAV1'!C25=\"\",\"\",'DAV1'!C25)","v":"ZEYNEP CANPOLAT"},1,1,1,1,1,1,1,1,1,1,1,1,1,1,1,1,1,1,1,1,1,1,1,1,1,1,1,"GELİŞTİRİLMELİ"]
[{"$f":"IF('DAV1'!A26=\"\",\"\",'DAV1'!A26)","v":24},{"$f":"IF('DAV1'!B26=\"\",\"\",'DAV1'!B26)","v":229},{"$f":"IF('DAV1'!C26=\"\",\"\",'DAV1'!C26)","v":"MERYEM PARMAK"},1,1,1,1,1,1,1,1,1,1,1,1,1,1,1,1,1,1,1,1,1,1,1,1,1,1,1,"GELİŞTİRİLMELİ"]
[{"$f":"IF('DAV1'!A27=\"\",\"\",'DAV1'!A27)","v":25},{"$f":"IF('DAV1'!B27=\"\",\"\",'DAV1'!B27)","v":237},{"$f":"IF('DAV1'!C27=\"\",\"\",'DAV1'!C27)","v":"ZEYNEP MİRAY BOYRAZ"},1,1,1,1,1,1,1,1,1,1,1,1,1,1,1,1,1,1,1,1,1,1,1,1,1,1,1,"GELİŞTİRİLMELİ"]
[{"$f":"IF('DAV1'!A28=\"\",\"\",'DAV1'!A28)","v":26},{"$f":"IF('DAV1'!B28=\"\",\"\",'DAV1'!B28)","v":244},{"$f":"IF('DAV1'!C28=\"\",\"\",'DAV1'!C28)","v":"TAMER ŞEKERCİLEROĞLU"},1,1,1,1,1,1,1,1,1,1,1,1,1,1,1,1,1,1,1,1,1,1,1,1,1,1,1,"GELİŞTİRİLMELİ"]
[{"$f":"IF('DAV1'!A29=\"\",\"\",'DAV1'!A29)","v":27},{"$f":"IF('DAV1'!B29=\"\",\"\",'DAV1'!B29)","v":263},{"$f":"IF('DAV1'!C29=\"\",\"\",'DAV1'!C29)","v":"MUHAMMED YUSUF YILMAZ"},1,1,1,1,1,1,1,1,1,1,1,1,1,1,1,1,1,1,1,1,1,1,1,1,1,1,1,"GELİŞTİRİLMELİ"]
[{"$f":"IF('DAV1'!A30=\"\",\"\",'DAV1'!A30)","v":28},{"$f":"IF('DAV1'!B30=\"\",\"\",'DAV1'!B30)","v":264},{"$f":"IF('DAV1'!C30=\"\",\"\",'DAV1'!C30)","v":"OĞUZHAN GÜRGÜZE"},1,1,1,1,1,1,1,1,1,1,1,1,1,1,1,1,1,1,1,1,1,1,1,1,1,1,1,"GELİŞTİRİLMELİ"]
[{"$f":"IF('DAV1'!A31=\"\",\"\",'DAV1'!A31)","v":29},{"$f":"IF('DAV1'!B31=\"\",\"\",'DAV1'!B31)","v":279},{"$f":"IF('DAV1'!C31=\"\",\"\",'DAV1'!C31)","v":"MİHRİMA EKİCİ"},1,1,1,1,1,1,1,1,1,1,1,1,1,1,1,1,1,1,1,1,1,1,1,1,1,1,1,"GELİŞTİRİLMELİ"]
[{"$f":"IF('DAV1'!A32=\"\",\"\",'DAV1'!A32)","v":30},{"$f":"IF('DAV1'!B32=\"\",\"\",'DAV1'!B32)","v":290},{"$f":"IF('DAV1'!C32=\"\",\"\",'DAV1'!C32)","v":"NİSA NUR YILDIZ"},1,1,1,1,1,1,1,1,1,1,1,1,1,1,1,1,1,1,1,1,1,1,1,1,1,1,1,"GELİŞTİRİLMELİ"]
[{"$f":"IF('DAV1'!A33=\"\",\"\",'DAV1'!A33)","v":31},{"$f":"IF('DAV1'!B33=\"\",\"\",'DAV1'!B33)","v":293},{"$f":"IF('DAV1'!C33=\"\",\"\",'DAV1'!C33)","v":"MEHMET ALATAŞ"},1,1,1,1,1,1,1,1,1,1,1,1,1,1,1,1,1,1,1,1,1,1,1,1,1,1,1,"GELİŞTİRİLMELİ"]
[{"$f":"IF('DAV1'!A34=\"\",\"\",'DAV1'!A34)","v":32},{"$f":"IF('DAV1'!B34=\"\",\"\",'DAV1'!B34)","v":451},{"$f":"IF('DAV1'!C34=\"\",\"\",'DAV1'!C34)","v":"İKRA YILDIRIM"},1,1,1,1,1,1,1,1,1,1,1,1,1,1,1,1,1,1,1,1,1,1,1,1,1,1,1,"GELİŞTİRİLMELİ"]
[{"$f":"IF('DAV1'!A35=\"\",\"\",'DAV1'!A35)","v":33},{"$f":"IF('DAV1'!B35=\"\",\"\",'DAV1'!B35)","v":616},{"$f":"IF('DAV1'!C35=\"\",\"\",'DAV1'!C35)","v":"EDA TURAL"},1,1,1,1,1,1,1,1,1,1,1,1,1,1,1,1,1,1,1,1,1,1,1,1,1,1,{"$f":"AVERAGE(D35:AC35)","v":1},"GELİŞTİRİLMELİ"]
[{"$f":"IF('DAV1'!A36=\"\",\"\",'DAV1'!A36)","v":34},{"$f":"IF('DAV1'!B36=\"\",\"\",'DAV1'!B36)","v":892},{"$f":"IF('DAV1'!C36=\"\",\"\",'DAV1'!C36)","v":"ALMA ALRAMADAN"},1,1,1,1,1,1,1,1,1,1,1,1,1,1,1,1,1,1,1,1,1,1,1,1,1,1,1,"GELİŞTİRİLMELİ"]
[{"$f":"IF('DAV1'!A37=\"\",\"\",'DAV1'!A37)","v":35},{"$f":"IF('DAV1'!B37=\"\",\"\",'DAV1'!B37)","v":1000},{"$f":"IF('DAV1'!C37=\"\",\"\",'DAV1'!C37)","v":"TURGUT POLAT"},1,1,1,1,1,1,1,1,1,1,1,1,1,1,1,1,1,1,1,1,1,1,1,1,1,1,1,{"$f":"IF(AD37=\"\",\"\",(IF(AD37>=2.5,\"ÇOK İYİ\",IF(AD37>=1.5,\"İYİ\",IF(AD37>=1,\"GELİŞTİRİLMELİ\")))))","v":"GELİŞTİRİLMELİ"}]
[{"$f":"IF('DAV1'!A38=\"\",\"\",'DAV1'!A38)","v":""},{"$f":"IF('DAV1'!B38=\"\",\"\",'DAV1'!B38)","v":""},{"$f":"IF('DAV1'!C38=\"\",\"\",'DAV1'!C38)","v":""},1,1,1,1,1,1,1,1,1,1,1,1,1,1,1,1,1,1,1,1,1,1,1,1,1,1,1,"GELİŞTİRİLMELİ"]
[{"$f":"IF('DAV1'!A39=\"\",\"\",'DAV1'!A39)","v":""},{"$f":"IF('DAV1'!B39=\"\",\"\",'DAV1'!B39)","v":""},{"$f":"IF('DAV1'!C39=\"\",\"\",'DAV1'!C39)","v":""},1,1,1,1,1,1,1,1,1,1,1,1,1,1,1,1,1,1,1,1,1,1,1,1,1,1,1,"GELİŞTİRİLMELİ"]
[{"$f":"IF('DAV1'!A40=\"\",\"\",'DAV1'!A40)","v":""},{"$f":"IF('DAV1'!B40=\"\",\"\",'DAV1'!B40)","v":""},{"$f":"IF('DAV1'!C40=\"\",\"\",'DAV1'!C40)","v":""},1,1,1,1,1,1,1,1,1,1,1,1,1,1,1,1,1,1,1,1,1,1,1,1,1,1,1,"GELİŞTİRİLMELİ"]
[{"$f":"IF('DAV1'!A41=\"\",\"\",'DAV1'!A41)","v":""},{"$f":"IF('DAV1'!B41=\"\",\"\",'DAV1'!B41)","v":""},{"$f":"IF('DAV1'!C41=\"\",\"\",'DAV1'!C41)","v":""},1,1,1,1,1,1,1,1,1,1,1,1,1,1,1,1,1,1,1,1,1,1,1,1,1,1,1,"GELİŞTİRİLMELİ"]
[{"$f":"IF('DAV1'!A42=\"\",\"\",'DAV1'!A42)","v":""},{"$f":"IF('DAV1'!B42=\"\",\"\",'DAV1'!B42)","v":""},{"$f":"IF('DAV1'!C42=\"\",\"\",'DAV1'!C42)","v":""},1,1,1,1,1,1,1,1,1,1,1,1,1,1,1,1,1,1,1,1,1,1,1,1,1,1,1,"GELİŞTİRİLMELİ"]
[{"$f":"IF('DAV1'!A43=\"\",\"\",'DAV1'!A43)","v":""},{"$f":"IF('DAV1'!B43=\"\",\"\",'DAV1'!B43)","v":""},{"$f":"IF('DAV1'!C43=\"\",\"\",'DAV1'!C43)","v":""},1,1,1,1,1,1,1,1,1,1,1,1,1,1,1,1,1,1,1,1,1,1,1,1,1,1,1,"GELİŞTİRİLMELİ"]
[{"$f":"IF('DAV1'!A44=\"\",\"\",'DAV1'!A44)","v":""},{"$f":"IF('DAV1'!B44=\"\",\"\",'DAV1'!B44)","v":""},{"$f":"IF('DAV1'!C44=\"\",\"\",'DAV1'!C44)","v":""},1,1,1,1,1,1,1,1,1,1,1,1,1,1,1,1,1,1,1,1,1,1,1,1,1,1,1,"GELİŞTİRİLMELİ"]
[{"$f":"IF('DAV1'!A45=\"\",\"\",'DAV1'!A45)","v":""},{"$f":"IF('DAV1'!B45=\"\",\"\",'DAV1'!B45)","v":""},{"$f":"IF('DAV1'!C45=\"\",\"\",'DAV1'!C45)","v":""},1,1,1,1,1,1,1,1,1,1,1,1,1,1,1,1,1,1,1,1,1,1,1,1,1,1,1,"GELİŞTİRİLMELİ"]
[{"$f":"IF('DAV1'!A46=\"\",\"\",'DAV1'!A46)","v":""},{"$f":"IF('DAV1'!B46=\"\",\"\",'DAV1'!B46)","v":""},{"$f":"IF('DAV1'!C46=\"\",\"\",'DAV1'!C46)","v":""},1,1,1,1,1,1,1,1,1,1,1,1,1,1,1,1,1,1,1,1,1,1,1,1,1,1,1,"GELİŞTİRİLMELİ"]
[{"$f":"IF('DAV1'!A47=\"\",\"\",'DAV1'!A47)","v":""},{"$f":"IF('DAV1'!B47=\"\",\"\",'DAV1'!B47)","v":""},{"$f":"IF('DAV1'!C47=\"\",\"\",'DAV1'!C47)","v":""},1,1,1,1,1,1,1,1,1,1,1,1,1,1,1,1,1,1,1,1,1,1,1,1,1,1,1,"GELİŞTİRİLMELİ"]
[{"$f":"IF('DAV1'!A48=\"\",\"\",'DAV1'!A48)","v":""},{"$f":"IF('DAV1'!B48=\"\",\"\",'DAV1'!B48)","v":""},{"$f":"IF('DAV1'!C48=\"\",\"\",'DAV1'!C48)","v":""},1,1,1,1,1,1,1,1,1,1,1,1,1,1,1,1,1,1,1,1,1,1,1,1,1,1,1,"GELİŞTİRİLMELİ"]
[{"$f":"IF('DAV1'!A49=\"\",\"\",'DAV1'!A49)","v":""},{"$f":"IF('DAV1'!B49=\"\",\"\",'DAV1'!B49)","v":""},{"$f":"IF('DAV1'!C49=\"\",\"\",'DAV1'!C49)","v":""},1,1,1,1,1,1,1,1,1,1,1,1,1,1,1,1,1,1,1,1,1,1,1,1,1,1,1,"GELİŞTİRİLMELİ"]
[{"$f":"IF('DAV1'!A50=\"\",\"\",'DAV1'!A50)","v":""},{"$f":"IF('DAV1'!B50=\"\",\"\",'DAV1'!B50)","v":""},{"$f":"IF('DAV1'!C50=\"\",\"\",'DAV1'!C50)","v":""},1,1,1,1,1,1,1,1,1,1,1,1,1,1,1,1,1,1,1,1,1,1,1,1,1,1,1,"GELİŞTİRİLMELİ"]
[{"$f":"IF('DAV1'!A51=\"\",\"\",'DAV1'!A51)","v":""},{"$f":"IF('DAV1'!B51=\"\",\"\",'DAV1'!B51)","v":""},{"$f":"IF('DAV1'!C51=\"\",\"\",'DAV1'!C51)","v":""},1,1,1,1,1,1,1,1,1,1,1,1,1,1,1,1,1,1,1,1,1,1,1,1,1,1,1,"GELİŞTİRİLMELİ"]
[{"$f":"IF('DAV1'!A52=\"\",\"\",'DAV1'!A52)","v":""},{"$f":"IF('DAV1'!B52=\"\",\"\",'DAV1'!B52)","v":""},{"$f":"IF('DAV1'!C52=\"\",\"\",'DAV1'!C52)","v":""},1,1,1,1,1,1,1,1,1,1,1,1,1,1,1,1,1,1,1,1,1,1,1,1,1,1,1,"GELİŞTİRİLMELİ"]
[{"$f":"IF('DAV1'!A53=\"\",\"\",'DAV1'!A53)","v":""},{"$f":"IF('DAV1'!B53=\"\",\"\",'DAV1'!B53)","v":""},{"$f":"IF('DAV1'!C53=\"\",\"\",'DAV1'!C53)","v":""},1,1,1,1,1,1,1,1,1,1,1,1,1,1,1,1,1,1,1,1,1,1,1,1,1,1,1,"GELİŞTİRİLMELİ"]
[{"$f":"IF('DAV1'!A54=\"\",\"\",'DAV1'!A54)","v":""},{"$f":"IF('DAV1'!B54=\"\",\"\",'DAV1'!B54)","v":""},{"$f":"IF('DAV1'!C54=\"\",\"\",'DAV1'!C54)","v":""},1,1,1,1,1,1,1,1,1,1,1,1,1,1,1,1,1,1,1,1,1,1,1,1,1,1,1,"GELİŞTİRİLMELİ"]
[{"$f":"IF('DAV1'!A55=\"\",\"\",'DAV1'!A55)","v":""},{"$f":"IF('DAV1'!B55=\"\",\"\",'DAV1'!B55)","v":""},{"$f":"IF('DAV1'!C55=\"\",\"\",'DAV1'!C55)","v":""},1,1,1,1,1,1,1,1,1,1,1,1,1,1,1,1,1,1,1,1,1,1,1,1,1,1,1,"GELİŞTİRİLMELİ"]
[{"$f":"IF('DAV1'!A56=\"\",\"\",'DAV1'!A56)","v":""},{"$f":"IF('DAV1'!B56=\"\",\"\",'DAV1'!B56)","v":""},{"$f":"IF('DAV1'!C56=\"\",\"\",'DAV1'!C56)","v":""},1,1,1,1,1,1,1,1,1,1,1,1,1,1,1,1,1,1,1,1,1,1,1,1,1,1,1,"GELİŞTİRİLMELİ"]
[{"$f":"IF('DAV1'!A57=\"\",\"\",'DAV1'!A57)","v":""},{"$f":"IF('DAV1'!B57=\"\",\"\",'DAV1'!B57)","v":""},{"$f":"IF('DAV1'!C57=\"\",\"\",'DAV1'!C57)","v":""},1,1,1,1,1,1,1,1,1,1,1,1,1,1,1,1,1,1,1,1,1,1,1,1,1,1,1,"GELİŞTİRİLMELİ"]
[{"$f":"IF('DAV1'!A58=\"\",\"\",'DAV1'!A58)","v":""},{"$f":"IF('DAV1'!B58=\"\",\"\",'DAV1'!B58)","v":""},{"$f":"IF('DAV1'!C58=\"\",\"\",'DAV1'!C58)","v":""},1,1,1,1,1,1,1,1,1,1,1,1,1,1,1,1,1,1,1,1,1,1,1,1,1,1,1,"GELİŞTİRİLMELİ"]
[{"$f":"IF('DAV1'!A59=\"\",\"\",'DAV1'!A59)","v":""},{"$f":"IF('DAV1'!B59=\"\",\"\",'DAV1'!B59)","v":""},{"$f":"IF('DAV1'!C59=\"\",\"\",'DAV1'!C59)","v":""},1,1,1,1,1,1,1,1,1,1,1,1,1,1,1,1,1,1,1,1,1,1,1,1,1,1,1,"GELİŞTİRİLMELİ"]
[{"$f":"IF('DAV1'!A60=\"\",\"\",'DAV1'!A60)","v":""},{"$f":"IF('DAV1'!B60=\"\",\"\",'DAV1'!B60)","v":""},{"$f":"IF('DAV1'!C60=\"\",\"\",'DAV1'!C60)","v":""},1,1,1,1,1,1,1,1,1,1,1,1,1,1,1,1,1,1,1,1,1,1,1,1,1,1,1,"GELİŞTİRİLMELİ"]
[{"$f":"IF('DAV1'!A61=\"\",\"\",'DAV1'!A61)","v":""},{"$f":"IF('DAV1'!B61=\"\",\"\",'DAV1'!B61)","v":""},{"$f":"IF('DAV1'!C61=\"\",\"\",'DAV1'!C61)","v":""},1,1,1,1,1,1,1,1,1,1,1,1,1,1,1,1,1,1,1,1,1,1,1,1,1,1,1,"GELİŞTİRİLMELİ"]
[{"$f":"IF('DAV1'!A62=\"\",\"\",'DAV1'!A62)","v":""},{"$f":"IF('DAV1'!B62=\"\",\"\",'DAV1'!B62)","v":""},{"$f":"IF('DAV1'!C62=\"\",\"\",'DAV1'!C62)","v":""},1,1,1,1,1,1,1,1,1,1,1,1,1,1,1,1,1,1,1,1,1,1,1,1,1,1,1,"GELİŞTİRİLMELİ"]
[{"$f":"IF('DAV1'!A63=\"\",\"\",'DAV1'!A63)","v":""},{"$f":"IF('DAV1'!B63=\"\",\"\",'DAV1'!B63)","v":""},{"$f":"IF('DAV1'!C63=\"\",\"\",'DAV1'!C63)","v":""},1,1,1,1,1,1,1,1,1,1,1,1,1,1,1,1,1,1,1,1,1,1,1,1,1,1,1,"GELİŞTİRİLMELİ"]
[{"$f":"IF('DAV1'!A64=\"\",\"\",'DAV1'!A64)","v":""},{"$f":"IF('DAV1'!B64=\"\",\"\",'DAV1'!B64)","v":""},{"$f":"IF('DAV1'!C64=\"\",\"\",'DAV1'!C64)","v":""},1,1,1,1,1,1,1,1,1,1,1,1,1,1,1,1,1,1,1,1,1,1,1,1,1,1,1,"GELİŞTİRİLMELİ"]
[{"$f":"IF('DAV1'!A65=\"\",\"\",'DAV1'!A65)","v":""},{"$f":"IF('DAV1'!B65=\"\",\"\",'DAV1'!B65)","v":""},{"$f":"IF('DAV1'!C65=\"\",\"\",'DAV1'!C65)","v":""},1,1,1,1,1,1,1,1,1,1,1,1,1,1,1,1,1,1,1,1,1,1,1,1,1,1,1,"GELİŞTİRİLMELİ"]
[{"$f":"IF('DAV1'!A66=\"\",\"\",'DAV1'!A66)","v":""},{"$f":"IF('DAV1'!B66=\"\",\"\",'DAV1'!B66)","v":""},{"$f":"IF('DAV1'!C66=\"\",\"\",'DAV1'!C66)","v":""},1,1,1,1,1,1,1,1,1,1,1,1,1,1,1,1,1,1,1,1,1,1,1,1,1,1,1,"GELİŞTİRİLMELİ"]
[{"$f":"IF('DAV1'!A67=\"\",\"\",'DAV1'!A67)","v":""},{"$f":"IF('DAV1'!B67=\"\",\"\",'DAV1'!B67)","v":""},{"$f":"IF('DAV1'!C67=\"\",\"\",'DAV1'!C67)","v":""},1,1,1,1,1,1,1,1,1,1,1,1,1,1,1,1,1,1,1,1,1,1,1,1,1,1,{"$f":"AVERAGE(D67:AC67)","v":1},"GELİŞTİRİLMELİ"]
[{"$f":"IF('DAV1'!A68=\"\",\"\",'DAV1'!A68)","v":""},{"$f":"IF('DAV1'!B68=\"\",\"\",'DAV1'!B68)","v":""},{"$f":"IF('DAV1'!C68=\"\",\"\",'DAV1'!C68)","v":""},1,1,1,1,1,1,1,1,1,1,1,1,1,1,1,1,1,1,1,1,1,1,1,1,1,1,1,"GELİŞTİRİLMELİ"]
[{"$f":"IF('DAV1'!A69=\"\",\"\",'DAV1'!A69)","v":""},{"$f":"IF('DAV1'!B69=\"\",\"\",'DAV1'!B69)","v":""},{"$f":"IF('DAV1'!C69=\"\",\"\",'DAV1'!C69)","v":""},1,1,1,1,1,1,1,1,1,1,1,1,1,1,1,1,1,1,1,1,1,1,1,1,1,1,1,"GELİŞTİRİLMELİ"]
[{"$f":"IF('DAV1'!A70=\"\",\"\",'DAV1'!A70)","v":""},{"$f":"IF('DAV1'!B70=\"\",\"\",'DAV1'!B70)","v":""},{"$f":"IF('DAV1'!C70=\"\",\"\",'DAV1'!C70)","v":""},1,1,1,1,1,1,1,1,1,1,1,1,1,1,1,1,1,1,1,1,1,1,1,1,1,1,1,"GELİŞTİRİLMELİ"]
[{"$f":"IF('DAV1'!A71=\"\",\"\",'DAV1'!A71)","v":""},{"$f":"IF('DAV1'!B71=\"\",\"\",'DAV1'!B71)","v":""},{"$f":"IF('DAV1'!C71=\"\",\"\",'DAV1'!C71)","v":""},1,1,1,1,1,1,1,1,1,1,1,1,1,1,1,1,1,1,1,1,1,1,1,1,1,1,1,"GELİŞTİRİLMELİ"]
[{"$f":"IF('DAV1'!A72=\"\",\"\",'DAV1'!A72)","v":""},{"$f":"IF('DAV1'!B72=\"\",\"\",'DAV1'!B72)","v":""},{"$f":"IF('DAV1'!C72=\"\",\"\",'DAV1'!C72)","v":""},1,1,1,1,1,1,1,1,1,1,1,1,1,1,1,1,1,1,1,1,1,1,1,1,1,1,1,"GELİŞTİRİLMELİ"]
[{"$f":"IF('DAV1'!A73=\"\",\"\",'DAV1'!A73)","v":""},{"$f":"IF('DAV1'!B73=\"\",\"\",'DAV1'!B73)","v":""},{"$f":"IF('DAV1'!C73=\"\",\"\",'DAV1'!C73)","v":""},1,1,1,1,1,1,1,1,1,1,1,1,1,1,1,1,1,1,1,1,1,1,1,1,1,1,1,"GELİŞTİRİLMELİ"]
[{"$f":"IF('DAV1'!A74=\"\",\"\",'DAV1'!A74)","v":""},{"$f":"IF('DAV1'!B74=\"\",\"\",'DAV1'!B74)","v":""},{"$f":"IF('DAV1'!C74=\"\",\"\",'DAV1'!C74)","v":""},1,1,1,1,1,1,1,1,1,1,1,1,1,1,1,1,1,1,1,1,1,1,1,1,1,1,1,"GELİŞTİRİLMELİ"]
[{"$f":"IF('DAV1'!A75=\"\",\"\",'DAV1'!A75)","v":""},{"$f":"IF('DAV1'!B75=\"\",\"\",'DAV1'!B75)","v":""},{"$f":"IF('DAV1'!C75=\"\",\"\",'DAV1'!C75)","v":""},1,1,1,1,1,1,1,1,1,1,1,1,1,1,1,1,1,1,1,1,1,1,1,1,1,1,1,"GELİŞTİRİLMELİ"]
[{"$f":"IF('DAV1'!A76=\"\",\"\",'DAV1'!A76)","v":""},{"$f":"IF('DAV1'!B76=\"\",\"\",'DAV1'!B76)","v":""},{"$f":"IF('DAV1'!C76=\"\",\"\",'DAV1'!C76)","v":""},1,1,1,1,1,1,1,1,1,1,1,1,1,1,1,1,1,1,1,1,1,1,1,1,1,1,1,"GELİŞTİRİLMELİ"]
[{"$f":"IF('DAV1'!A77=\"\",\"\",'DAV1'!A77)","v":""},{"$f":"IF('DAV1'!B77=\"\",\"\",'DAV1'!B77)","v":""},{"$f":"IF('DAV1'!C77=\"\",\"\",'DAV1'!C77)","v":""},1,1,1,1,1,1,1,1,1,1,1,1,1,1,1,1,1,1,1,1,1,1,1,1,1,1,1,"GELİŞTİRİLMELİ"]
[{"$f":"IF('DAV1'!A78=\"\",\"\",'DAV1'!A78)","v":""},{"$f":"IF('DAV1'!B78=\"\",\"\",'DAV1'!B78)","v":""},{"$f":"IF('DAV1'!C78=\"\",\"\",'DAV1'!C78)","v":""},1,1,1,1,1,1,1,1,1,1,1,1,1,1,1,1,1,1,1,1,1,1,1,1,1,1,1,"GELİŞTİRİLMELİ"]
[{"$f":"IF('DAV1'!A79=\"\",\"\",'DAV1'!A79)","v":""},{"$f":"IF('DAV1'!B79=\"\",\"\",'DAV1'!B79)","v":""},{"$f":"IF('DAV1'!C79=\"\",\"\",'DAV1'!C79)","v":""},1,1,1,1,1,1,1,1,1,1,1,1,1,1,1,1,1,1,1,1,1,1,1,1,1,1,1,"GELİŞTİRİLMELİ"]
[{"$f":"IF('DAV1'!A80=\"\",\"\",'DAV1'!A80)","v":""},{"$f":"IF('DAV1'!B80=\"\",\"\",'DAV1'!B80)","v":""},{"$f":"IF('DAV1'!C80=\"\",\"\",'DAV1'!C80)","v":""},1,1,1,1,1,1,1,1,1,1,1,1,1,1,1,1,1,1,1,1,1,1,1,1,1,1,1,"GELİŞTİRİLMELİ"]
[{"$f":"IF('DAV1'!A81=\"\",\"\",'DAV1'!A81)","v":""},{"$f":"IF('DAV1'!B81=\"\",\"\",'DAV1'!B81)","v":""},{"$f":"IF('DAV1'!C81=\"\",\"\",'DAV1'!C81)","v":""},1,1,1,1,1,1,1,1,1,1,1,1,1,1,1,1,1,1,1,1,1,1,1,1,1,1,1,"GELİŞTİRİLMELİ"]
[{"$f":"IF('DAV1'!A82=\"\",\"\",'DAV1'!A82)","v":""},{"$f":"IF('DAV1'!B82=\"\",\"\",'DAV1'!B82)","v":""},{"$f":"IF('DAV1'!C82=\"\",\"\",'DAV1'!C82)","v":""},1,1,1,1,1,1,1,1,1,1,1,1,1,1,1,1,1,1,1,1,1,1,1,1,1,1,1,"GELİŞTİRİLMELİ"]
[{"$f":"IF('DAV1'!A83=\"\",\"\",'DAV1'!A83)","v":""},{"$f":"IF('DAV1'!B83=\"\",\"\",'DAV1'!B83)","v":""},{"$f":"IF('DAV1'!C83=\"\",\"\",'DAV1'!C83)","v":""},1,1,1,1,1,1,1,1,1,1,1,1,1,1,1,1,1,1,1,1,1,1,1,1,1,1,1,"GELİŞTİRİLMELİ"]
[{"$f":"IF('DAV1'!A84=\"\",\"\",'DAV1'!A84)","v":""},{"$f":"IF('DAV1'!B84=\"\",\"\",'DAV1'!B84)","v":""},{"$f":"IF('DAV1'!C84=\"\",\"\",'DAV1'!C84)","v":""},1,1,1,1,1,1,1,1,1,1,1,1,1,1,1,1,1,1,1,1,1,1,1,1,1,1,1,"GELİŞTİRİLMELİ"]
[{"$f":"IF('DAV1'!A85=\"\",\"\",'DAV1'!A85)","v":""},{"$f":"IF('DAV1'!B85=\"\",\"\",'DAV1'!B85)","v":""},{"$f":"IF('DAV1'!C85=\"\",\"\",'DAV1'!C85)","v":""},1,1,1,1,1,1,1,1,1,1,1,1,1,1,1,1,1,1,1,1,1,1,1,1,1,1,1,"GELİŞTİRİLMELİ"]
[{"$f":"IF('DAV1'!A86=\"\",\"\",'DAV1'!A86)","v":""},{"$f":"IF('DAV1'!B86=\"\",\"\",'DAV1'!B86)","v":""},{"$f":"IF('DAV1'!C86=\"\",\"\",'DAV1'!C86)","v":""},1,1,1,1,1,1,1,1,1,1,1,1,1,1,1,1,1,1,1,1,1,1,1,1,1,1,1,"GELİŞTİRİLMELİ"]
[{"$f":"IF('DAV1'!A87=\"\",\"\",'DAV1'!A87)","v":""},{"$f":"IF('DAV1'!B87=\"\",\"\",'DAV1'!B87)","v":""},{"$f":"IF('DAV1'!C87=\"\",\"\",'DAV1'!C87)","v":""},1,1,1,1,1,1,1,1,1,1,1,1,1,1,1,1,1,1,1,1,1,1,1,1,1,1,1,"GELİŞTİRİLMELİ"]
[{"$f":"IF('DAV1'!A88=\"\",\"\",'DAV1'!A88)","v":""},{"$f":"IF('DAV1'!B88=\"\",\"\",'DAV1'!B88)","v":""},{"$f":"IF('DAV1'!C88=\"\",\"\",'DAV1'!C88)","v":""},1,1,1,1,1,1,1,1,1,1,1,1,1,1,1,1,1,1,1,1,1,1,1,1,1,1,1,"GELİŞTİRİLMELİ"]
[{"$f":"IF('DAV1'!A89=\"\",\"\",'DAV1'!A89)","v":""},{"$f":"IF('DAV1'!B89=\"\",\"\",'DAV1'!B89)","v":""},{"$f":"IF('DAV1'!C89=\"\",\"\",'DAV1'!C89)","v":""},1,1,1,1,1,1,1,1,1,1,1,1,1,1,1,1,1,1,1,1,1,1,1,1,1,1,1,"GELİŞTİRİLMELİ"]
[{"$f":"IF('DAV1'!A90=\"\",\"\",'DAV1'!A90)","v":""},{"$f":"IF('DAV1'!B90=\"\",\"\",'DAV1'!B90)","v":""},{"$f":"IF('DAV1'!C90=\"\",\"\",'DAV1'!C90)","v":""},1,1,1,1,1,1,1,1,1,1,1,1,1,1,1,1,1,1,1,1,1,1,1,1,1,1,1,"GELİŞTİRİLMELİ"]
[{"$f":"IF('DAV1'!A91=\"\",\"\",'DAV1'!A91)","v":""},{"$f":"IF('DAV1'!B91=\"\",\"\",'DAV1'!B91)","v":""},{"$f":"IF('DAV1'!C91=\"\",\"\",'DAV1'!C91)","v":""},1,1,1,1,1,1,1,1,1,1,1,1,1,1,1,1,1,1,1,1,1,1,1,1,1,1,1,"GELİŞTİRİLMELİ"]
[{"$f":"IF('DAV1'!A92=\"\",\"\",'DAV1'!A92)","v":""},{"$f":"IF('DAV1'!B92=\"\",\"\",'DAV1'!B92)","v":""},{"$f":"IF('DAV1'!C92=\"\",\"\",'DAV1'!C92)","v":""},1,1,1,1,1,1,1,1,1,1,1,1,1,1,1,1,1,1,1,1,1,1,1,1,1,1,1,"GELİŞTİRİLMELİ"]
[{"$f":"IF('DAV1'!A93=\"\",\"\",'DAV1'!A93)","v":""},{"$f":"IF('DAV1'!B93=\"\",\"\",'DAV1'!B93)","v":""},{"$f":"IF('DAV1'!C93=\"\",\"\",'DAV1'!C93)","v":""},1,1,1,1,1,1,1,1,1,1,1,1,1,1,1,1,1,1,1,1,1,1,1,1,1,1,1,"GELİŞTİRİLMELİ"]
[{"$f":"IF('DAV1'!A94=\"\",\"\",'DAV1'!A94)","v":""},{"$f":"IF('DAV1'!B94=\"\",\"\",'DAV1'!B94)","v":""},{"$f":"IF('DAV1'!C94=\"\",\"\",'DAV1'!C94)","v":""},1,1,1,1,1,1,1,1,1,1,1,1,1,1,1,1,1,1,1,1,1,1,1,1,1,1,1,"GELİŞTİRİLMELİ"]
[{"$f":"IF('DAV1'!A95=\"\",\"\",'DAV1'!A95)","v":""},{"$f":"IF('DAV1'!B95=\"\",\"\",'DAV1'!B95)","v":""},{"$f":"IF('DAV1'!C95=\"\",\"\",'DAV1'!C95)","v":""},1,1,1,1,1,1,1,1,1,1,1,1,1,1,1,1,1,1,1,1,1,1,1,1,1,1,1,"GELİŞTİRİLMELİ"]
[{"$f":"IF('DAV1'!A96=\"\",\"\",'DAV1'!A96)","v":""},{"$f":"IF('DAV1'!B96=\"\",\"\",'DAV1'!B96)","v":""},{"$f":"IF('DAV1'!C96=\"\",\"\",'DAV1'!C96)","v":""},1,1,1,1,1,1,1,1,1,1,1,1,1,1,1,1,1,1,1,1,1,1,1,1,1,1,1,"GELİŞTİRİLMELİ"]
[{"$f":"IF('DAV1'!A97=\"\",\"\",'DAV1'!A97)","v":""},{"$f":"IF('DAV1'!B97=\"\",\"\",'DAV1'!B97)","v":""},{"$f":"IF('DAV1'!C97=\"\",\"\",'DAV1'!C97)","v":""},1,1,1,1,1,1,1,1,1,1,1,1,1,1,1,1,1,1,1,1,1,1,1,1,1,1,1,"GELİŞTİRİLMELİ"]
[{"$f":"IF('DAV1'!A98=\"\",\"\",'DAV1'!A98)","v":""},{"$f":"IF('DAV1'!B98=\"\",\"\",'DAV1'!B98)","v":""},{"$f":"IF('DAV1'!C98=\"\",\"\",'DAV1'!C98)","v":""},1,1,1,1,1,1,1,1,1,1,1,1,1,1,1,1,1,1,1,1,1,1,1,1,1,1,1,"GELİŞTİRİLMELİ"]
[{"$f":"IF('DAV1'!A99=\"\",\"\",'DAV1'!A99)","v":""},{"$f":"IF('DAV1'!B99=\"\",\"\",'DAV1'!B99)","v":""},{"$f":"IF('DAV1'!C99=\"\",\"\",'DAV1'!C99)","v":""},1,1,1,1,1,1,1,1,1,1,1,1,1,1,1,1,1,1,1,1,1,1,1,1,1,1,{"$f":"AVERAGE(D99:AC99)","v":1},"GELİŞTİRİLMELİ"]
[{"$f":"IF('DAV1'!A100=\"\",\"\",'DAV1'!A100)","v":""},{"$f":"IF('DAV1'!B100=\"\",\"\",'DAV1'!B100)","v":""},{"$f":"IF('DAV1'!C100=\"\",\"\",'DAV1'!C100)","v":""},1,1,1,1,1,1,1,1,1,1,1,1,1,1,1,1,1,1,1,1,1,1,1,1,1,1,1,"GELİŞTİRİLMELİ"]
[{"$f":"IF('DAV1'!A101=\"\",\"\",'DAV1'!A101)","v":""},{"$f":"IF('DAV1'!B101=\"\",\"\",'DAV1'!B101)","v":""},{"$f":"IF('DAV1'!C101=\"\",\"\",'DAV1'!C101)","v":""},1,1,1,1,1,1,1,1,1,1,1,1,1,1,1,1,1,1,1,1,1,1,1,1,1,1,1,{"$f":"IF(AD101=\"\",\"\",(IF(AD101>=2.5,\"ÇOK İYİ\",IF(AD101>=1.5,\"İYİ\",IF(AD101>=1,\"GELİŞTİRİLMELİ\")))))","v":"GELİŞTİRİLMELİ"}]
[{"$f":"IF('DAV1'!A102=\"\",\"\",'DAV1'!A102)","v":""},{"$f":"IF('DAV1'!B102=\"\",\"\",'DAV1'!B102)","v":""},{"$f":"IF('DAV1'!C102=\"\",\"\",'DAV1'!C102)","v":""},1,1,1,1,1,1,1,1,1,1,1,1,1,1,1,1,1,1,1,1,1,1,1,1,1,1,1,"GELİŞTİRİLMELİ"]
[]
[1,1,1,1,1,1,1,1,1,1,1,1,1,1,1,1,1,1,1,1,1,1,1,1,1,1,1,1,1,1,1,1,1,1,1,1,1,1,1,1,1,1,1,1,1,1,1,1,1,1,1,1,1,1,1,1,1,1,1,1,1,1,1,1,1,1,1,1,1,1,1,1,1,1,1,1,1,1,1,1,1,1,1,1,1,1,1,1,1,1,1,1,1,1,1,1,1,1,1,1]
[2,2,2,2,2,2,2,2,2,2,2,2,2,2,2,2,2,2,2,2,2,2,2,2,2,2,2,2,2,2,2,2,2,2,2,2,2,2,2,2,2,2,2,2,2,2,2,2,2,2,2,2,2,2,2,2,2,2,2,2,2,2,2,2,2,2,2,2,2,2,2,2,2,2,2,2,2,2,2,2,2,2,2,2,2,2,2,2,2,2,2,2,2,2,2,2,2,2,2,2]
[3,3,3,3,3,3,3,3,3,3,3,3,3,3,3,3,3,3,3,3,3,3,3,3,3,3,3,3,3,3,3,3,3,3,3,3,3,3,3,3,3,3,3,3,3,3,3,3,3,3,3,3,3,3,3,3,3,3,3,3,3,3,3,3,3,3,3,3,3,3,3,3,3,3,3,3,3,3,3,3,3,3,3,3,3,3,3,3,3,3,3,3,3,3,3,3,3,3,3,3]
[4,4,4,4,4,4,4,4,4,4,4,4,4,4,4,4,4,4,4,4,4,4,4,4,4,4,4,4,4,4,4,4,4,4,4,4,4,4,4,4,4,4,4,4,4,4,4,4,4,4,4,4,4,4,4,4,4,4,4,4,4,4,4,4,4,4,4,4,4,4,4,4,4,4,4,4,4,4,4,4,4,4,4,4,4,4,4,4,4,4,4,4,4,4,4,4,4,4,4,4]

{"sheet":"H2.2","index":7,"n_rows":107,"n_cols":100,"rows_kept":107,"cut":false,"hidden":false,"merged":[[0,0,0,2],[0,29,1,29],[0,30,1,30],[1,3,1,28]]}
["HAYAT BİLGİSİ \n2. DÖNEM",null,null,"HB.1.3.3. Sağlığı için yararlı yiyecek ve içecekleri seçer.","HB.1.3.4. Gün içerisinde öğünlere uygun ve dengeli beslenir.","HB.1.3.5. Temizlik kurallarına dikkat ederek kendisi için yiyecek hazırlar.","HB.1.3.6. Yemek yerken görgü kurallarına uyar.","HB.1.3.7. Kitle iletişim araçlarını kullanırken beden sağlığını korumaya özen gösterir.","HB.1.4.1. Okulda ve evde güvenlik kurallarına uyar.","HB.1.4.2. Okula geliş ve okuldan gidişlerde insanların trafikteki davranışlarını gözlemler.","HB.1.4.3. Okula geliş ve okuldan gidişlerde trafik kurallarına uyar.","HB.1.4.4. Çevresindeki kişilerle iletişim kurarken güvenlik kurallarını uygular.","HB.1.4.5. Acil durumlarda yardım almak için arayacağı kurumların telefon numaralarını bilir.","HB.1.4.6. Teknolojik araç ve gereçleri güvenli bir şekilde kullanır.","HB.1.4.7. Kendisi için güvenli ve güvensiz alanları ayırt eder.","HB.1.5.1. Yaşadığı yeri bilir.","HB.1.5.2. Yakın çevresindeki tarihî, doğal ve turistik yerleri fark eder.","HB.1.5.3. Ülkemizin genel özelliklerini tanır.","HB.1.5.4.Ülkemizde, farklı kültürlerden insanlarla bir arada yaşadığını fark eder.","HB.1.5.5. Atatürk’ün hayatını bilir.","HB.1.5.6. Bayram, kutlama ve törenlere katılmaya istekli olur.","HB.1.6.1. Yakın çevresinde bulunan hayvanları gözlemler.","HB.1.6.2. Yakın çevresinde bulunan bitkileri gözlemler.","HB.1.6.3. Yakın çevresinde bulunan hayvanları ve bitkileri korumaya özen gösterir.","HB.1.6.4. Doğayı ve çevresini temiz tutma konusunda duyarlı olur.","HB.1.6.5. Geri dönüşümü yapılabilecek maddeleri ayırt eder.","HB.1.6.6. Güneş, Ay, Dünya ve yıldızları gözlemler.","HB.1.6.7. Mevsimleri ve özelliklerini araştırır.","HB.1.6.8. Mevsimlere göre doğada meydana gelen değişiklikleri kavrar.","ORTALAMA","DEĞERLENDİRME SONUCU"]
["SIRA","OKUL NO","ADI SOYADI"]
[{"$f":"IF('DAV1'!A3=\"\",\"\",'DAV1'!A3)","v":1},{"$f":"IF('DAV1'!B3=\"\",\"\",'DAV1'!B3)","v":11},{"$f":"IF('DAV1'!C3=\"\",\"\",'DAV1'!C3)","v":"KAYRA ÇINAR ERGÜN"},1,1,1,1,1,1,1,1,1,1,1,1,1,1,1,1,1,1,1,1,1,1,1,1,null,1,{"$f":"AVERAGE(D3:AC3)","v":1},{"$f":"IF(AD3=\"\",\"\",(IF(AD3>=2.5,\"ÇOK İYİ\",IF(AD3>=1.5,\"İYİ\",IF(AD3>=1,\"GELİŞTİRİLMELİ\")))))","v":"GELİŞTİRİLMELİ"}]
[{"$f":"IF('DAV1'!A4=\"\",\"\",'DAV1'!A4)","v":2},{"$f":"IF('DAV1'!B4=\"\",\"\",'DAV1'!B4)","v":35},{"$f":"IF('DAV1'!C4=\"\",\"\",'DAV1'!C4)","v":"FURKAN SOLMAZ"},1,1,1,1,1,1,1,1,1,1,1,1,1,1,1,1,1,1,1,1,1,1,1,1,null,1,1,"GELİŞTİRİLMELİ"]
[{"$f":"IF('DAV1'!A5=\"\",\"\",'DAV1'!A5)","v":3},{"$f":"IF('DAV1'!B5=\"\",\"\",'DAV1'!B5)","v":53},{"$f":"IF('DAV1'!C5=\"\",\"\",'DAV1'!C5)","v":"İLKNUR MUMCU"},1,1,1,1,1,1,1,1,1,1,1,1,1,1,1,1,1,1,1,1,1,1,1,1,null,1,1,"GELİŞTİRİLMELİ"]
[{"$f":"IF('DAV1'!A6=\"\",\"\",'DAV1'!A6)","v":4},{"$f":"IF('DAV1'!B6=\"\",\"\",'DAV1'!B6)","v":83},{"$f":"IF('DAV1'!C6=\"\",\"\",'DAV1'!C6)","v":"MUHAMMET ALİ YILDIRIM"},1,1,1,1,1,1,1,1,1,1,1,1,1,1,1,1,1,1,1,1,1,1,1,1,null,1,1,"GELİŞTİRİLMELİ"]
[{"$f":"IF('DAV1'!A7=\"\",\"\",'DAV1'!A7)","v":5},{"$f":"IF('DAV1'!B7=\"\",\"\",'DAV1'!B7)","v":93},{"$f":"IF('DAV1'!C7=\"\",\"\",'DAV1'!C7)","v":"ERTUĞRUL GAZİ NAMLI"},1,1,1,1,1,1,1,1,1,1,1,1,1,1,1,1,1,1,1,1,1,1,1,1,null,1,1,"GELİŞTİRİLMELİ"]
[{"$f":"IF('DAV1'!A8=\"\",\"\",'DAV1'!A8)","v":6},{"$f":"IF('DAV1'!B8=\"\",\"\",'DAV1'!B8)","v":100},{"$f":"IF('DAV1'!C8=\"\",\"\",'DAV1'!C8)","v":"ECEM EFE"},1,1,1,1,1,1,1,1,1,1,1,1,1,1,1,1,1,1,1,1,1,1,1,1,null,1,1,"GELİŞTİRİLMELİ"]
[{"$f":"IF('DAV1'!A9=\"\",\"\",'DAV1'!A9)","v":7},{"$f":"IF('DAV1'!B9=\"\",\"\",'DAV1'!B9)","v":105},{"$f":"IF('DAV1'!C9=\"\",\"\",'DAV1'!C9)","v":"SELİM ZEKERİYA ÖZDEMİR"},1,1,1,1,1,1,1,1,1,1,1,1,1,1,1,1,1,1,1,1,1,1,1,1,null,1,1,"GELİŞTİRİLMELİ"]
[{"$f":"IF('DAV1'!A10=\"\",\"\",'DAV1'!A10)","v":8},{"$f":"IF('DAV1'!B10=\"\",\"\",'DAV1'!B10)","v":108},{"$f":"IF('DAV1'!C10=\"\",\"\",'DAV1'!C10)","v":"AREN KARAKAŞ"},1,1,1,1,1,1,1,1,1,1,1,1,1,1,1,1,1,1,1,1,1,1,1,1,null,1,1,"GELİŞTİRİLMELİ"]
[{"$f":"IF('DAV1'!A11=\"\",\"\",'DAV1'!A11)","v":9},{"$f":"IF('DAV1'!B11=\"\",\"\",'DAV1'!B11)","v":111},{"$f":"IF('DAV1'!C11=\"\",\"\",'DAV1'!C11)","v":"ZEHRA ŞAHİNOĞLU"},1,1,1,1,1,1,1,1,1,1,1,1,1,1,1,1,1,1,1,1,1,1,1,1,null,1,1,"GELİŞTİRİLMELİ"]
[{"$f":"IF('DAV1'!A12=\"\",\"\",'DAV1'!A12)","v":10},{"$f":"IF('DAV1'!B12=\"\",\"\",'DAV1'!B12)","v":113},{"$f":"IF('DAV1'!C12=\"\",\"\",'DAV1'!C12)","v":"YUSUF ALİ TÜNÇ"},1,1,1,1,1,1,1,1,1,1,1,1,1,1,1,1,1,1,1,1,1,1,1,1,null,1,1,"GELİŞTİRİLMELİ"]
[{"$f":"IF('DAV1'!A13=\"\",\"\",'DAV1'!A13)","v":11},{"$f":"IF('DAV1'!B13=\"\",\"\",'DAV1'!B13)","v":161},{"$f":"IF('DAV1'!C13=\"\",\"\",'DAV1'!C13)","v":"HÜSEYİN CELAYİR"},1,1,1,1,1,1,1,1,1,1,1,1,1,1,1,1,1,1,1,1,1,1,1,1,null,1,1,"GELİŞTİRİLMELİ"]
[{"$f":"IF('DAV1'!A14=\"\",\"\",'DAV1'!A14)","v":12},{"$f":"IF('DAV1'!B14=\"\",\"\",'DAV1'!B14)","v":177},{"$f":"IF('DAV1'!C14=\"\",\"\",'DAV1'!C14)","v":"YİĞİT EFE YEŞİLDAL"},1,1,1,1,1,1,1,1,1,1,1,1,1,1,1,1,1,1,1,1,1,1,1,1,null,1,1,"GELİŞTİRİLMELİ"]
[{"$f":"IF('DAV1'!A15=\"\",\"\",'DAV1'!A15)","v":13},{"$f":"IF('DAV1'!B15=\"\",\"\",'DAV1'!B15)","v":187},{"$f":"IF('DAV1'!C15=\"\",\"\",'DAV1'!C15)","v":"HALEF TAHA ATEŞ"},1,1,1,1,1,1,1,1,1,1,1,1,1,1,1,1,1,1,1,1,1,1,1,1,null,1,1,"GELİŞTİRİLMELİ"]
[{"$f":"IF('DAV1'!A16=\"\",\"\",'DAV1'!A16)","v":14},{"$f":"IF('DAV1'!B16=\"\",\"\",'DAV1'!B16)","v":188},{"$f":"IF('DAV1'!C16=\"\",\"\",'DAV1'!C16)","v":"EMİRHAN MERTOĞLU"},1,1,1,1,1,1,1,1,1,1,1,1,1,1,1,1,1,1,1,1,1,1,1,1,null,1,1,"GELİŞTİRİLMELİ"]
[{"$f":"IF('DAV1'!A17=\"\",\"\",'DAV1'!A17)","v":15},{"$f":"IF('DAV1'!B17=\"\",\"\",'DAV1'!B17)","v":189},{"$f":"IF('DAV1'!C17=\"\",\"\",'DAV1'!C17)","v":"EMİNE GÜVEN"},1,1,1,1,1,1,1,1,1,1,1,1,1,1,1,1,1,1,1,1,1,1,1,1,null,1,1,"GELİŞTİRİLMELİ"]
[{"$f":"IF('DAV1'!A18=\"\",\"\",'DAV1'!A18)","v":16},{"$f":"IF('DAV1'!B18=\"\",\"\",'DAV1'!B18)","v":213},{"$f":"IF('DAV1'!C18=\"\",\"\",'DAV1'!C18)","v":"YAĞMUR KILIÇ"},1,1,1,1,1,1,1,1,1,1,1,1,1,1,1,1,1,1,1,1,1,1,1,1,null,1,1,"GELİŞTİRİLMELİ"]
[{"$f":"IF('DAV1'!A19=\"\",\"\",'DAV1'!A19)","v":17},{"$f":"IF('DAV1'!B19=\"\",\"\",'DAV1'!B19)","v":214},{"$f":"IF('DAV1'!C19=\"\",\"\",'DAV1'!C19)","v":"ERDAL GÜLATAR"},1,1,1,1,1,1,1,1,1,1,1,1,1,1,1,1,1,1,1,1,1,1,1,1,null,1,1,"GELİŞTİRİLMELİ"]
[{"$f":"IF('DAV1'!A20=\"\",\"\",'DAV1'!A20)","v":18},{"$f":"IF('DAV1'!B20=\"\",\"\",'DAV1'!B20)","v":216},{"$f":"IF('DAV1'!C20=\"\",\"\",'DAV1'!C20)","v":"GAMZE ACAR"},1,1,1,1,1,1,1,1,1,1,1,1,1,1,1,1,1,1,1,1,1,1,1,1,null,1,1,"GELİŞTİRİLMELİ"]
[{"$f":"IF('DAV1'!A21=\"\",\"\",'DAV1'!A21)","v":19},{"$f":"IF('DAV1'!B21=\"\",\"\",'DAV1'!B21)","v":222},{"$f":"IF('DAV1'!C21=\"\",\"\",'DAV1'!C21)","v":"HİRANUR DOĞANDEMİR"},1,1,1,1,1,1,1,1,1,1,1,1,1,1,1,1,1,1,1,1,1,1,1,1,null,1,1,"GELİŞTİRİLMELİ"]
[{"$f":"IF('DAV1'!A22=\"\",\"\",'DAV1'!A22)","v":20},{"$f":"IF('DAV1'!B22=\"\",\"\",'DAV1'!B22)","v":224},{"$f":"IF('DAV1'!C22=\"\",\"\",'DAV1'!C22)","v":"TALHA YILMAZ"},1,1,1,1,1,1,1,1,1,1,1,1,1,1,1,1,1,1,1,1,1,1,1,1,null,1,1,"GELİŞTİRİLMELİ"]
[{"$f":"IF('DAV1'!A23=\"\",\"\",'DAV1'!A23)","v":21},{"$f":"IF('DAV1'!B23=\"\",\"\",'DAV1'!B23)","v":225},{"$f":"IF('DAV1'!C23=\"\",\"\",'DAV1'!C23)","v":"YUSUF EMİR DAĞDÖGEN"},1,1,1,1,1,1,1,1,1,1,1,1,1,1,1,1,1,1,1,1,1,1,1,1,null,1,1,"GELİŞTİRİLMELİ"]
[{"$f":"IF('DAV1'!A24=\"\",\"\",'DAV1'!A24)","v":22},{"$f":"IF('DAV1'!B24=\"\",\"\",'DAV1'!B24)","v":226},{"$f":"IF('DAV1'!C24=\"\",\"\",'DAV1'!C24)","v":"İMREN CANPOLAT"},1,1,1,1,1,1,1,1,1,1,1,1,1,1,1,1,1,1,1,1,1,1,1,1,null,1,1,"GELİŞTİRİLMELİ"]
[{"$f":"IF('DAV1'!A25=\"\",\"\",'DAV1'!A25)","v":23},{"$f":"IF('DAV1'!B25=\"\",\"\",'DAV1'!B25)","v":227},{"$f":"IF('DAV1'!C25=\"\",\"\",'DAV1'!C25)","v":"ZEYNEP CANPOLAT"},1,1,1,1,1,1,1,1,1,1,1,1,1,1,1,1,1,1,1,1,1,1,1,1,null,1,1,"GELİŞTİRİLMELİ"]
[{"$f":"IF('DAV1'!A26=\"\",\"\",'DAV1'!A26)","v":24},{"$f":"IF('DAV1'!B26=\"\",\"\",'DAV1'!B26)","v":229},{"$f":"IF('DAV1'!C26=\"\",\"\",'DAV1'!C26)","v":"MERYEM PARMAK"},1,1,1,1,1,1,1,1,1,1,1,1,1,1,1,1,1,1,1,1,1,1,1,1,null,1,1,"GELİŞTİRİLMELİ"]
[{"$f":"IF('DAV1'!A27=\"\",\"\",'DAV1'!A27)","v":25},{"$f":"IF('DAV1'!B27=\"\",\"\",'DAV1'!B27)","v":237},{"$f":"IF('DAV1'!C27=\"\",\"\",'DAV1'!C27)","v":"ZEYNEP MİRAY BOYRAZ"},1,1,1,1,1,1,1,1,1,1,1,1,1,1,1,1,1,1,1,1,1,1,1,1,null,1,1,"GELİŞTİRİLMELİ"]
[{"$f":"IF('DAV1'!A28=\"\",\"\",'DAV1'!A28)","v":26},{"$f":"IF('DAV1'!B28=\"\",\"\",'DAV1'!B28)","v":244},{"$f":"IF('DAV1'!C28=\"\",\"\",'DAV1'!C28)","v":"TAMER ŞEKERCİLEROĞLU"},1,1,1,1,1,1,1,1,1,1,1,1,1,1,1,1,1,1,1,1,1,1,1,1,null,1,1,"GELİŞTİRİLMELİ"]
[{"$f":"IF('DAV1'!A29=\"\",\"\",'DAV1'!A29)","v":27},{"$f":"IF('DAV1'!B29=\"\",\"\",'DAV1'!B29)","v":263},{"$f":"IF('DAV1'!C29=\"\",\"\",'DAV1'!C29)","v":"MUHAMMED YUSUF YILMAZ"},1,1,1,1,1,1,1,1,1,1,1,1,1,1,1,1,1,1,1,1,1,1,1,1,null,1,1,"GELİŞTİRİLMELİ"]
[{"$f":"IF('DAV1'!A30=\"\",\"\",'DAV1'!A30)","v":28},{"$f":"IF('DAV1'!B30=\"\",\"\",'DAV1'!B30)","v":264},{"$f":"IF('DAV1'!C30=\"\",\"\",'DAV1'!C30)","v":"OĞUZHAN GÜRGÜZE"},1,1,1,1,1,1,1,1,1,1,1,1,1,1,1,1,1,1,1,1,1,1,1,1,null,1,1,"GELİŞTİRİLMELİ"]
[{"$f":"IF('DAV1'!A31=\"\",\"\",'DAV1'!A31)","v":29},{"$f":"IF('DAV1'!B31=\"\",\"\",'DAV1'!B31)","v":279},{"$f":"IF('DAV1'!C31=\"\",\"\",'DAV1'!C31)","v":"MİHRİMA EKİCİ"},1,1,1,1,1,1,1,1,1,1,1,1,1,1,1,1,1,1,1,1,1,1,1,1,null,1,1,"GELİŞTİRİLMELİ"]
[{"$f":"IF('DAV1'!A32=\"\",\"\",'DAV1'!A32)","v":30},{"$f":"IF('DAV1'!B32=\"\",\"\",'DAV1'!B32)","v":290},{"$f":"IF('DAV1'!C32=\"\",\"\",'DAV1'!C32)","v":"NİSA NUR YILDIZ"},1,1,1,1,1,1,1,1,1,1,1,1,1,1,1,1,1,1,1,1,1,1,1,1,null,1,1,"GELİŞTİRİLMELİ"]
[{"$f":"IF('DAV1'!A33=\"\",\"\",'DAV1'!A33)","v":31},{"$f":"IF('DAV1'!B33=\"\",\"\",'DAV1'!B33)","v":293},{"$f":"IF('DAV1'!C33=\"\",\"\",'DAV1'!C33)","v":"MEHMET ALATAŞ"},1,1,1,1,1,1,1,1,1,1,1,1,1,1,1,1,1,1,1,1,1,1,1,1,null,1,1,"GELİŞTİRİLMELİ"]
[{"$f":"IF('DAV1'!A34=\"\",\"\",'DAV1'!A34)","v":32},{"$f":"IF('DAV1'!B34=\"\",\"\",'DAV1'!B34)","v":451},{"$f":"IF('DAV1'!C34=\"\",\"\",'DAV1'!C34)","v":"İKRA YILDIRIM"},1,1,1,1,1,1,1,1,1,1,1,1,1,1,1,1,1,1,1,1,1,1,1,1,null,1,1,"GELİŞTİRİLMELİ"]
[{"$f":"IF('DAV1'!A35=\"\",\"\",'DAV1'!A35)","v":33},{"$f":"IF('DAV1'!B35=\"\",\"\",'DAV1'!B35)","v":616},{"$f":"IF('DAV1'!C35=\"\",\"\",'DAV1'!C35)","v":"EDA TURAL"},1,1,1,1,1,1,1,1,1,1,1,1,1,1,1,1,1,1,1,1,1,1,1,1,null,1,{"$f":"AVERAGE(D35:AC35)","v":1},"GELİŞTİRİLMELİ"]
[{"$f":"IF('DAV1'!A36=\"\",\"\",'DAV1'!A36)","v":34},{"$f":"IF('DAV1'!B36=\"\",\"\",'DAV1'!B36)","v":892},{"$f":"IF('DAV1'!C36=\"\",\"\",'DAV1'!C36)","v":"ALMA ALRAMADAN"},1,1,1,1,1,1,1,1,1,1,1,1,1,1,1,1,1,1,1,1,1,1,1,1,null,1,1,"GELİŞTİRİLMELİ"]
[{"$f":"IF('DAV1'!A37=\"\",\"\",'DAV1'!A37)","v":35},{"$f":"IF('DAV1'!B37=\"\",\"\",'DAV1'!B37)","v":1000},{"$f":"IF('DAV1'!C37=\"\",\"\",'DAV1'!C37)","v":"TURGUT POLAT"},1,1,1,1,1,1,1,1,1,1,1,1,1,1,1,1,1,1,1,1,1,1,1,1,null,1,1,{"$f":"IF(AD37=\"\",\"\",(IF(AD37>=2.5,\"ÇOK İYİ\",IF(AD37>=1.5,\"İYİ\",IF(AD37>=1,\"GELİŞTİRİLMELİ\")))))","v":"GELİŞTİRİLMELİ"}]
[{"$f":"IF('DAV1'!A38=\"\",\"\",'DAV1'!A38)","v":""},{"$f":"IF('DAV1'!B38=\"\",\"\",'DAV1'!B38)","v":""},{"$f":"IF('DAV1'!C38=\"\",\"\",'DAV1'!C38)","v":""},1,1,1,1,1,1,1,1,1,1,1,1,1,1,1,1,1,1,1,1,1,1,1,1,null,1,1,"GELİŞTİRİLMELİ"]
[{"$f":"IF('DAV1'!A39=\"\",\"\",'DAV1'!A39)","v":""},{"$f":"IF('DAV1'!B39=\"\",\"\",'DAV1'!B39)","v":""},{"$f":"IF('DAV1'!C39=\"\",\"\",'DAV1'!C39)","v":""},1,1,1,1,1,1,1,1,1,1,1,1,1,1,1,1,1,1,1,1,1,1,1,1,null,1,1,"GELİŞTİRİLMELİ"]
[{"$f":"IF('DAV1'!A40=\"\",\"\",'DAV1'!A40)","v":""},{"$f":"IF('DAV1'!B40=\"\",\"\",'DAV1'!B40)","v":""},{"$f":"IF('DAV1'!C40=\"\",\"\",'DAV1'!C40)","v":""},1,1,1,1,1,1,1,1,1,1,1,1,1,1,1,1,1,1,1,1,1,1,1,1,null,1,1,"GELİŞTİRİLMELİ"]
[{"$f":"IF('DAV1'!A41=\"\",\"\",'DAV1'!A41)","v":""},{"$f":"IF('DAV1'!B41=\"\",\"\",'DAV1'!B41)","v":""},{"$f":"IF('DAV1'!C41=\"\",\"\",'DAV1'!C41)","v":""},1,1,1,1,1,1,1,1,1,1,1,1,1,1,1,1,1,1,1,1,1,1,1,1,null,1,1,"GELİŞTİRİLMELİ"]
[{"$f":"IF('DAV1'!A42=\"\",\"\",'DAV1'!A42)","v":""},{"$f":"IF('DAV1'!B42=\"\",\"\",'DAV1'!B42)","v":""},{"$f":"IF('DAV1'!C42=\"\",\"\",'DAV1'!C42)","v":""},1,1,1,1,1,1,1,1,1,1,1,1,1,1,1,1,1,1,1,1,1,1,1,1,null,1,1,"GELİŞTİRİLMELİ"]
[{"$f":"IF('DAV1'!A43=\"\",\"\",'DAV1'!A43)","v":""},{"$f":"IF('DAV1'!B43=\"\",\"\",'DAV1'!B43)","v":""},{"$f":"IF('DAV1'!C43=\"\",\"\",'DAV1'!C43)","v":""},1,1,1,1,1,1,1,1,1,1,1,1,1,1,1,1,1,1,1,1,1,1,1,1,null,1,1,"GELİŞTİRİLMELİ"]
[{"$f":"IF('DAV1'!A44=\"\",\"\",'DAV1'!A44)","v":""},{"$f":"IF('DAV1'!B44=\"\",\"\",'DAV1'!B44)","v":""},{"$f":"IF('DAV1'!C44=\"\",\"\",'DAV1'!C44)","v":""},1,1,1,1,1,1,1,1,1,1,1,1,1,1,1,1,1,1,1,1,1,1,1,1,null,1,1,"GELİŞTİRİLMELİ"]
[{"$f":"IF('DAV1'!A45=\"\",\"\",'DAV1'!A45)","v":""},{"$f":"IF('DAV1'!B45=\"\",\"\",'DAV1'!B45)","v":""},{"$f":"IF('DAV1'!C45=\"\",\"\",'DAV1'!C45)","v":""},1,1,1,1,1,1,1,1,1,1,1,1,1,1,1,1,1,1,1,1,1,1,1,1,null,1,1,"GELİŞTİRİLMELİ"]
[{"$f":"IF('DAV1'!A46=\"\",\"\",'DAV1'!A46)","v":""},{"$f":"IF('DAV1'!B46=\"\",\"\",'DAV1'!B46)","v":""},{"$f":"IF('DAV1'!C46=\"\",\"\",'DAV1'!C46)","v":""},1,1,1,1,1,1,1,1,1,1,1,1,1,1,1,1,1,1,1,1,1,1,1,1,null,1,1,"GELİŞTİRİLMELİ"]
[{"$f":"IF('DAV1'!A47=\"\",\"\",'DAV1'!A47)","v":""},{"$f":"IF('DAV1'!B47=\"\",\"\",'DAV1'!B47)","v":""},{"$f":"IF('DAV1'!C47=\"\",\"\",'DAV1'!C47)","v":""},1,1,1,1,1,1,1,1,1,1,1,1,1,1,1,1,1,1,1,1,1,1,1,1,null,1,1,"GELİŞTİRİLMELİ"]
[{"$f":"IF('DAV1'!A48=\"\",\"\",'DAV1'!A48)","v":""},{"$f":"IF('DAV1'!B48=\"\",\"\",'DAV1'!B48)","v":""},{"$f":"IF('DAV1'!C48=\"\",\"\",'DAV1'!C48)","v":""},1,1,1,1,1,1,1,1,1,1,1,1,1,1,1,1,1,1,1,1,1,1,1,1,null,1,1,"GELİŞTİRİLMELİ"]
[{"$f":"IF('DAV1'!A49=\"\",\"\",'DAV1'!A49)","v":""},{"$f":"IF('DAV1'!B49=\"\",\"\",'DAV1'!B49)","v":""},{"$f":"IF('DAV1'!C49=\"\",\"\",'DAV1'!C49)","v":""},1,1,1,1,1,1,1,1,1,1,1,1,1,1,1,1,1,1,1,1,1,1,1,1,null,1,1,"GELİŞTİRİLMELİ"]
[{"$f":"IF('DAV1'!A50=\"\",\"\",'DAV1'!A50)","v":""},{"$f":"IF('DAV1'!B50=\"\",\"\",'DAV1'!B50)","v":""},{"$f":"IF('DAV1'!C50=\"\",\"\",'DAV1'!C50)","v":""},1,1,1,1,1,1,1,1,1,1,1,1,1,1,1,1,1,1,1,1,1,1,1,1,null,1,1,"GELİŞTİRİLMELİ"]
[{"$f":"IF('DAV1'!A51=\"\",\"\",'DAV1'!A51)","v":""},{"$f":"IF('DAV1'!B51=\"\",\"\",'DAV1'!B51)","v":""},{"$f":"IF('DAV1'!C51=\"\",\"\",'DAV1'!C51)","v":""},1,1,1,1,1,1,1,1,1,1,1,1,1,1,1,1,1,1,1,1,1,1,1,1,null,1,1,"GELİŞTİRİLMELİ"]
[{"$f":"IF('DAV1'!A52=\"\",\"\",'DAV1'!A52)","v":""},{"$f":"IF('DAV1'!B52=\"\",\"\",'DAV1'!B52)","v":""},{"$f":"IF('DAV1'!C52=\"\",\"\",'DAV1'!C52)","v":""},1,1,1,1,1,1,1,1,1,1,1,1,1,1,1,1,1,1,1,1,1,1,1,1,null,1,1,"GELİŞTİRİLMELİ"]
[{"$f":"IF('DAV1'!A53=\"\",\"\",'DAV1'!A53)","v":""},{"$f":"IF('DAV1'!B53=\"\",\"\",'DAV1'!B53)","v":""},{"$f":"IF('DAV1'!C53=\"\",\"\",'DAV1'!C53)","v":""},1,1,1,1,1,1,1,1,1,1,1,1,1,1,1,1,1,1,1,1,1,1,1,1,null,1,1,"GELİŞTİRİLMELİ"]
[{"$f":"IF('DAV1'!A54=\"\",\"\",'DAV1'!A54)","v":""},{"$f":"IF('DAV1'!B54=\"\",\"\",'DAV1'!B54)","v":""},{"$f":"IF('DAV1'!C54=\"\",\"\",'DAV1'!C54)","v":""},1,1,1,1,1,1,1,1,1,1,1,1,1,1,1,1,1,1,1,1,1,1,1,1,null,1,1,"GELİŞTİRİLMELİ"]
[{"$f":"IF('DAV1'!A55=\"\",\"\",'DAV1'!A55)","v":""},{"$f":"IF('DAV1'!B55=\"\",\"\",'DAV1'!B55)","v":""},{"$f":"IF('DAV1'!C55=\"\",\"\",'DAV1'!C55)","v":""},1,1,1,1,1,1,1,1,1,1,1,1,1,1,1,1,1,1,1,1,1,1,1,1,null,1,1,"GELİŞTİRİLMELİ"]
[{"$f":"IF('DAV1'!A56=\"\",\"\",'DAV1'!A56)","v":""},{"$f":"IF('DAV1'!B56=\"\",\"\",'DAV1'!B56)","v":""},{"$f":"IF('DAV1'!C56=\"\",\"\",'DAV1'!C56)","v":""},1,1,1,1,1,1,1,1,1,1,1,1,1,1,1,1,1,1,1,1,1,1,1,1,null,1,1,"GELİŞTİRİLMELİ"]
[{"$f":"IF('DAV1'!A57=\"\",\"\",'DAV1'!A57)","v":""},{"$f":"IF('DAV1'!B57=\"\",\"\",'DAV1'!B57)","v":""},{"$f":"IF('DAV1'!C57=\"\",\"\",'DAV1'!C57)","v":""},1,1,1,1,1,1,1,1,1,1,1,1,1,1,1,1,1,1,1,1,1,1,1,1,null,1,1,"GELİŞTİRİLMELİ"]
[{"$f":"IF('DAV1'!A58=\"\",\"\",'DAV1'!A58)","v":""},{"$f":"IF('DAV1'!B58=\"\",\"\",'DAV1'!B58)","v":""},{"$f":"IF('DAV1'!C58=\"\",\"\",'DAV1'!C58)","v":""},1,1,1,1,1,1,1,1,1,1,1,1,1,1,1,1,1,1,1,1,1,1,1,1,null,1,1,"GELİŞTİRİLMELİ"]
[{"$f":"IF('DAV1'!A59=\"\",\"\",'DAV1'!A59)","v":""},{"$f":"IF('DAV1'!B59=\"\",\"\",'DAV1'!B59)","v":""},{"$f":"IF('DAV1'!C59=\"\",\"\",'DAV1'!C59)","v":""},1,1,1,1,1,1,1,1,1,1,1,1,1,1,1,1,1,1,1,1,1,1,1,1,null,1,1,"GELİŞTİRİLMELİ"]
[{"$f":"IF('DAV1'!A60=\"\",\"\",'DAV1'!A60)","v":""},{"$f":"IF('DAV1'!B60=\"\",\"\",'DAV1'!B60)","v":""},{"$f":"IF('DAV1'!C60=\"\",\"\",'DAV1'!C60)","v":""},1,1,1,1,1,1,1,1,1,1,1,1,1,1,1,1,1,1,1,1,1,1,1,1,null,1,1,"GELİŞTİRİLMELİ"]
[{"$f":"IF('DAV1'!A61=\"\",\"\",'DAV1'!A61)","v":""},{"$f":"IF('DAV1'!B61=\"\",\"\",'DAV1'!B61)","v":""},{"$f":"IF('DAV1'!C61=\"\",\"\",'DAV1'!C61)","v":""},1,1,1,1,1,1,1,1,1,1,1,1,1,1,1,1,1,1,1,1,1,1,1,1,null,1,1,"GELİŞTİRİLMELİ"]
[{"$f":"IF('DAV1'!A62=\"\",\"\",'DAV1'!A62)","v":""},{"$f":"IF('DAV1'!B62=\"\",\"\",'DAV1'!B62)","v":""},{"$f":"IF('DAV1'!C62=\"\",\"\",'DAV1'!C62)","v":""},1,1,1,1,1,1,1,1,1,1,1,1,1,1,1,1,1,1,1,1,1,1,1,1,null,1,1,"GELİŞTİRİLMELİ"]
[{"$f":"IF('DAV1'!A63=\"\",\"\",'DAV1'!A63)","v":""},{"$f":"IF('DAV1'!B63=\"\",\"\",'DAV1'!B63)","v":""},{"$f":"IF('DAV1'!C63=\"\",\"\",'DAV1'!C63)","v":""},1,1,1,1,1,1,1,1,1,1,1,1,1,1,1,1,1,1,1,1,1,1,1,1,null,1,1,"GELİŞTİRİLMELİ"]
[{"$f":"IF('DAV1'!A64=\"\",\"\",'DAV1'!A64)","v":""},{"$f":"IF('DAV1'!B64=\"\",\"\",'DAV1'!B64)","v":""},{"$f":"IF('DAV1'!C64=\"\",\"\",'DAV1'!C64)","v":""},1,1,1,1,1,1,1,1,1,1,1,1,1,1,1,1,1,1,1,1,1,1,1,1,null,1,1,"GELİŞTİRİLMELİ"]
[{"$f":"IF('DAV1'!A65=\"\",\"\",'DAV1'!A65)","v":""},{"$f":"IF('DAV1'!B65=\"\",\"\",'DAV1'!B65)","v":""},{"$f":"IF('DAV1'!C65=\"\",\"\",'DAV1'!C65)","v":""},1,1,1,1,1,1,1,1,1,1,1,1,1,1,1,1,1,1,1,1,1,1,1,1,null,1,1,"GELİŞTİRİLMELİ"]
[{"$f":"IF('DAV1'!A66=\"\",\"\",'DAV1'!A66)","v":""},{"$f":"IF('DAV1'!B66=\"\",\"\",'DAV1'!B66)","v":""},{"$f":"IF('DAV1'!C66=\"\",\"\",'DAV1'!C66)","v":""},1,1,1,1,1,1,1,1,1,1,1,1,1,1,1,1,1,1,1,1,1,1,1,1,null,1,1,"GELİŞTİRİLMELİ"]
[{"$f":"IF('DAV1'!A67=\"\",\"\",'DAV1'!A67)","v":""},{"$f":"IF('DAV1'!B67=\"\",\"\",'DAV1'!B67)","v":""},{"$f":"IF('DAV1'!C67=\"\",\"\",'DAV1'!C67)","v":""},1,1,1,1,1,1,1,1,1,1,1,1,1,1,1,1,1,1,1,1,1,1,1,1,null,1,{"$f":"AVERAGE(D67:AC67)","v":1},"GELİŞTİRİLMELİ"]
[{"$f":"IF('DAV1'!A68=\"\",\"\",'DAV1'!A68)","v":""},{"$f":"IF('DAV1'!B68=\"\",\"\",'DAV1'!B68)","v":""},{"$f":"IF('DAV1'!C68=\"\",\"\",'DAV1'!C68)","v":""},1,1,1,1,1,1,1,1,1,1,1,1,1,1,1,1,1,1,1,1,1,1,1,1,null,1,1,"GELİŞTİRİLMELİ"]
[{"$f":"IF('DAV1'!A69=\"\",\"\",'DAV1'!A69)","v":""},{"$f":"IF('DAV1'!B69=\"\",\"\",'DAV1'!B69)","v":""},{"$f":"IF('DAV1'!C69=\"\",\"\",'DAV1'!C69)","v":""},1,1,1,1,1,1,1,1,1,1,1,1,1,1,1,1,1,1,1,1,1,1,1,1,null,1,1,"GELİŞTİRİLMELİ"]
[{"$f":"IF('DAV1'!A70=\"\",\"\",'DAV1'!A70)","v":""},{"$f":"IF('DAV1'!B70=\"\",\"\",'DAV1'!B70)","v":""},{"$f":"IF('DAV1'!C70=\"\",\"\",'DAV1'!C70)","v":""},1,1,1,1,1,1,1,1,1,1,1,1,1,1,1,1,1,1,1,1,1,1,1,1,null,1,1,"GELİŞTİRİLMELİ"]
[{"$f":"IF('DAV1'!A71=\"\",\"\",'DAV1'!A71)","v":""},{"$f":"IF('DAV1'!B71=\"\",\"\",'DAV1'!B71)","v":""},{"$f":"IF('DAV1'!C71=\"\",\"\",'DAV1'!C71)","v":""},1,1,1,1,1,1,1,1,1,1,1,1,1,1,1,1,1,1,1,1,1,1,1,1,null,1,1,"GELİŞTİRİLMELİ"]
[{"$f":"IF('DAV1'!A72=\"\",\"\",'DAV1'!A72)","v":""},{"$f":"IF('DAV1'!B72=\"\",\"\",'DAV1'!B72)","v":""},{"$f":"IF('DAV1'!C72=\"\",\"\",'DAV1'!C72)","v":""},1,1,1,1,1,1,1,1,1,1,1,1,1,1,1,1,1,1,1,1,1,1,1,1,null,1,1,"GELİŞTİRİLMELİ"]
[{"$f":"IF('DAV1'!A73=\"\",\"\",'DAV1'!A73)","v":""},{"$f":"IF('DAV1'!B73=\"\",\"\",'DAV1'!B73)","v":""},{"$f":"IF('DAV1'!C73=\"\",\"\",'DAV1'!C73)","v":""},1,1,1,1,1,1,1,1,1,1,1,1,1,1,1,1,1,1,1,1,1,1,1,1,null,1,1,"GELİŞTİRİLMELİ"]
[{"$f":"IF('DAV1'!A74=\"\",\"\",'DAV1'!A74)","v":""},{"$f":"IF('DAV1'!B74=\"\",\"\",'DAV1'!B74)","v":""},{"$f":"IF('DAV1'!C74=\"\",\"\",'DAV1'!C74)","v":""},1,1,1,1,1,1,1,1,1,1,1,1,1,1,1,1,1,1,1,1,1,1,1,1,null,1,1,"GELİŞTİRİLMELİ"]
[{"$f":"IF('DAV1'!A75=\"\",\"\",'DAV1'!A75)","v":""},{"$f":"IF('DAV1'!B75=\"\",\"\",'DAV1'!B75)","v":""},{"$f":"IF('DAV1'!C75=\"\",\"\",'DAV1'!C75)","v":""},1,1,1,1,1,1,1,1,1,1,1,1,1,1,1,1,1,1,1,1,1,1,1,1,null,1,1,"GELİŞTİRİLMELİ"]
[{"$f":"IF('DAV1'!A76=\"\",\"\",'DAV1'!A76)","v":""},{"$f":"IF('DAV1'!B76=\"\",\"\",'DAV1'!B76)","v":""},{"$f":"IF('DAV1'!C76=\"\",\"\",'DAV1'!C76)","v":""},1,1,1,1,1,1,1,1,1,1,1,1,1,1,1,1,1,1,1,1,1,1,1,1,null,1,1,"GELİŞTİRİLMELİ"]
[{"$f":"IF('DAV1'!A77=\"\",\"\",'DAV1'!A77)","v":""},{"$f":"IF('DAV1'!B77=\"\",\"\",'DAV1'!B77)","v":""},{"$f":"IF('DAV1'!C77=\"\",\"\",'DAV1'!C77)","v":""},1,1,1,1,1,1,1,1,1,1,1,1,1,1,1,1,1,1,1,1,1,1,1,1,null,1,1,"GELİŞTİRİLMELİ"]
[{"$f":"IF('DAV1'!A78=\"\",\"\",'DAV1'!A78)","v":""},{"$f":"IF('DAV1'!B78=\"\",\"\",'DAV1'!B78)","v":""},{"$f":"IF('DAV1'!C78=\"\",\"\",'DAV1'!C78)","v":""},1,1,1,1,1,1,1,1,1,1,1,1,1,1,1,1,1,1,1,1,1,1,1,1,null,1,1,"GELİŞTİRİLMELİ"]
[{"$f":"IF('DAV1'!A79=\"\",\"\",'DAV1'!A79)","v":""},{"$f":"IF('DAV1'!B79=\"\",\"\",'DAV1'!B79)","v":""},{"$f":"IF('DAV1'!C79=\"\",\"\",'DAV1'!C79)","v":""},1,1,1,1,1,1,1,1,1,1,1,1,1,1,1,1,1,1,1,1,1,1,1,1,null,1,1,"GELİŞTİRİLMELİ"]
[{"$f":"IF('DAV1'!A80=\"\",\"\",'DAV1'!A80)","v":""},{"$f":"IF('DAV1'!B80=\"\",\"\",'DAV1'!B80)","v":""},{"$f":"IF('DAV1'!C80=\"\",\"\",'DAV1'!C80)","v":""},1,1,1,1,1,1,1,1,1,1,1,1,1,1,1,1,1,1,1,1,1,1,1,1,null,1,1,"GELİŞTİRİLMELİ"]
[{"$f":"IF('DAV1'!A81=\"\",\"\",'DAV1'!A81)","v":""},{"$f":"IF('DAV1'!B81=\"\",\"\",'DAV1'!B81)","v":""},{"$f":"IF('DAV1'!C81=\"\",\"\",'DAV1'!C81)","v":""},1,1,1,1,1,1,1,1,1,1,1,1,1,1,1,1,1,1,1,1,1,1,1,1,null,1,1,"GELİŞTİRİLMELİ"]
[{"$f":"IF('DAV1'!A82=\"\",\"\",'DAV1'!A82)","v":""},{"$f":"IF('DAV1'!B82=\"\",\"\",'DAV1'!B82)","v":""},{"$f":"IF('DAV1'!C82=\"\",\"\",'DAV1'!C82)","v":""},1,1,1,1,1,1,1,1,1,1,1,1,1,1,1,1,1,1,1,1,1,1,1,1,null,1,1,"GELİŞTİRİLMELİ"]
[{"$f":"IF('DAV1'!A83=\"\",\"\",'DAV1'!A83)","v":""},{"$f":"IF('DAV1'!B83=\"\",\"\",'DAV1'!B83)","v":""},{"$f":"IF('DAV1'!C83=\"\",\"\",'DAV1'!C83)","v":""},1,1,1,1,1,1,1,1,1,1,1,1,1,1,1,1,1,1,1,1,1,1,1,1,null,1,1,"GELİŞTİRİLMELİ"]
[{"$f":"IF('DAV1'!A84=\"\",\"\",'DAV1'!A84)","v":""},{"$f":"IF('DAV1'!B84=\"\",\"\",'DAV1'!B84)","v":""},{"$f":"IF('DAV1'!C84=\"\",\"\",'DAV1'!C84)","v":""},1,1,1,1,1,1,1,1,1,1,1,1,1,1,1,1,1,1,1,1,1,1,1,1,null,1,1,"GELİŞTİRİLMELİ"]
[{"$f":"IF('DAV1'!A85=\"\",\"\",'DAV1'!A85)","v":""},{"$f":"IF('DAV1'!B85=\"\",\"\",'DAV1'!B85)","v":""},{"$f":"IF('DAV1'!C85=\"\",\"\",'DAV1'!C85)","v":""},1,1,1,1,1,1,1,1,1,1,1,1,1,1,1,1,1,1,1,1,1,1,1,1,null,1,1,"GELİŞTİRİLMELİ"]
[{"$f":"IF('DAV1'!A86=\"\",\"\",'DAV1'!A86)","v":""},{"$f":"IF('DAV1'!B86=\"\",\"\",'DAV1'!B86)","v":""},{"$f":"IF('DAV1'!C86=\"\",\"\",'DAV1'!C86)","v":""},1,1,1,1,1,1,1,1,1,1,1,1,1,1,1,1,1,1,1,1,1,1,1,1,null,1,1,"GELİŞTİRİLMELİ"]
[{"$f":"IF('DAV1'!A87=\"\",\"\",'DAV1'!A87)","v":""},{"$f":"IF('DAV1'!B87=\"\",\"\",'DAV1'!B87)","v":""},{"$f":"IF('DAV1'!C87=\"\",\"\",'DAV1'!C87)","v":""},1,1,1,1,1,1,1,1,1,1,1,1,1,1,1,1,1,1,1,1,1,1,1,1,null,1,1,"GELİŞTİRİLMELİ"]
[{"$f":"IF('DAV1'!A88=\"\",\"\",'DAV1'!A88)","v":""},{"$f":"IF('DAV1'!B88=\"\",\"\",'DAV1'!B88)","v":""},{"$f":"IF('DAV1'!C88=\"\",\"\",'DAV1'!C88)","v":""},1,1,1,1,1,1,1,1,1,1,1,1,1,1,1,1,1,1,1,1,1,1,1,1,null,1,1,"GELİŞTİRİLMELİ"]
[{"$f":"IF('DAV1'!A89=\"\",\"\",'DAV1'!A89)","v":""},{"$f":"IF('DAV1'!B89=\"\",\"\",'DAV1'!B89)","v":""},{"$f":"IF('DAV1'!C89=\"\",\"\",'DAV1'!C89)","v":""},1,1,1,1,1,1,1,1,1,1,1,1,1,1,1,1,1,1,1,1,1,1,1,1,null,1,1,"GELİŞTİRİLMELİ"]
[{"$f":"IF('DAV1'!A90=\"\",\"\",'DAV1'!A90)","v":""},{"$f":"IF('DAV1'!B90=\"\",\"\",'DAV1'!B90)","v":""},{"$f":"IF('DAV1'!C90=\"\",\"\",'DAV1'!C90)","v":""},1,1,1,1,1,1,1,1,1,1,1,1,1,1,1,1,1,1,1,1,1,1,1,1,null,1,1,"GELİŞTİRİLMELİ"]
[{"$f":"IF('DAV1'!A91=\"\",\"\",'DAV1'!A91)","v":""},{"$f":"IF('DAV1'!B91=\"\",\"\",'DAV1'!B91)","v":""},{"$f":"IF('DAV1'!C91=\"\",\"\",'DAV1'!C91)","v":""},1,1,1,1,1,1,1,1,1,1,1,1,1,1,1,1,1,1,1,1,1,1,1,1,null,1,1,"GELİŞTİRİLMELİ"]
[{"$f":"IF('DAV1'!A92=\"\",\"\",'DAV1'!A92)","v":""},{"$f":"IF('DAV1'!B92=\"\",\"\",'DAV1'!B92)","v":""},{"$f":"IF('DAV1'!C92=\"\",\"\",'DAV1'!C92)","v":""},1,1,1,1,1,1,1,1,1,1,1,1,1,1,1,1,1,1,1,1,1,1,1,1,null,1,1,"GELİŞTİRİLMELİ"]
[{"$f":"IF('DAV1'!A93=\"\",\"\",'DAV1'!A93)","v":""},{"$f":"IF('DAV1'!B93=\"\",\"\",'DAV1'!B93)","v":""},{"$f":"IF('DAV1'!C93=\"\",\"\",'DAV1'!C93)","v":""},1,1,1,1,1,1,1,1,1,1,1,1,1,1,1,1,1,1,1,1,1,1,1,1,null,1,1,"GELİŞTİRİLMELİ"]
[{"$f":"IF('DAV1'!A94=\"\",\"\",'DAV1'!A94)","v":""},{"$f":"IF('DAV1'!B94=\"\",\"\",'DAV1'!B94)","v":""},{"$f":"IF('DAV1'!C94=\"\",\"\",'DAV1'!C94)","v":""},1,1,1,1,1,1,1,1,1,1,1,1,1,1,1,1,1,1,1,1,1,1,1,1,null,1,1,"GELİŞTİRİLMELİ"]
[{"$f":"IF('DAV1'!A95=\"\",\"\",'DAV1'!A95)","v":""},{"$f":"IF('DAV1'!B95=\"\",\"\",'DAV1'!B95)","v":""},{"$f":"IF('DAV1'!C95=\"\",\"\",'DAV1'!C95)","v":""},1,1,1,1,1,1,1,1,1,1,1,1,1,1,1,1,1,1,1,1,1,1,1,1,null,1,1,"GELİŞTİRİLMELİ"]
[{"$f":"IF('DAV1'!A96=\"\",\"\",'DAV1'!A96)","v":""},{"$f":"IF('DAV1'!B96=\"\",\"\",'DAV1'!B96)","v":""},{"$f":"IF('DAV1'!C96=\"\",\"\",'DAV1'!C96)","v":""},1,1,1,1,1,1,1,1,1,1,1,1,1,1,1,1,1,1,1,1,1,1,1,1,null,1,1,"GELİŞTİRİLMELİ"]
[{"$f":"IF('DAV1'!A97=\"\",\"\",'DAV1'!A97)","v":""},{"$f":"IF('DAV1'!B97=\"\",\"\",'DAV1'!B97)","v":""},{"$f":"IF('DAV1'!C97=\"\",\"\",'DAV1'!C97)","v":""},1,1,1,1,1,1,1,1,1,1,1,1,1,1,1,1,1,1,1,1,1,1,1,1,null,1,{"$f":"AVERAGE(D97:AC97)","v":1},"GELİŞTİRİLMELİ"]
[{"$f":"IF('DAV1'!A98=\"\",\"\",'DAV1'!A98)","v":""},{"$f":"IF('DAV1'!B98=\"\",\"\",'DAV1'!B98)","v":""},{"$f":"IF('DAV1'!C98=\"\",\"\",'DAV1'!C98)","v":""},1,1,1,1,1,1,1,1,1,1,1,1,1,1,1,1,1,1,1,1,1,1,1,1,null,1,1,"GELİŞTİRİLMELİ"]
[{"$f":"IF('DAV1'!A99=\"\",\"\",'DAV1'!A99)","v":""},{"$f":"IF('DAV1'!B99=\"\",\"\",'DAV1'!B99)","v":""},{"$f":"IF('DAV1'!C99=\"\",\"\",'DAV1'!C99)","v":""},1,1,1,1,1,1,1,1,1,1,1,1,1,1,1,1,1,1,1,1,1,1,1,1,null,1,{"$f":"AVERAGE(D99:AC99)","v":1},"GELİŞTİRİLMELİ"]
[{"$f":"IF('DAV1'!A100=\"\",\"\",'DAV1'!A100)","v":""},{"$f":"IF('DAV1'!B100=\"\",\"\",'DAV1'!B100)","v":""},{"$f":"IF('DAV1'!C100=\"\",\"\",'DAV1'!C100)","v":""},1,1,1,1,1,1,1,1,1,1,1,1,1,1,1,1,1,1,1,1,1,1,1,1,null,1,1,"GELİŞTİRİLMELİ"]
[{"$f":"IF('DAV1'!A101=\"\",\"\",'DAV1'!A101)","v":""},{"$f":"IF('DAV1'!B101=\"\",\"\",'DAV1'!B101)","v":""},{"$f":"IF('DAV1'!C101=\"\",\"\",'DAV1'!C101)","v":""},1,1,1,1,1,1,1,1,1,1,1,1,1,1,1,1,1,1,1,1,1,1,1,1,null,1,1,{"$f":"IF(AD101=\"\",\"\",(IF(AD101>=2.5,\"ÇOK İYİ\",IF(AD101>=1.5,\"İYİ\",IF(AD101>=1,\"GELİŞTİRİLMELİ\")))))","v":"GELİŞTİRİLMELİ"}]
[{"$f":"IF('DAV1'!A102=\"\",\"\",'DAV1'!A102)","v":""},{"$f":"IF('DAV1'!B102=\"\",\"\",'DAV1'!B102)","v":""},{"$f":"IF('DAV1'!C102=\"\",\"\",'DAV1'!C102)","v":""},1,1,1,1,1,1,1,1,1,1,1,1,1,1,1,1,1,1,1,1,1,1,1,1,null,1,1,"GELİŞTİRİLMELİ"]
[]
[1,1,1,1,1,1,1,1,1,1,1,1,1,1,1,1,1,1,1,1,1,1,1,1,1,1,1,1,1,1,1,1,1,1,1,1,1,1,1,1,1,1,1,1,1,1,1,1,1,1,1,1,1,1,1,1,1,1,1,1,1,1,1,1,1,1,1,1,1,1,1,1,1,1,1,1,1,1,1,1,1,1,1,1,1,1,1,1,1,1,1,1,1,1,1,1,1,1,1,1]
[2,2,2,2,2,2,2,2,2,2,2,2,2,2,2,2,2,2,2,2,2,2,2,2,2,2,2,2,2,2,2,2,2,2,2,2,2,2,2,2,2,2,2,2,2,2,2,2,2,2,2,2,2,2,2,2,2,2,2,2,2,2,2,2,2,2,2,2,2,2,2,2,2,2,2,2,2,2,2,2,2,2,2,2,2,2,2,2,2,2,2,2,2,2,2,2,2,2,2,2]
[3,3,3,3,3,3,3,3,3,3,3,3,3,3,3,3,3,3,3,3,3,3,3,3,3,3,3,3,3,3,3,3,3,3,3,3,3,3,3,3,3,3,3,3,3,3,3,3,3,3,3,3,3,3,3,3,3,3,3,3,3,3,3,3,3,3,3,3,3,3,3,3,3,3,3,3,3,3,3,3,3,3,3,3,3,3,3,3,3,3,3,3,3,3,3,3,3,3,3,3]
[4,4,4,4,4,4,4,4,4,4,4,4,4,4,4,4,4,4,4,4,4,4,4,4,4,4,4,4,4,4,4,4,4,4,4,4,4,4,4,4,4,4,4,4,4,4,4,4,4,4,4,4,4,4,4,4,4,4,4,4,4,4,4,4,4,4,4,4,4,4,4,4,4,4,4,4,4,4,4,4,4,4,4,4,4,4,4,4,4,4,4,4,4,4,4,4,4,4,4,4]

{"sheet":"M2.1","index":8,"n_rows":107,"n_cols":100,"rows_kept":107,"cut":false,"hidden":false,"merged":[[0,1,0,2],[0,19,1,19],[0,20,1,20],[1,3,1,18]]}
[1,"MATEMATİK \n. DÖNEM",null,"M.1.2.2.1. Uzamsal (durum, yer, yön) ilişkileri ifade eder.","M.1.2.2.2. Eş nesnelere örnekler verir.","M.1.3.4.1. Nesneleri kütleleri yönünden karşılaştırır ve sıralar","M.1.1.1. 1 Rakamları okur ve yazar. ","M.1.1.1.2. Nesne sayısı 20’ye kadar (20 dâhil) olan bir topluluktaki nesnelerin sayısını belirler ve bu sayıyı rakamla yazar.","M.1.1.1.3. 100’e kadar (100 dâhil) ileriye doğru birer, beşer ve onar ritmik sayar.","M.1.1.1.4. 20’ye kadar (20 dâhil) ikişer ileriye, birer ve ikişer geriye sayar.","M.1.1.1.5. Nesne sayıları 20’den az olan iki gruptaki nesneleri birebir eşler ve grupların nesne sayılarını karşılaştırır.","M.1.1.1.6. 20’ye kadar (20 dâhil) olan sayılarda verilen bir sayıyı, büyüklük-küçüklük bakımından 10 sayısı ile karşılaştırır.","M.1.1.1.7. Miktarı 10 ile 20 (10 ve 20 dâhil) arasında olan bir grup nesneyi, onluk ve birliklerine ayırarak gösterir, bu nesnelere karşılık gelen sayıyı rakamlarla yazar ve okur.","M.1.1.1.8. 20’ye kadar (20 dâhil) olan sayıları sıra bildirmek amacıyla kullanır.","M.1.1.2.1. Toplama işleminin anlamını kavrar.","M.1.1.2.2. Toplamları 20’ye kadar (20 dâhil) olan doğal sayılarla toplama işlemini yapar.","M.1.1.2.3. Toplama işleminde toplananların yerleri değiştiğinde toplamın değişmediğini fark eder.","M.1.1.3.1. Çıkarma işleminin anlamını kavrar.","M.1.1.3.2. 20’ye kadar (20 dâhil) olan doğal sayılarla çıkarma işlemi yapar.","ORTALAMA","DEĞERLENDİRME SONUCU"]
["SIRA","OKUL NO","ADI SOYADI"]
[{"$f":"IF('DAV1'!A3=\"\",\"\",'DAV1'!A3)","v":1},{"$f":"IF('DAV1'!B3=\"\",\"\",'DAV1'!B3)","v":11},{"$f":"IF('DAV1'!C3=\"\",\"\",'DAV1'!C3)","v":"KAYRA ÇINAR ERGÜN"},1,1,1,1,1,1,1,1,1,1,1,1,1,1,1,1,{"$f":"AVERAGE(D3:S3)","v":1},{"$f":"IF(T3=\"\",\"\",(IF(T3>=2.5,\"ÇOK İYİ\",IF(T3>=1.5,\"İYİ\",IF(T3>=1,\"GELİŞTİRİLMELİ\")))))","v":"GELİŞTİRİLMELİ"}]
[{"$f":"IF('DAV1'!A4=\"\",\"\",'DAV1'!A4)","v":2},{"$f":"IF('DAV1'!B4=\"\",\"\",'DAV1'!B4)","v":35},{"$f":"IF('DAV1'!C4=\"\",\"\",'DAV1'!C4)","v":"FURKAN SOLMAZ"},1,1,1,1,1,1,1,1,1,1,1,1,1,1,1,1,1,"GELİŞTİRİLMELİ"]
[{"$f":"IF('DAV1'!A5=\"\",\"\",'DAV1'!A5)","v":3},{"$f":"IF('DAV1'!B5=\"\",\"\",'DAV1'!B5)","v":53},{"$f":"IF('DAV1'!C5=\"\",\"\",'DAV1'!C5)","v":"İLKNUR MUMCU"},1,1,1,1,1,1,1,1,1,1,1,1,1,1,1,1,1,"GELİŞTİRİLMELİ"]
[{"$f":"IF('DAV1'!A6=\"\",\"\",'DAV1'!A6)","v":4},{"$f":"IF('DAV1'!B6=\"\",\"\",'DAV1'!B6)","v":83},{"$f":"IF('DAV1'!C6=\"\",\"\",'DAV1'!C6)","v":"MUHAMMET ALİ YILDIRIM"},1,1,1,1,1,1,1,1,1,1,1,1,1,1,1,1,1,"GELİŞTİRİLMELİ"]
[{"$f":"IF('DAV1'!A7=\"\",\"\",'DAV1'!A7)","v":5},{"$f":"IF('DAV1'!B7=\"\",\"\",'DAV1'!B7)","v":93},{"$f":"IF('DAV1'!C7=\"\",\"\",'DAV1'!C7)","v":"ERTUĞRUL GAZİ NAMLI"},1,1,1,1,1,1,1,1,1,1,1,1,1,1,1,1,1,"GELİŞTİRİLMELİ"]
[{"$f":"IF('DAV1'!A8=\"\",\"\",'DAV1'!A8)","v":6},{"$f":"IF('DAV1'!B8=\"\",\"\",'DAV1'!B8)","v":100},{"$f":"IF('DAV1'!C8=\"\",\"\",'DAV1'!C8)","v":"ECEM EFE"},1,1,1,1,1,1,1,1,1,1,1,1,1,1,1,1,1,"GELİŞTİRİLMELİ"]
[{"$f":"IF('DAV1'!A9=\"\",\"\",'DAV1'!A9)","v":7},{"$f":"IF('DAV1'!B9=\"\",\"\",'DAV1'!B9)","v":105},{"$f":"IF('DAV1'!C9=\"\",\"\",'DAV1'!C9)","v":"SELİM ZEKERİYA ÖZDEMİR"},1,1,1,1,1,1,1,1,1,1,1,1,1,1,1,1,1,"GELİŞTİRİLMELİ"]
[{"$f":"IF('DAV1'!A10=\"\",\"\",'DAV1'!A10)","v":8},{"$f":"IF('DAV1'!B10=\"\",\"\",'DAV1'!B10)","v":108},{"$f":"IF('DAV1'!C10=\"\",\"\",'DAV1'!C10)","v":"AREN KARAKAŞ"},1,1,1,1,1,1,1,1,1,1,1,1,1,1,1,1,1,"GELİŞTİRİLMELİ"]
[{"$f":"IF('DAV1'!A11=\"\",\"\",'DAV1'!A11)","v":9},{"$f":"IF('DAV1'!B11=\"\",\"\",'DAV1'!B11)","v":111},{"$f":"IF('DAV1'!C11=\"\",\"\",'DAV1'!C11)","v":"ZEHRA ŞAHİNOĞLU"},1,1,1,1,1,1,1,1,1,1,1,1,1,1,1,1,1,"GELİŞTİRİLMELİ"]
[{"$f":"IF('DAV1'!A12=\"\",\"\",'DAV1'!A12)","v":10},{"$f":"IF('DAV1'!B12=\"\",\"\",'DAV1'!B12)","v":113},{"$f":"IF('DAV1'!C12=\"\",\"\",'DAV1'!C12)","v":"YUSUF ALİ TÜNÇ"},1,1,1,1,1,1,1,1,1,1,1,1,1,1,1,1,1,"GELİŞTİRİLMELİ"]
[{"$f":"IF('DAV1'!A13=\"\",\"\",'DAV1'!A13)","v":11},{"$f":"IF('DAV1'!B13=\"\",\"\",'DAV1'!B13)","v":161},{"$f":"IF('DAV1'!C13=\"\",\"\",'DAV1'!C13)","v":"HÜSEYİN CELAYİR"},1,1,1,1,1,1,1,1,1,1,1,1,1,1,1,1,1,"GELİŞTİRİLMELİ"]
[{"$f":"IF('DAV1'!A14=\"\",\"\",'DAV1'!A14)","v":12},{"$f":"IF('DAV1'!B14=\"\",\"\",'DAV1'!B14)","v":177},{"$f":"IF('DAV1'!C14=\"\",\"\",'DAV1'!C14)","v":"YİĞİT EFE YEŞİLDAL"},1,1,1,1,1,1,1,1,1,1,1,1,1,1,1,1,1,"GELİŞTİRİLMELİ"]
[{"$f":"IF('DAV1'!A15=\"\",\"\",'DAV1'!A15)","v":13},{"$f":"IF('DAV1'!B15=\"\",\"\",'DAV1'!B15)","v":187},{"$f":"IF('DAV1'!C15=\"\",\"\",'DAV1'!C15)","v":"HALEF TAHA ATEŞ"},1,1,1,1,1,1,1,1,1,1,1,1,1,1,1,1,1,"GELİŞTİRİLMELİ"]
[{"$f":"IF('DAV1'!A16=\"\",\"\",'DAV1'!A16)","v":14},{"$f":"IF('DAV1'!B16=\"\",\"\",'DAV1'!B16)","v":188},{"$f":"IF('DAV1'!C16=\"\",\"\",'DAV1'!C16)","v":"EMİRHAN MERTOĞLU"},1,1,1,1,1,1,1,1,1,1,1,1,1,1,1,1,1,"GELİŞTİRİLMELİ"]
[{"$f":"IF('DAV1'!A17=\"\",\"\",'DAV1'!A17)","v":15},{"$f":"IF('DAV1'!B17=\"\",\"\",'DAV1'!B17)","v":189},{"$f":"IF('DAV1'!C17=\"\",\"\",'DAV1'!C17)","v":"EMİNE GÜVEN"},1,1,1,1,1,1,1,1,1,1,1,1,1,1,1,1,1,"GELİŞTİRİLMELİ"]
[{"$f":"IF('DAV1'!A18=\"\",\"\",'DAV1'!A18)","v":16},{"$f":"IF('DAV1'!B18=\"\",\"\",'DAV1'!B18)","v":213},{"$f":"IF('DAV1'!C18=\"\",\"\",'DAV1'!C18)","v":"YAĞMUR KILIÇ"},1,1,1,1,1,1,1,1,1,1,1,1,1,1,1,1,1,"GELİŞTİRİLMELİ"]
[{"$f":"IF('DAV1'!A19=\"\",\"\",'DAV1'!A19)","v":17},{"$f":"IF('DAV1'!B19=\"\",\"\",'DAV1'!B19)","v":214},{"$f":"IF('DAV1'!C19=\"\",\"\",'DAV1'!C19)","v":"ERDAL GÜLATAR"},1,1,1,1,1,1,1,1,1,1,1,1,1,1,1,1,1,"GELİŞTİRİLMELİ"]
[{"$f":"IF('DAV1'!A20=\"\",\"\",'DAV1'!A20)","v":18},{"$f":"IF('DAV1'!B20=\"\",\"\",'DAV1'!B20)","v":216},{"$f":"IF('DAV1'!C20=\"\",\"\",'DAV1'!C20)","v":"GAMZE ACAR"},1,1,1,1,1,1,1,1,1,1,1,1,1,1,1,1,1,"GELİŞTİRİLMELİ"]
[{"$f":"IF('DAV1'!A21=\"\",\"\",'DAV1'!A21)","v":19},{"$f":"IF('DAV1'!B21=\"\",\"\",'DAV1'!B21)","v":222},{"$f":"IF('DAV1'!C21=\"\",\"\",'DAV1'!C21)","v":"HİRANUR DOĞANDEMİR"},1,1,1,1,1,1,1,1,1,1,1,1,1,1,1,1,1,"GELİŞTİRİLMELİ"]
[{"$f":"IF('DAV1'!A22=\"\",\"\",'DAV1'!A22)","v":20},{"$f":"IF('DAV1'!B22=\"\",\"\",'DAV1'!B22)","v":224},{"$f":"IF('DAV1'!C22=\"\",\"\",'DAV1'!C22)","v":"TALHA YILMAZ"},1,1,1,1,1,1,1,1,1,1,1,1,1,1,1,1,1,"GELİŞTİRİLMELİ"]
[{"$f":"IF('DAV1'!A23=\"\",\"\",'DAV1'!A23)","v":21},{"$f":"IF('DAV1'!B23=\"\",\"\",'DAV1'!B23)","v":225},{"$f":"IF('DAV1'!C23=\"\",\"\",'DAV1'!C23)","v":"YUSUF EMİR DAĞDÖGEN"},1,1,1,1,1,1,1,1,1,1,1,1,1,1,1,1,1,"GELİŞTİRİLMELİ"]
[{"$f":"IF('DAV1'!A24=\"\",\"\",'DAV1'!A24)","v":22},{"$f":"IF('DAV1'!B24=\"\",\"\",'DAV1'!B24)","v":226},{"$f":"IF('DAV1'!C24=\"\",\"\",'DAV1'!C24)","v":"İMREN CANPOLAT"},1,1,1,1,1,1,1,1,1,1,1,1,1,1,1,1,1,"GELİŞTİRİLMELİ"]
[{"$f":"IF('DAV1'!A25=\"\",\"\",'DAV1'!A25)","v":23},{"$f":"IF('DAV1'!B25=\"\",\"\",'DAV1'!B25)","v":227},{"$f":"IF('DAV1'!C25=\"\",\"\",'DAV1'!C25)","v":"ZEYNEP CANPOLAT"},1,1,1,1,1,1,1,1,1,1,1,1,1,1,1,1,1,"GELİŞTİRİLMELİ"]
[{"$f":"IF('DAV1'!A26=\"\",\"\",'DAV1'!A26)","v":24},{"$f":"IF('DAV1'!B26=\"\",\"\",'DAV1'!B26)","v":229},{"$f":"IF('DAV1'!C26=\"\",\"\",'DAV1'!C26)","v":"MERYEM PARMAK"},1,1,1,1,1,1,1,1,1,1,1,1,1,1,1,1,1,"GELİŞTİRİLMELİ"]
[{"$f":"IF('DAV1'!A27=\"\",\"\",'DAV1'!A27)","v":25},{"$f":"IF('DAV1'!B27=\"\",\"\",'DAV1'!B27)","v":237},{"$f":"IF('DAV1'!C27=\"\",\"\",'DAV1'!C27)","v":"ZEYNEP MİRAY BOYRAZ"},1,1,1,1,1,1,1,1,1,1,1,1,1,1,1,1,1,"GELİŞTİRİLMELİ"]
[{"$f":"IF('DAV1'!A28=\"\",\"\",'DAV1'!A28)","v":26},{"$f":"IF('DAV1'!B28=\"\",\"\",'DAV1'!B28)","v":244},{"$f":"IF('DAV1'!C28=\"\",\"\",'DAV1'!C28)","v":"TAMER ŞEKERCİLEROĞLU"},1,1,1,1,1,1,1,1,1,1,1,1,1,1,1,1,1,"GELİŞTİRİLMELİ"]
[{"$f":"IF('DAV1'!A29=\"\",\"\",'DAV1'!A29)","v":27},{"$f":"IF('DAV1'!B29=\"\",\"\",'DAV1'!B29)","v":263},{"$f":"IF('DAV1'!C29=\"\",\"\",'DAV1'!C29)","v":"MUHAMMED YUSUF YILMAZ"},1,1,1,1,1,1,1,1,1,1,1,1,1,1,1,1,1,"GELİŞTİRİLMELİ"]
[{"$f":"IF('DAV1'!A30=\"\",\"\",'DAV1'!A30)","v":28},{"$f":"IF('DAV1'!B30=\"\",\"\",'DAV1'!B30)","v":264},{"$f":"IF('DAV1'!C30=\"\",\"\",'DAV1'!C30)","v":"OĞUZHAN GÜRGÜZE"},1,1,1,1,1,1,1,1,1,1,1,1,1,1,1,1,1,"GELİŞTİRİLMELİ"]
[{"$f":"IF('DAV1'!A31=\"\",\"\",'DAV1'!A31)","v":29},{"$f":"IF('DAV1'!B31=\"\",\"\",'DAV1'!B31)","v":279},{"$f":"IF('DAV1'!C31=\"\",\"\",'DAV1'!C31)","v":"MİHRİMA EKİCİ"},1,1,1,1,1,1,1,1,1,1,1,1,1,1,1,1,1,"GELİŞTİRİLMELİ"]
[{"$f":"IF('DAV1'!A32=\"\",\"\",'DAV1'!A32)","v":30},{"$f":"IF('DAV1'!B32=\"\",\"\",'DAV1'!B32)","v":290},{"$f":"IF('DAV1'!C32=\"\",\"\",'DAV1'!C32)","v":"NİSA NUR YILDIZ"},1,1,1,1,1,1,1,1,1,1,1,1,1,1,1,1,1,"GELİŞTİRİLMELİ"]
[{"$f":"IF('DAV1'!A33=\"\",\"\",'DAV1'!A33)","v":31},{"$f":"IF('DAV1'!B33=\"\",\"\",'DAV1'!B33)","v":293},{"$f":"IF('DAV1'!C33=\"\",\"\",'DAV1'!C33)","v":"MEHMET ALATAŞ"},1,1,1,1,1,1,1,1,1,1,1,1,1,1,1,1,1,"GELİŞTİRİLMELİ"]
[{"$f":"IF('DAV1'!A34=\"\",\"\",'DAV1'!A34)","v":32},{"$f":"IF('DAV1'!B34=\"\",\"\",'DAV1'!B34)","v":451},{"$f":"IF('DAV1'!C34=\"\",\"\",'DAV1'!C34)","v":"İKRA YILDIRIM"},1,1,1,1,1,1,1,1,1,1,1,1,1,1,1,1,1,"GELİŞTİRİLMELİ"]
[{"$f":"IF('DAV1'!A35=\"\",\"\",'DAV1'!A35)","v":33},{"$f":"IF('DAV1'!B35=\"\",\"\",'DAV1'!B35)","v":616},{"$f":"IF('DAV1'!C35=\"\",\"\",'DAV1'!C35)","v":"EDA TURAL"},1,1,1,1,1,1,1,1,1,1,1,1,1,1,1,1,{"$f":"AVERAGE(D35:S35)","v":1},"GELİŞTİRİLMELİ"]
[{"$f":"IF('DAV1'!A36=\"\",\"\",'DAV1'!A36)","v":34},{"$f":"IF('DAV1'!B36=\"\",\"\",'DAV1'!B36)","v":892},{"$f":"IF('DAV1'!C36=\"\",\"\",'DAV1'!C36)","v":"ALMA ALRAMADAN"},1,1,1,1,1,1,1,1,1,1,1,1,1,1,1,1,1,"GELİŞTİRİLMELİ"]
[{"$f":"IF('DAV1'!A37=\"\",\"\",'DAV1'!A37)","v":35},{"$f":"IF('DAV1'!B37=\"\",\"\",'DAV1'!B37)","v":1000},{"$f":"IF('DAV1'!C37=\"\",\"\",'DAV1'!C37)","v":"TURGUT POLAT"},1,1,1,1,1,1,1,1,1,1,1,1,1,1,1,1,1,"GELİŞTİRİLMELİ"]
[{"$f":"IF('DAV1'!A38=\"\",\"\",'DAV1'!A38)","v":""},{"$f":"IF('DAV1'!B38=\"\",\"\",'DAV1'!B38)","v":""},{"$f":"IF('DAV1'!C38=\"\",\"\",'DAV1'!C38)","v":""},1,1,1,1,1,1,1,1,1,1,1,1,1,1,1,1,1,"GELİŞTİRİLMELİ"]
[{"$f":"IF('DAV1'!A39=\"\",\"\",'DAV1'!A39)","v":""},{"$f":"IF('DAV1'!B39=\"\",\"\",'DAV1'!B39)","v":""},{"$f":"IF('DAV1'!C39=\"\",\"\",'DAV1'!C39)","v":""},1,1,1,1,1,1,1,1,1,1,1,1,1,1,1,1,1,"GELİŞTİRİLMELİ"]
[{"$f":"IF('DAV1'!A40=\"\",\"\",'DAV1'!A40)","v":""},{"$f":"IF('DAV1'!B40=\"\",\"\",'DAV1'!B40)","v":""},{"$f":"IF('DAV1'!C40=\"\",\"\",'DAV1'!C40)","v":""},1,1,1,1,1,1,1,1,1,1,1,1,1,1,1,1,1,"GELİŞTİRİLMELİ"]
[{"$f":"IF('DAV1'!A41=\"\",\"\",'DAV1'!A41)","v":""},{"$f":"IF('DAV1'!B41=\"\",\"\",'DAV1'!B41)","v":""},{"$f":"IF('DAV1'!C41=\"\",\"\",'DAV1'!C41)","v":""},1,1,1,1,1,1,1,1,1,1,1,1,1,1,1,1,1,"GELİŞTİRİLMELİ"]
[{"$f":"IF('DAV1'!A42=\"\",\"\",'DAV1'!A42)","v":""},{"$f":"IF('DAV1'!B42=\"\",\"\",'DAV1'!B42)","v":""},{"$f":"IF('DAV1'!C42=\"\",\"\",'DAV1'!C42)","v":""},1,1,1,1,1,1,1,1,1,1,1,1,1,1,1,1,1,"GELİŞTİRİLMELİ"]
[{"$f":"IF('DAV1'!A43=\"\",\"\",'DAV1'!A43)","v":""},{"$f":"IF('DAV1'!B43=\"\",\"\",'DAV1'!B43)","v":""},{"$f":"IF('DAV1'!C43=\"\",\"\",'DAV1'!C43)","v":""},1,1,1,1,1,1,1,1,1,1,1,1,1,1,1,1,1,"GELİŞTİRİLMELİ"]
[{"$f":"IF('DAV1'!A44=\"\",\"\",'DAV1'!A44)","v":""},{"$f":"IF('DAV1'!B44=\"\",\"\",'DAV1'!B44)","v":""},{"$f":"IF('DAV1'!C44=\"\",\"\",'DAV1'!C44)","v":""},1,1,1,1,1,1,1,1,1,1,1,1,1,1,1,1,1,"GELİŞTİRİLMELİ"]
[{"$f":"IF('DAV1'!A45=\"\",\"\",'DAV1'!A45)","v":""},{"$f":"IF('DAV1'!B45=\"\",\"\",'DAV1'!B45)","v":""},{"$f":"IF('DAV1'!C45=\"\",\"\",'DAV1'!C45)","v":""},1,1,1,1,1,1,1,1,1,1,1,1,1,1,1,1,1,"GELİŞTİRİLMELİ"]
[{"$f":"IF('DAV1'!A46=\"\",\"\",'DAV1'!A46)","v":""},{"$f":"IF('DAV1'!B46=\"\",\"\",'DAV1'!B46)","v":""},{"$f":"IF('DAV1'!C46=\"\",\"\",'DAV1'!C46)","v":""},1,1,1,1,1,1,1,1,1,1,1,1,1,1,1,1,1,"GELİŞTİRİLMELİ"]
[{"$f":"IF('DAV1'!A47=\"\",\"\",'DAV1'!A47)","v":""},{"$f":"IF('DAV1'!B47=\"\",\"\",'DAV1'!B47)","v":""},{"$f":"IF('DAV1'!C47=\"\",\"\",'DAV1'!C47)","v":""},1,1,1,1,1,1,1,1,1,1,1,1,1,1,1,1,1,"GELİŞTİRİLMELİ"]
[{"$f":"IF('DAV1'!A48=\"\",\"\",'DAV1'!A48)","v":""},{"$f":"IF('DAV1'!B48=\"\",\"\",'DAV1'!B48)","v":""},{"$f":"IF('DAV1'!C48=\"\",\"\",'DAV1'!C48)","v":""},1,1,1,1,1,1,1,1,1,1,1,1,1,1,1,1,1,"GELİŞTİRİLMELİ"]
[{"$f":"IF('DAV1'!A49=\"\",\"\",'DAV1'!A49)","v":""},{"$f":"IF('DAV1'!B49=\"\",\"\",'DAV1'!B49)","v":""},{"$f":"IF('DAV1'!C49=\"\",\"\",'DAV1'!C49)","v":""},1,1,1,1,1,1,1,1,1,1,1,1,1,1,1,1,1,"GELİŞTİRİLMELİ"]
[{"$f":"IF('DAV1'!A50=\"\",\"\",'DAV1'!A50)","v":""},{"$f":"IF('DAV1'!B50=\"\",\"\",'DAV1'!B50)","v":""},{"$f":"IF('DAV1'!C50=\"\",\"\",'DAV1'!C50)","v":""},1,1,1,1,1,1,1,1,1,1,1,1,1,1,1,1,1,"GELİŞTİRİLMELİ"]
[{"$f":"IF('DAV1'!A51=\"\",\"\",'DAV1'!A51)","v":""},{"$f":"IF('DAV1'!B51=\"\",\"\",'DAV1'!B51)","v":""},{"$f":"IF('DAV1'!C51=\"\",\"\",'DAV1'!C51)","v":""},1,1,1,1,1,1,1,1,1,1,1,1,1,1,1,1,1,"GELİŞTİRİLMELİ"]
[{"$f":"IF('DAV1'!A52=\"\",\"\",'DAV1'!A52)","v":""},{"$f":"IF('DAV1'!B52=\"\",\"\",'DAV1'!B52)","v":""},{"$f":"IF('DAV1'!C52=\"\",\"\",'DAV1'!C52)","v":""},1,1,1,1,1,1,1,1,1,1,1,1,1,1,1,1,1,"GELİŞTİRİLMELİ"]
[{"$f":"IF('DAV1'!A53=\"\",\"\",'DAV1'!A53)","v":""},{"$f":"IF('DAV1'!B53=\"\",\"\",'DAV1'!B53)","v":""},{"$f":"IF('DAV1'!C53=\"\",\"\",'DAV1'!C53)","v":""},1,1,1,1,1,1,1,1,1,1,1,1,1,1,1,1,1,"GELİŞTİRİLMELİ"]
[{"$f":"IF('DAV1'!A54=\"\",\"\",'DAV1'!A54)","v":""},{"$f":"IF('DAV1'!B54=\"\",\"\",'DAV1'!B54)","v":""},{"$f":"IF('DAV1'!C54=\"\",\"\",'DAV1'!C54)","v":""},1,1,1,1,1,1,1,1,1,1,1,1,1,1,1,1,1,"GELİŞTİRİLMELİ"]
[{"$f":"IF('DAV1'!A55=\"\",\"\",'DAV1'!A55)","v":""},{"$f":"IF('DAV1'!B55=\"\",\"\",'DAV1'!B55)","v":""},{"$f":"IF('DAV1'!C55=\"\",\"\",'DAV1'!C55)","v":""},1,1,1,1,1,1,1,1,1,1,1,1,1,1,1,1,1,"GELİŞTİRİLMELİ"]
[{"$f":"IF('DAV1'!A56=\"\",\"\",'DAV1'!A56)","v":""},{"$f":"IF('DAV1'!B56=\"\",\"\",'DAV1'!B56)","v":""},{"$f":"IF('DAV1'!C56=\"\",\"\",'DAV1'!C56)","v":""},1,1,1,1,1,1,1,1,1,1,1,1,1,1,1,1,1,"GELİŞTİRİLMELİ"]
[{"$f":"IF('DAV1'!A57=\"\",\"\",'DAV1'!A57)","v":""},{"$f":"IF('DAV1'!B57=\"\",\"\",'DAV1'!B57)","v":""},{"$f":"IF('DAV1'!C57=\"\",\"\",'DAV1'!C57)","v":""},1,1,1,1,1,1,1,1,1,1,1,1,1,1,1,1,1,"GELİŞTİRİLMELİ"]
[{"$f":"IF('DAV1'!A58=\"\",\"\",'DAV1'!A58)","v":""},{"$f":"IF('DAV1'!B58=\"\",\"\",'DAV1'!B58)","v":""},{"$f":"IF('DAV1'!C58=\"\",\"\",'DAV1'!C58)","v":""},1,1,1,1,1,1,1,1,1,1,1,1,1,1,1,1,1,"GELİŞTİRİLMELİ"]
[{"$f":"IF('DAV1'!A59=\"\",\"\",'DAV1'!A59)","v":""},{"$f":"IF('DAV1'!B59=\"\",\"\",'DAV1'!B59)","v":""},{"$f":"IF('DAV1'!C59=\"\",\"\",'DAV1'!C59)","v":""},1,1,1,1,1,1,1,1,1,1,1,1,1,1,1,1,1,"GELİŞTİRİLMELİ"]
[{"$f":"IF('DAV1'!A60=\"\",\"\",'DAV1'!A60)","v":""},{"$f":"IF('DAV1'!B60=\"\",\"\",'DAV1'!B60)","v":""},{"$f":"IF('DAV1'!C60=\"\",\"\",'DAV1'!C60)","v":""},1,1,1,1,1,1,1,1,1,1,1,1,1,1,1,1,1,"GELİŞTİRİLMELİ"]
[{"$f":"IF('DAV1'!A61=\"\",\"\",'DAV1'!A61)","v":""},{"$f":"IF('DAV1'!B61=\"\",\"\",'DAV1'!B61)","v":""},{"$f":"IF('DAV1'!C61=\"\",\"\",'DAV1'!C61)","v":""},1,1,1,1,1,1,1,1,1,1,1,1,1,1,1,1,1,"GELİŞTİRİLMELİ"]
[{"$f":"IF('DAV1'!A62=\"\",\"\",'DAV1'!A62)","v":""},{"$f":"IF('DAV1'!B62=\"\",\"\",'DAV1'!B62)","v":""},{"$f":"IF('DAV1'!C62=\"\",\"\",'DAV1'!C62)","v":""},1,1,1,1,1,1,1,1,1,1,1,1,1,1,1,1,1,"GELİŞTİRİLMELİ"]
[{"$f":"IF('DAV1'!A63=\"\",\"\",'DAV1'!A63)","v":""},{"$f":"IF('DAV1'!B63=\"\",\"\",'DAV1'!B63)","v":""},{"$f":"IF('DAV1'!C63=\"\",\"\",'DAV1'!C63)","v":""},1,1,1,1,1,1,1,1,1,1,1,1,1,1,1,1,1,"GELİŞTİRİLMELİ"]
[{"$f":"IF('DAV1'!A64=\"\",\"\",'DAV1'!A64)","v":""},{"$f":"IF('DAV1'!B64=\"\",\"\",'DAV1'!B64)","v":""},{"$f":"IF('DAV1'!C64=\"\",\"\",'DAV1'!C64)","v":""},1,1,1,1,1,1,1,1,1,1,1,1,1,1,1,1,1,"GELİŞTİRİLMELİ"]
[{"$f":"IF('DAV1'!A65=\"\",\"\",'DAV1'!A65)","v":""},{"$f":"IF('DAV1'!B65=\"\",\"\",'DAV1'!B65)","v":""},{"$f":"IF('DAV1'!C65=\"\",\"\",'DAV1'!C65)","v":""},1,1,1,1,1,1,1,1,1,1,1,1,1,1,1,1,1,"GELİŞTİRİLMELİ"]
[{"$f":"IF('DAV1'!A66=\"\",\"\",'DAV1'!A66)","v":""},{"$f":"IF('DAV1'!B66=\"\",\"\",'DAV1'!B66)","v":""},{"$f":"IF('DAV1'!C66=\"\",\"\",'DAV1'!C66)","v":""},1,1,1,1,1,1,1,1,1,1,1,1,1,1,1,1,1,"GELİŞTİRİLMELİ"]
[{"$f":"IF('DAV1'!A67=\"\",\"\",'DAV1'!A67)","v":""},{"$f":"IF('DAV1'!B67=\"\",\"\",'DAV1'!B67)","v":""},{"$f":"IF('DAV1'!C67=\"\",\"\",'DAV1'!C67)","v":""},1,1,1,1,1,1,1,1,1,1,1,1,1,1,1,1,{"$f":"AVERAGE(D67:S67)","v":1},{"$f":"IF(T67=\"\",\"\",(IF(T67>=2.5,\"ÇOK İYİ\",IF(T67>=1.5,\"İYİ\",IF(T67>=1,\"GELİŞTİRİLMELİ\")))))","v":"GELİŞTİRİLMELİ"}]
[{"$f":"IF('DAV1'!A68=\"\",\"\",'DAV1'!A68)","v":""},{"$f":"IF('DAV1'!B68=\"\",\"\",'DAV1'!B68)","v":""},{"$f":"IF('DAV1'!C68=\"\",\"\",'DAV1'!C68)","v":""},1,1,1,1,1,1,1,1,1,1,1,1,1,1,1,1,1,"GELİŞTİRİLMELİ"]
[{"$f":"IF('DAV1'!A69=\"\",\"\",'DAV1'!A69)","v":""},{"$f":"IF('DAV1'!B69=\"\",\"\",'DAV1'!B69)","v":""},{"$f":"IF('DAV1'!C69=\"\",\"\",'DAV1'!C69)","v":""},1,1,1,1,1,1,1,1,1,1,1,1,1,1,1,1,1,"GELİŞTİRİLMELİ"]
[{"$f":"IF('DAV1'!A70=\"\",\"\",'DAV1'!A70)","v":""},{"$f":"IF('DAV1'!B70=\"\",\"\",'DAV1'!B70)","v":""},{"$f":"IF('DAV1'!C70=\"\",\"\",'DAV1'!C70)","v":""},1,1,1,1,1,1,1,1,1,1,1,1,1,1,1,1,1,"GELİŞTİRİLMELİ"]
[{"$f":"IF('DAV1'!A71=\"\",\"\",'DAV1'!A71)","v":""},{"$f":"IF('DAV1'!B71=\"\",\"\",'DAV1'!B71)","v":""},{"$f":"IF('DAV1'!C71=\"\",\"\",'DAV1'!C71)","v":""},1,1,1,1,1,1,1,1,1,1,1,1,1,1,1,1,1,"GELİŞTİRİLMELİ"]
[{"$f":"IF('DAV1'!A72=\"\",\"\",'DAV1'!A72)","v":""},{"$f":"IF('DAV1'!B72=\"\",\"\",'DAV1'!B72)","v":""},{"$f":"IF('DAV1'!C72=\"\",\"\",'DAV1'!C72)","v":""},1,1,1,1,1,1,1,1,1,1,1,1,1,1,1,1,1,"GELİŞTİRİLMELİ"]
[{"$f":"IF('DAV1'!A73=\"\",\"\",'DAV1'!A73)","v":""},{"$f":"IF('DAV1'!B73=\"\",\"\",'DAV1'!B73)","v":""},{"$f":"IF('DAV1'!C73=\"\",\"\",'DAV1'!C73)","v":""},1,1,1,1,1,1,1,1,1,1,1,1,1,1,1,1,1,"GELİŞTİRİLMELİ"]
[{"$f":"IF('DAV1'!A74=\"\",\"\",'DAV1'!A74)","v":""},{"$f":"IF('DAV1'!B74=\"\",\"\",'DAV1'!B74)","v":""},{"$f":"IF('DAV1'!C74=\"\",\"\",'DAV1'!C74)","v":""},1,1,1,1,1,1,1,1,1,1,1,1,1,1,1,1,1,"GELİŞTİRİLMELİ"]
[{"$f":"IF('DAV1'!A75=\"\",\"\",'DAV1'!A75)","v":""},{"$f":"IF('DAV1'!B75=\"\",\"\",'DAV1'!B75)","v":""},{"$f":"IF('DAV1'!C75=\"\",\"\",'DAV1'!C75)","v":""},1,1,1,1,1,1,1,1,1,1,1,1,1,1,1,1,1,"GELİŞTİRİLMELİ"]
[{"$f":"IF('DAV1'!A76=\"\",\"\",'DAV1'!A76)","v":""},{"$f":"IF('DAV1'!B76=\"\",\"\",'DAV1'!B76)","v":""},{"$f":"IF('DAV1'!C76=\"\",\"\",'DAV1'!C76)","v":""},1,1,1,1,1,1,1,1,1,1,1,1,1,1,1,1,1,"GELİŞTİRİLMELİ"]
[{"$f":"IF('DAV1'!A77=\"\",\"\",'DAV1'!A77)","v":""},{"$f":"IF('DAV1'!B77=\"\",\"\",'DAV1'!B77)","v":""},{"$f":"IF('DAV1'!C77=\"\",\"\",'DAV1'!C77)","v":""},1,1,1,1,1,1,1,1,1,1,1,1,1,1,1,1,1,"GELİŞTİRİLMELİ"]
[{"$f":"IF('DAV1'!A78=\"\",\"\",'DAV1'!A78)","v":""},{"$f":"IF('DAV1'!B78=\"\",\"\",'DAV1'!B78)","v":""},{"$f":"IF('DAV1'!C78=\"\",\"\",'DAV1'!C78)","v":""},1,1,1,1,1,1,1,1,1,1,1,1,1,1,1,1,1,"GELİŞTİRİLMELİ"]
[{"$f":"IF('DAV1'!A79=\"\",\"\",'DAV1'!A79)","v":""},{"$f":"IF('DAV1'!B79=\"\",\"\",'DAV1'!B79)","v":""},{"$f":"IF('DAV1'!C79=\"\",\"\",'DAV1'!C79)","v":""},1,1,1,1,1,1,1,1,1,1,1,1,1,1,1,1,1,"GELİŞTİRİLMELİ"]
[{"$f":"IF('DAV1'!A80=\"\",\"\",'DAV1'!A80)","v":""},{"$f":"IF('DAV1'!B80=\"\",\"\",'DAV1'!B80)","v":""},{"$f":"IF('DAV1'!C80=\"\",\"\",'DAV1'!C80)","v":""},1,1,1,1,1,1,1,1,1,1,1,1,1,1,1,1,1,"GELİŞTİRİLMELİ"]
[{"$f":"IF('DAV1'!A81=\"\",\"\",'DAV1'!A81)","v":""},{"$f":"IF('DAV1'!B81=\"\",\"\",'DAV1'!B81)","v":""},{"$f":"IF('DAV1'!C81=\"\",\"\",'DAV1'!C81)","v":""},1,1,1,1,1,1,1,1,1,1,1,1,1,1,1,1,1,"GELİŞTİRİLMELİ"]
[{"$f":"IF('DAV1'!A82=\"\",\"\",'DAV1'!A82)","v":""},{"$f":"IF('DAV1'!B82=\"\",\"\",'DAV1'!B82)","v":""},{"$f":"IF('DAV1'!C82=\"\",\"\",'DAV1'!C82)","v":""},1,1,1,1,1,1,1,1,1,1,1,1,1,1,1,1,1,"GELİŞTİRİLMELİ"]
[{"$f":"IF('DAV1'!A83=\"\",\"\",'DAV1'!A83)","v":""},{"$f":"IF('DAV1'!B83=\"\",\"\",'DAV1'!B83)","v":""},{"$f":"IF('DAV1'!C83=\"\",\"\",'DAV1'!C83)","v":""},1,1,1,1,1,1,1,1,1,1,1,1,1,1,1,1,1,"GELİŞTİRİLMELİ"]
[{"$f":"IF('DAV1'!A84=\"\",\"\",'DAV1'!A84)","v":""},{"$f":"IF('DAV1'!B84=\"\",\"\",'DAV1'!B84)","v":""},{"$f":"IF('DAV1'!C84=\"\",\"\",'DAV1'!C84)","v":""},1,1,1,1,1,1,1,1,1,1,1,1,1,1,1,1,1,"GELİŞTİRİLMELİ"]
[{"$f":"IF('DAV1'!A85=\"\",\"\",'DAV1'!A85)","v":""},{"$f":"IF('DAV1'!B85=\"\",\"\",'DAV1'!B85)","v":""},{"$f":"IF('DAV1'!C85=\"\",\"\",'DAV1'!C85)","v":""},1,1,1,1,1,1,1,1,1,1,1,1,1,1,1,1,1,"GELİŞTİRİLMELİ"]
[{"$f":"IF('DAV1'!A86=\"\",\"\",'DAV1'!A86)","v":""},{"$f":"IF('DAV1'!B86=\"\",\"\",'DAV1'!B86)","v":""},{"$f":"IF('DAV1'!C86=\"\",\"\",'DAV1'!C86)","v":""},1,1,1,1,1,1,1,1,1,1,1,1,1,1,1,1,1,"GELİŞTİRİLMELİ"]
[{"$f":"IF('DAV1'!A87=\"\",\"\",'DAV1'!A87)","v":""},{"$f":"IF('DAV1'!B87=\"\",\"\",'DAV1'!B87)","v":""},{"$f":"IF('DAV1'!C87=\"\",\"\",'DAV1'!C87)","v":""},1,1,1,1,1,1,1,1,1,1,1,1,1,1,1,1,1,"GELİŞTİRİLMELİ"]
[{"$f":"IF('DAV1'!A88=\"\",\"\",'DAV1'!A88)","v":""},{"$f":"IF('DAV1'!B88=\"\",\"\",'DAV1'!B88)","v":""},{"$f":"IF('DAV1'!C88=\"\",\"\",'DAV1'!C88)","v":""},1,1,1,1,1,1,1,1,1,1,1,1,1,1,1,1,1,"GELİŞTİRİLMELİ"]
[{"$f":"IF('DAV1'!A89=\"\",\"\",'DAV1'!A89)","v":""},{"$f":"IF('DAV1'!B89=\"\",\"\",'DAV1'!B89)","v":""},{"$f":"IF('DAV1'!C89=\"\",\"\",'DAV1'!C89)","v":""},1,1,1,1,1,1,1,1,1,1,1,1,1,1,1,1,1,"GELİŞTİRİLMELİ"]
[{"$f":"IF('DAV1'!A90=\"\",\"\",'DAV1'!A90)","v":""},{"$f":"IF('DAV1'!B90=\"\",\"\",'DAV1'!B90)","v":""},{"$f":"IF('DAV1'!C90=\"\",\"\",'DAV1'!C90)","v":""},1,1,1,1,1,1,1,1,1,1,1,1,1,1,1,1,1,"GELİŞTİRİLMELİ"]
[{"$f":"IF('DAV1'!A91=\"\",\"\",'DAV1'!A91)","v":""},{"$f":"IF('DAV1'!B91=\"\",\"\",'DAV1'!B91)","v":""},{"$f":"IF('DAV1'!C91=\"\",\"\",'DAV1'!C91)","v":""},1,1,1,1,1,1,1,1,1,1,1,1,1,1,1,1,1,"GELİŞTİRİLMELİ"]
[{"$f":"IF('DAV1'!A92=\"\",\"\",'DAV1'!A92)","v":""},{"$f":"IF('DAV1'!B92=\"\",\"\",'DAV1'!B92)","v":""},{"$f":"IF('DAV1'!C92=\"\",\"\",'DAV1'!C92)","v":""},1,1,1,1,1,1,1,1,1,1,1,1,1,1,1,1,1,"GELİŞTİRİLMELİ"]
[{"$f":"IF('DAV1'!A93=\"\",\"\",'DAV1'!A93)","v":""},{"$f":"IF('DAV1'!B93=\"\",\"\",'DAV1'!B93)","v":""},{"$f":"IF('DAV1'!C93=\"\",\"\",'DAV1'!C93)","v":""},1,1,1,1,1,1,1,1,1,1,1,1,1,1,1,1,1,"GELİŞTİRİLMELİ"]
[{"$f":"IF('DAV1'!A94=\"\",\"\",'DAV1'!A94)","v":""},{"$f":"IF('DAV1'!B94=\"\",\"\",'DAV1'!B94)","v":""},{"$f":"IF('DAV1'!C94=\"\",\"\",'DAV1'!C94)","v":""},1,1,1,1,1,1,1,1,1,1,1,1,1,1,1,1,1,"GELİŞTİRİLMELİ"]
[{"$f":"IF('DAV1'!A95=\"\",\"\",'DAV1'!A95)","v":""},{"$f":"IF('DAV1'!B95=\"\",\"\",'DAV1'!B95)","v":""},{"$f":"IF('DAV1'!C95=\"\",\"\",'DAV1'!C95)","v":""},1,1,1,1,1,1,1,1,1,1,1,1,1,1,1,1,1,"GELİŞTİRİLMELİ"]
[{"$f":"IF('DAV1'!A96=\"\",\"\",'DAV1'!A96)","v":""},{"$f":"IF('DAV1'!B96=\"\",\"\",'DAV1'!B96)","v":""},{"$f":"IF('DAV1'!C96=\"\",\"\",'DAV1'!C96)","v":""},1,1,1,1,1,1,1,1,1,1,1,1,1,1,1,1,1,"GELİŞTİRİLMELİ"]
[{"$f":"IF('DAV1'!A97=\"\",\"\",'DAV1'!A97)","v":""},{"$f":"IF('DAV1'!B97=\"\",\"\",'DAV1'!B97)","v":""},{"$f":"IF('DAV1'!C97=\"\",\"\",'DAV1'!C97)","v":""},1,1,1,1,1,1,1,1,1,1,1,1,1,1,1,1,1,"GELİŞTİRİLMELİ"]
[{"$f":"IF('DAV1'!A98=\"\",\"\",'DAV1'!A98)","v":""},{"$f":"IF('DAV1'!B98=\"\",\"\",'DAV1'!B98)","v":""},{"$f":"IF('DAV1'!C98=\"\",\"\",'DAV1'!C98)","v":""},1,1,1,1,1,1,1,1,1,1,1,1,1,1,1,1,1,"GELİŞTİRİLMELİ"]
[{"$f":"IF('DAV1'!A99=\"\",\"\",'DAV1'!A99)","v":""},{"$f":"IF('DAV1'!B99=\"\",\"\",'DAV1'!B99)","v":""},{"$f":"IF('DAV1'!C99=\"\",\"\",'DAV1'!C99)","v":""},1,1,1,1,1,1,1,1,1,1,1,1,1,1,1,1,{"$f":"AVERAGE(D99:S99)","v":1},"GELİŞTİRİLMELİ"]
[{"$f":"IF('DAV1'!A100=\"\",\"\",'DAV1'!A100)","v":""},{"$f":"IF('DAV1'!B100=\"\",\"\",'DAV1'!B100)","v":""},{"$f":"IF('DAV1'!C100=\"\",\"\",'DAV1'!C100)","v":""},1,1,1,1,1,1,1,1,1,1,1,1,1,1,1,1,1,"GELİŞTİRİLMELİ"]
[{"$f":"IF('DAV1'!A101=\"\",\"\",'DAV1'!A101)","v":""},{"$f":"IF('DAV1'!B101=\"\",\"\",'DAV1'!B101)","v":""},{"$f":"IF('DAV1'!C101=\"\",\"\",'DAV1'!C101)","v":""},1,1,1,1,1,1,1,1,1,1,1,1,1,1,1,1,1,"GELİŞTİRİLMELİ"]
[{"$f":"IF('DAV1'!A102=\"\",\"\",'DAV1'!A102)","v":""},{"$f":"IF('DAV1'!B102=\"\",\"\",'DAV1'!B102)","v":""},{"$f":"IF('DAV1'!C102=\"\",\"\",'DAV1'!C102)","v":""},1,1,1,1,1,1,1,1,1,1,1,1,1,1,1,1,1,"GELİŞTİRİLMELİ"]
[]
[1,1,1,1,1,1,1,1,1,1,1,1,1,1,1,1,1,1,1,1,1,1,1,1,1,1,1,1,1,1,1,1,1,1,1,1,1,1,1,1,1,1,1,1,1,1,1,1,1,1,1,1,1,1,1,1,1,1,1,1,1,1,1,1,1,1,1,1,1,1,1,1,1,1,1,1,1,1,1,1,1,1,1,1,1,1,1,1,1,1,1,1,1,1,1,1,1,1,1,1]
[2,2,2,2,2,2,2,2,2,2,2,2,2,2,2,2,2,2,2,2,2,2,2,2,2,2,2,2,2,2,2,2,2,2,2,2,2,2,2,2,2,2,2,2,2,2,2,2,2,2,2,2,2,2,2,2,2,2,2,2,2,2,2,2,2,2,2,2,2,2,2,2,2,2,2,2,2,2,2,2,2,2,2,2,2,2,2,2,2,2,2,2,2,2,2,2,2,2,2,2]
[3,3,3,3,3,3,3,3,3,3,3,3,3,3,3,3,3,3,3,3,3,3,3,3,3,3,3,3,3,3,3,3,3,3,3,3,3,3,3,3,3,3,3,3,3,3,3,3,3,3,3,3,3,3,3,3,3,3,3,3,3,3,3,3,3,3,3,3,3,3,3,3,3,3,3,3,3,3,3,3,3,3,3,3,3,3,3,3,3,3,3,3,3,3,3,3,3,3,3,3]
[4,4,4,4,4,4,4,4,4,4,4,4,4,4,4,4,4,4,4,4,4,4,4,4,4,4,4,4,4,4,4,4,4,4,4,4,4,4,4,4,4,4,4,4,4,4,4,4,4,4,4,4,4,4,4,4,4,4,4,4,4,4,4,4,4,4,4,4,4,4,4,4,4,4,4,4,4,4,4,4,4,4,4,4,4,4,4,4,4,4,4,4,4,4,4,4,4,4,4,4]

{"sheet":"M2.2","index":9,"n_rows":107,"n_cols":100,"rows_kept":107,"cut":false,"hidden":false,"merged":[[0,1,0,2],[0,21,1,21],[0,22,1,22],[1,3,1,20]]}
[2,"MATEMATİK \n. DÖNEM",null,"M.1.1.2.4. Toplamları 20’yi geçmeyen sayılarla yapılan toplama işleminde verilmeyen toplananı bulur.","M.1.1.2.5. Zihinden toplama işlemi yapar.","M.1.3.2.1. Paralarımızı tanır.","M.1.1.2.6. Doğal sayılarla toplama işlemini gerektiren problemleri çözer.","M.1.1.3.3. Doğal sayılarda zihinden çıkarma işlemi yapar.","M.1.1.3.4. Doğal sayılarla çıkarma işlemini gerektiren problemleri çözer.","M.1.1.4.1. Bütün ve yarımı uygun modeller ile gösterir, bütün ve yarım arasındaki ilişkiyi açıklar.","M.1.3.3.1. Tam ve yarım saatleri okur.","M.1.3.3.2. Takvim üzerinde günü, haftayı ve ayı belirtir.","M.1.3.3.3. Belirli olayları ve durumları referans alarak sıralamalar yapar.","M.1.2.1.1. Geometrik şekilleri köşe ve kenar sayılarına göre sınıflandırarak adlandırır.","M.1.2.3.1. Nesnelerden, geometrik cisim ya da şekillerden oluşan bir örüntüdeki kuralı bulur ve örüntüde eksik bırakılan ögeleri belirleyerek örüntüyü tamamlar.","M.1.2.3.2. En çok üç ögesi olan örüntüyü geometrik cisim ya da şekillerle oluşturur.","M.1.3.1.1. Nesneleri uzunlukları yönünden karşılaştırır ve sıralar.","M.1.3.1.2. Bir uzunluğu ölçmek için standart olmayan uygun ölçme aracını seçer ve ölçme yapar.","M.1.4.1.1. En çok iki veri grubuna sahip basit tabloları okur.","M.1.3.5.1. Sıvı ölçme etkinliklerinde standart olmayan birimleri kullanarak sıvıları ölçer.","M.1.3.5.2. En az üç özdeş kaptaki sıvı miktarını karşılaştırır ve sıralar.","ORTALAMA","DEĞERLENDİRME SONUCU"]
["SIRA","OKUL NO","ADI SOYADI"]
[{"$f":"IF('DAV1'!A3=\"\",\"\",'DAV1'!A3)","v":1},{"$f":"IF('DAV1'!B3=\"\",\"\",'DAV1'!B3)","v":11},{"$f":"IF('DAV1'!C3=\"\",\"\",'DAV1'!C3)","v":"KAYRA ÇINAR ERGÜN"},1,1,1,1,1,1,1,1,1,1,1,1,1,1,1,1,1,1,{"$f":"AVERAGE(D3:U3)","v":1},{"$f":"IF(V3=\"\",\"\",(IF(V3>=2.5,\"ÇOK İYİ\",IF(V3>=1.5,\"İYİ\",IF(V3>=1,\"GELİŞTİRİLMELİ\")))))","v":"GELİŞTİRİLMELİ"}]
[{"$f":"IF('DAV1'!A4=\"\",\"\",'DAV1'!A4)","v":2},{"$f":"IF('DAV1'!B4=\"\",\"\",'DAV1'!B4)","v":35},{"$f":"IF('DAV1'!C4=\"\",\"\",'DAV1'!C4)","v":"FURKAN SOLMAZ"},1,1,1,1,1,1,1,1,1,1,1,1,1,1,1,1,1,1,1,"GELİŞTİRİLMELİ"]
[{"$f":"IF('DAV1'!A5=\"\",\"\",'DAV1'!A5)","v":3},{"$f":"IF('DAV1'!B5=\"\",\"\",'DAV1'!B5)","v":53},{"$f":"IF('DAV1'!C5=\"\",\"\",'DAV1'!C5)","v":"İLKNUR MUMCU"},1,1,1,1,1,1,1,1,1,1,1,1,1,1,1,1,1,1,1,"GELİŞTİRİLMELİ"]
[{"$f":"IF('DAV1'!A6=\"\",\"\",'DAV1'!A6)","v":4},{"$f":"IF('DAV1'!B6=\"\",\"\",'DAV1'!B6)","v":83},{"$f":"IF('DAV1'!C6=\"\",\"\",'DAV1'!C6)","v":"MUHAMMET ALİ YILDIRIM"},1,1,1,1,1,1,1,1,1,1,1,1,1,1,1,1,1,1,1,"GELİŞTİRİLMELİ"]
[{"$f":"IF('DAV1'!A7=\"\",\"\",'DAV1'!A7)","v":5},{"$f":"IF('DAV1'!B7=\"\",\"\",'DAV1'!B7)","v":93},{"$f":"IF('DAV1'!C7=\"\",\"\",'DAV1'!C7)","v":"ERTUĞRUL GAZİ NAMLI"},1,1,1,1,1,1,1,1,1,1,1,1,1,1,1,1,1,1,1,"GELİŞTİRİLMELİ"]
[{"$f":"IF('DAV1'!A8=\"\",\"\",'DAV1'!A8)","v":6},{"$f":"IF('DAV1'!B8=\"\",\"\",'DAV1'!B8)","v":100},{"$f":"IF('DAV1'!C8=\"\",\"\",'DAV1'!C8)","v":"ECEM EFE"},1,1,1,1,1,1,1,1,1,1,1,1,1,1,1,1,1,1,1,"GELİŞTİRİLMELİ"]
[{"$f":"IF('DAV1'!A9=\"\",\"\",'DAV1'!A9)","v":7},{"$f":"IF('DAV1'!B9=\"\",\"\",'DAV1'!B9)","v":105},{"$f":"IF('DAV1'!C9=\"\",\"\",'DAV1'!C9)","v":"SELİM ZEKERİYA ÖZDEMİR"},1,1,1,1,1,1,1,1,1,1,1,1,1,1,1,1,1,1,1,"GELİŞTİRİLMELİ"]
[{"$f":"IF('DAV1'!A10=\"\",\"\",'DAV1'!A10)","v":8},{"$f":"IF('DAV1'!B10=\"\",\"\",'DAV1'!B10)","v":108},{"$f":"IF('DAV1'!C10=\"\",\"\",'DAV1'!C10)","v":"AREN KARAKAŞ"},1,1,1,1,1,1,1,1,1,1,1,1,1,1,1,1,1,1,1,"GELİŞTİRİLMELİ"]
[{"$f":"IF('DAV1'!A11=\"\",\"\",'DAV1'!A11)","v":9},{"$f":"IF('DAV1'!B11=\"\",\"\",'DAV1'!B11)","v":111},{"$f":"IF('DAV1'!C11=\"\",\"\",'DAV1'!C11)","v":"ZEHRA ŞAHİNOĞLU"},1,1,1,1,1,1,1,1,1,1,1,1,1,1,1,1,1,1,1,"GELİŞTİRİLMELİ"]
[{"$f":"IF('DAV1'!A12=\"\",\"\",'DAV1'!A12)","v":10},{"$f":"IF('DAV1'!B12=\"\",\"\",'DAV1'!B12)","v":113},{"$f":"IF('DAV1'!C12=\"\",\"\",'DAV1'!C12)","v":"YUSUF ALİ TÜNÇ"},1,1,1,1,1,1,1,1,1,1,1,1,1,1,1,1,1,1,1,"GELİŞTİRİLMELİ"]
[{"$f":"IF('DAV1'!A13=\"\",\"\",'DAV1'!A13)","v":11},{"$f":"IF('DAV1'!B13=\"\",\"\",'DAV1'!B13)","v":161},{"$f":"IF('DAV1'!C13=\"\",\"\",'DAV1'!C13)","v":"HÜSEYİN CELAYİR"},1,1,1,1,1,1,1,1,1,1,1,1,1,1,1,1,1,1,1,"GELİŞTİRİLMELİ"]
[{"$f":"IF('DAV1'!A14=\"\",\"\",'DAV1'!A14)","v":12},{"$f":"IF('DAV1'!B14=\"\",\"\",'DAV1'!B14)","v":177},{"$f":"IF('DAV1'!C14=\"\",\"\",'DAV1'!C14)","v":"YİĞİT EFE YEŞİLDAL"},1,1,1,1,1,1,1,1,1,1,1,1,1,1,1,1,1,1,1,"GELİŞTİRİLMELİ"]
[{"$f":"IF('DAV1'!A15=\"\",\"\",'DAV1'!A15)","v":13},{"$f":"IF('DAV1'!B15=\"\",\"\",'DAV1'!B15)","v":187},{"$f":"IF('DAV1'!C15=\"\",\"\",'DAV1'!C15)","v":"HALEF TAHA ATEŞ"},1,1,1,1,1,1,1,1,1,1,1,1,1,1,1,1,1,1,1,"GELİŞTİRİLMELİ"]
[{"$f":"IF('DAV1'!A16=\"\",\"\",'DAV1'!A16)","v":14},{"$f":"IF('DAV1'!B16=\"\",\"\",'DAV1'!B16)","v":188},{"$f":"IF('DAV1'!C16=\"\",\"\",'DAV1'!C16)","v":"EMİRHAN MERTOĞLU"},1,1,1,1,1,1,1,1,1,1,1,1,1,1,1,1,1,1,1,"GELİŞTİRİLMELİ"]
[{"$f":"IF('DAV1'!A17=\"\",\"\",'DAV1'!A17)","v":15},{"$f":"IF('DAV1'!B17=\"\",\"\",'DAV1'!B17)","v":189},{"$f":"IF('DAV1'!C17=\"\",\"\",'DAV1'!C17)","v":"EMİNE GÜVEN"},1,1,1,1,1,1,1,1,1,1,1,1,1,1,1,1,1,1,1,"GELİŞTİRİLMELİ"]
[{"$f":"IF('DAV1'!A18=\"\",\"\",'DAV1'!A18)","v":16},{"$f":"IF('DAV1'!B18=\"\",\"\",'DAV1'!B18)","v":213},{"$f":"IF('DAV1'!C18=\"\",\"\",'DAV1'!C18)","v":"YAĞMUR KILIÇ"},1,1,1,1,1,1,1,1,1,1,1,1,1,1,1,1,1,1,1,"GELİŞTİRİLMELİ"]
[{"$f":"IF('DAV1'!A19=\"\",\"\",'DAV1'!A19)","v":17},{"$f":"IF('DAV1'!B19=\"\",\"\",'DAV1'!B19)","v":214},{"$f":"IF('DAV1'!C19=\"\",\"\",'DAV1'!C19)","v":"ERDAL GÜLATAR"},1,1,1,1,1,1,1,1,1,1,1,1,1,1,1,1,1,1,1,"GELİŞTİRİLMELİ"]
[{"$f":"IF('DAV1'!A20=\"\",\"\",'DAV1'!A20)","v":18},{"$f":"IF('DAV1'!B20=\"\",\"\",'DAV1'!B20)","v":216},{"$f":"IF('DAV1'!C20=\"\",\"\",'DAV1'!C20)","v":"GAMZE ACAR"},1,1,1,1,1,1,1,1,1,1,1,1,1,1,1,1,1,1,1,"GELİŞTİRİLMELİ"]
[{"$f":"IF('DAV1'!A21=\"\",\"\",'DAV1'!A21)","v":19},{"$f":"IF('DAV1'!B21=\"\",\"\",'DAV1'!B21)","v":222},{"$f":"IF('DAV1'!C21=\"\",\"\",'DAV1'!C21)","v":"HİRANUR DOĞANDEMİR"},1,1,1,1,1,1,1,1,1,1,1,1,1,1,1,1,1,1,1,"GELİŞTİRİLMELİ"]
[{"$f":"IF('DAV1'!A22=\"\",\"\",'DAV1'!A22)","v":20},{"$f":"IF('DAV1'!B22=\"\",\"\",'DAV1'!B22)","v":224},{"$f":"IF('DAV1'!C22=\"\",\"\",'DAV1'!C22)","v":"TALHA YILMAZ"},1,1,1,1,1,1,1,1,1,1,1,1,1,1,1,1,1,1,1,"GELİŞTİRİLMELİ"]
[{"$f":"IF('DAV1'!A23=\"\",\"\",'DAV1'!A23)","v":21},{"$f":"IF('DAV1'!B23=\"\",\"\",'DAV1'!B23)","v":225},{"$f":"IF('DAV1'!C23=\"\",\"\",'DAV1'!C23)","v":"YUSUF EMİR DAĞDÖGEN"},1,1,1,1,1,1,1,1,1,1,1,1,1,1,1,1,1,1,1,"GELİŞTİRİLMELİ"]
[{"$f":"IF('DAV1'!A24=\"\",\"\",'DAV1'!A24)","v":22},{"$f":"IF('DAV1'!B24=\"\",\"\",'DAV1'!B24)","v":226},{"$f":"IF('DAV1'!C24=\"\",\"\",'DAV1'!C24)","v":"İMREN CANPOLAT"},1,1,1,1,1,1,1,1,1,1,1,1,1,1,1,1,1,1,1,"GELİŞTİRİLMELİ"]
[{"$f":"IF('DAV1'!A25=\"\",\"\",'DAV1'!A25)","v":23},{"$f":"IF('DAV1'!B25=\"\",\"\",'DAV1'!B25)","v":227},{"$f":"IF('DAV1'!C25=\"\",\"\",'DAV1'!C25)","v":"ZEYNEP CANPOLAT"},1,1,1,1,1,1,1,1,1,1,1,1,1,1,1,1,1,1,1,"GELİŞTİRİLMELİ"]
[{"$f":"IF('DAV1'!A26=\"\",\"\",'DAV1'!A26)","v":24},{"$f":"IF('DAV1'!B26=\"\",\"\",'DAV1'!B26)","v":229},{"$f":"IF('DAV1'!C26=\"\",\"\",'DAV1'!C26)","v":"MERYEM PARMAK"},1,1,1,1,1,1,1,1,1,1,1,1,1,1,1,1,1,1,1,"GELİŞTİRİLMELİ"]
[{"$f":"IF('DAV1'!A27=\"\",\"\",'DAV1'!A27)","v":25},{"$f":"IF('DAV1'!B27=\"\",\"\",'DAV1'!B27)","v":237},{"$f":"IF('DAV1'!C27=\"\",\"\",'DAV1'!C27)","v":"ZEYNEP MİRAY BOYRAZ"},1,1,1,1,1,1,1,1,1,1,1,1,1,1,1,1,1,1,1,"GELİŞTİRİLMELİ"]
[{"$f":"IF('DAV1'!A28=\"\",\"\",'DAV1'!A28)","v":26},{"$f":"IF('DAV1'!B28=\"\",\"\",'DAV1'!B28)","v":244},{"$f":"IF('DAV1'!C28=\"\",\"\",'DAV1'!C28)","v":"TAMER ŞEKERCİLEROĞLU"},1,1,1,1,1,1,1,1,1,1,1,1,1,1,1,1,1,1,1,"GELİŞTİRİLMELİ"]
[{"$f":"IF('DAV1'!A29=\"\",\"\",'DAV1'!A29)","v":27},{"$f":"IF('DAV1'!B29=\"\",\"\",'DAV1'!B29)","v":263},{"$f":"IF('DAV1'!C29=\"\",\"\",'DAV1'!C29)","v":"MUHAMMED YUSUF YILMAZ"},1,1,1,1,1,1,1,1,1,1,1,1,1,1,1,1,1,1,1,"GELİŞTİRİLMELİ"]
[{"$f":"IF('DAV1'!A30=\"\",\"\",'DAV1'!A30)","v":28},{"$f":"IF('DAV1'!B30=\"\",\"\",'DAV1'!B30)","v":264},{"$f":"IF('DAV1'!C30=\"\",\"\",'DAV1'!C30)","v":"OĞUZHAN GÜRGÜZE"},1,1,1,1,1,1,1,1,1,1,1,1,1,1,1,1,1,1,1,"GELİŞTİRİLMELİ"]
[{"$f":"IF('DAV1'!A31=\"\",\"\",'DAV1'!A31)","v":29},{"$f":"IF('DAV1'!B31=\"\",\"\",'DAV1'!B31)","v":279},{"$f":"IF('DAV1'!C31=\"\",\"\",'DAV1'!C31)","v":"MİHRİMA EKİCİ"},1,1,1,1,1,1,1,1,1,1,1,1,1,1,1,1,1,1,1,"GELİŞTİRİLMELİ"]
[{"$f":"IF('DAV1'!A32=\"\",\"\",'DAV1'!A32)","v":30},{"$f":"IF('DAV1'!B32=\"\",\"\",'DAV1'!B32)","v":290},{"$f":"IF('DAV1'!C32=\"\",\"\",'DAV1'!C32)","v":"NİSA NUR YILDIZ"},1,1,1,1,1,1,1,1,1,1,1,1,1,1,1,1,1,1,1,"GELİŞTİRİLMELİ"]
[{"$f":"IF('DAV1'!A33=\"\",\"\",'DAV1'!A33)","v":31},{"$f":"IF('DAV1'!B33=\"\",\"\",'DAV1'!B33)","v":293},{"$f":"IF('DAV1'!C33=\"\",\"\",'DAV1'!C33)","v":"MEHMET ALATAŞ"},1,1,1,1,1,1,1,1,1,1,1,1,1,1,1,1,1,1,1,"GELİŞTİRİLMELİ"]
[{"$f":"IF('DAV1'!A34=\"\",\"\",'DAV1'!A34)","v":32},{"$f":"IF('DAV1'!B34=\"\",\"\",'DAV1'!B34)","v":451},{"$f":"IF('DAV1'!C34=\"\",\"\",'DAV1'!C34)","v":"İKRA YILDIRIM"},1,1,1,1,1,1,1,1,1,1,1,1,1,1,1,1,1,1,1,"GELİŞTİRİLMELİ"]
[{"$f":"IF('DAV1'!A35=\"\",\"\",'DAV1'!A35)","v":33},{"$f":"IF('DAV1'!B35=\"\",\"\",'DAV1'!B35)","v":616},{"$f":"IF('DAV1'!C35=\"\",\"\",'DAV1'!C35)","v":"EDA TURAL"},1,1,1,1,1,1,1,1,1,1,1,1,1,1,1,1,1,1,{"$f":"AVERAGE(D35:U35)","v":1},"GELİŞTİRİLMELİ"]
[{"$f":"IF('DAV1'!A36=\"\",\"\",'DAV1'!A36)","v":34},{"$f":"IF('DAV1'!B36=\"\",\"\",'DAV1'!B36)","v":892},{"$f":"IF('DAV1'!C36=\"\",\"\",'DAV1'!C36)","v":"ALMA ALRAMADAN"},1,1,1,1,1,1,1,1,1,1,1,1,1,1,1,1,1,1,1,"GELİŞTİRİLMELİ"]
[{"$f":"IF('DAV1'!A37=\"\",\"\",'DAV1'!A37)","v":35},{"$f":"IF('DAV1'!B37=\"\",\"\",'DAV1'!B37)","v":1000},{"$f":"IF('DAV1'!C37=\"\",\"\",'DAV1'!C37)","v":"TURGUT POLAT"},1,1,1,1,1,1,1,1,1,1,1,1,1,1,1,1,1,1,1,"GELİŞTİRİLMELİ"]
[{"$f":"IF('DAV1'!A38=\"\",\"\",'DAV1'!A38)","v":""},{"$f":"IF('DAV1'!B38=\"\",\"\",'DAV1'!B38)","v":""},{"$f":"IF('DAV1'!C38=\"\",\"\",'DAV1'!C38)","v":""},1,1,1,1,1,1,1,1,1,1,1,1,1,1,1,1,1,1,1,"GELİŞTİRİLMELİ"]
[{"$f":"IF('DAV1'!A39=\"\",\"\",'DAV1'!A39)","v":""},{"$f":"IF('DAV1'!B39=\"\",\"\",'DAV1'!B39)","v":""},{"$f":"IF('DAV1'!C39=\"\",\"\",'DAV1'!C39)","v":""},1,1,1,1,1,1,1,1,1,1,1,1,1,1,1,1,1,1,1,"GELİŞTİRİLMELİ"]
[{"$f":"IF('DAV1'!A40=\"\",\"\",'DAV1'!A40)","v":""},{"$f":"IF('DAV1'!B40=\"\",\"\",'DAV1'!B40)","v":""},{"$f":"IF('DAV1'!C40=\"\",\"\",'DAV1'!C40)","v":""},1,1,1,1,1,1,1,1,1,1,1,1,1,1,1,1,1,1,1,"GELİŞTİRİLMELİ"]
[{"$f":"IF('DAV1'!A41=\"\",\"\",'DAV1'!A41)","v":""},{"$f":"IF('DAV1'!B41=\"\",\"\",'DAV1'!B41)","v":""},{"$f":"IF('DAV1'!C41=\"\",\"\",'DAV1'!C41)","v":""},1,1,1,1,1,1,1,1,1,1,1,1,1,1,1,1,1,1,1,"GELİŞTİRİLMELİ"]
[{"$f":"IF('DAV1'!A42=\"\",\"\",'DAV1'!A42)","v":""},{"$f":"IF('DAV1'!B42=\"\",\"\",'DAV1'!B42)","v":""},{"$f":"IF('DAV1'!C42=\"\",\"\",'DAV1'!C42)","v":""},1,1,1,1,1,1,1,1,1,1,1,1,1,1,1,1,1,1,1,"GELİŞTİRİLMELİ"]
[{"$f":"IF('DAV1'!A43=\"\",\"\",'DAV1'!A43)","v":""},{"$f":"IF('DAV1'!B43=\"\",\"\",'DAV1'!B43)","v":""},{"$f":"IF('DAV1'!C43=\"\",\"\",'DAV1'!C43)","v":""},1,1,1,1,1,1,1,1,1,1,1,1,1,1,1,1,1,1,1,"GELİŞTİRİLMELİ"]
[{"$f":"IF('DAV1'!A44=\"\",\"\",'DAV1'!A44)","v":""},{"$f":"IF('DAV1'!B44=\"\",\"\",'DAV1'!B44)","v":""},{"$f":"IF('DAV1'!C44=\"\",\"\",'DAV1'!C44)","v":""},1,1,1,1,1,1,1,1,1,1,1,1,1,1,1,1,1,1,1,"GELİŞTİRİLMELİ"]
[{"$f":"IF('DAV1'!A45=\"\",\"\",'DAV1'!A45)","v":""},{"$f":"IF('DAV1'!B45=\"\",\"\",'DAV1'!B45)","v":""},{"$f":"IF('DAV1'!C45=\"\",\"\",'DAV1'!C45)","v":""},1,1,1,1,1,1,1,1,1,1,1,1,1,1,1,1,1,1,1,"GELİŞTİRİLMELİ"]
[{"$f":"IF('DAV1'!A46=\"\",\"\",'DAV1'!A46)","v":""},{"$f":"IF('DAV1'!B46=\"\",\"\",'DAV1'!B46)","v":""},{"$f":"IF('DAV1'!C46=\"\",\"\",'DAV1'!C46)","v":""},1,1,1,1,1,1,1,1,1,1,1,1,1,1,1,1,1,1,1,"GELİŞTİRİLMELİ"]
[{"$f":"IF('DAV1'!A47=\"\",\"\",'DAV1'!A47)","v":""},{"$f":"IF('DAV1'!B47=\"\",\"\",'DAV1'!B47)","v":""},{"$f":"IF('DAV1'!C47=\"\",\"\",'DAV1'!C47)","v":""},1,1,1,1,1,1,1,1,1,1,1,1,1,1,1,1,1,1,1,"GELİŞTİRİLMELİ"]
[{"$f":"IF('DAV1'!A48=\"\",\"\",'DAV1'!A48)","v":""},{"$f":"IF('DAV1'!B48=\"\",\"\",'DAV1'!B48)","v":""},{"$f":"IF('DAV1'!C48=\"\",\"\",'DAV1'!C48)","v":""},1,1,1,1,1,1,1,1,1,1,1,1,1,1,1,1,1,1,1,"GELİŞTİRİLMELİ"]
[{"$f":"IF('DAV1'!A49=\"\",\"\",'DAV1'!A49)","v":""},{"$f":"IF('DAV1'!B49=\"\",\"\",'DAV1'!B49)","v":""},{"$f":"IF('DAV1'!C49=\"\",\"\",'DAV1'!C49)","v":""},1,1,1,1,1,1,1,1,1,1,1,1,1,1,1,1,1,1,1,"GELİŞTİRİLMELİ"]
[{"$f":"IF('DAV1'!A50=\"\",\"\",'DAV1'!A50)","v":""},{"$f":"IF('DAV1'!B50=\"\",\"\",'DAV1'!B50)","v":""},{"$f":"IF('DAV1'!C50=\"\",\"\",'DAV1'!C50)","v":""},1,1,1,1,1,1,1,1,1,1,1,1,1,1,1,1,1,1,1,"GELİŞTİRİLMELİ"]
[{"$f":"IF('DAV1'!A51=\"\",\"\",'DAV1'!A51)","v":""},{"$f":"IF('DAV1'!B51=\"\",\"\",'DAV1'!B51)","v":""},{"$f":"IF('DAV1'!C51=\"\",\"\",'DAV1'!C51)","v":""},1,1,1,1,1,1,1,1,1,1,1,1,1,1,1,1,1,1,1,"GELİŞTİRİLMELİ"]
[{"$f":"IF('DAV1'!A52=\"\",\"\",'DAV1'!A52)","v":""},{"$f":"IF('DAV1'!B52=\"\",\"\",'DAV1'!B52)","v":""},{"$f":"IF('DAV1'!C52=\"\",\"\",'DAV1'!C52)","v":""},1,1,1,1,1,1,1,1,1,1,1,1,1,1,1,1,1,1,1,"GELİŞTİRİLMELİ"]
[{"$f":"IF('DAV1'!A53=\"\",\"\",'DAV1'!A53)","v":""},{"$f":"IF('DAV1'!B53=\"\",\"\",'DAV1'!B53)","v":""},{"$f":"IF('DAV1'!C53=\"\",\"\",'DAV1'!C53)","v":""},1,1,1,1,1,1,1,1,1,1,1,1,1,1,1,1,1,1,1,"GELİŞTİRİLMELİ"]
[{"$f":"IF('DAV1'!A54=\"\",\"\",'DAV1'!A54)","v":""},{"$f":"IF('DAV1'!B54=\"\",\"\",'DAV1'!B54)","v":""},{"$f":"IF('DAV1'!C54=\"\",\"\",'DAV1'!C54)","v":""},1,1,1,1,1,1,1,1,1,1,1,1,1,1,1,1,1,1,1,"GELİŞTİRİLMELİ"]
[{"$f":"IF('DAV1'!A55=\"\",\"\",'DAV1'!A55)","v":""},{"$f":"IF('DAV1'!B55=\"\",\"\",'DAV1'!B55)","v":""},{"$f":"IF('DAV1'!C55=\"\",\"\",'DAV1'!C55)","v":""},1,1,1,1,1,1,1,1,1,1,1,1,1,1,1,1,1,1,1,"GELİŞTİRİLMELİ"]
[{"$f":"IF('DAV1'!A56=\"\",\"\",'DAV1'!A56)","v":""},{"$f":"IF('DAV1'!B56=\"\",\"\",'DAV1'!B56)","v":""},{"$f":"IF('DAV1'!C56=\"\",\"\",'DAV1'!C56)","v":""},1,1,1,1,1,1,1,1,1,1,1,1,1,1,1,1,1,1,1,"GELİŞTİRİLMELİ"]
[{"$f":"IF('DAV1'!A57=\"\",\"\",'DAV1'!A57)","v":""},{"$f":"IF('DAV1'!B57=\"\",\"\",'DAV1'!B57)","v":""},{"$f":"IF('DAV1'!C57=\"\",\"\",'DAV1'!C57)","v":""},1,1,1,1,1,1,1,1,1,1,1,1,1,1,1,1,1,1,1,"GELİŞTİRİLMELİ"]
[{"$f":"IF('DAV1'!A58=\"\",\"\",'DAV1'!A58)","v":""},{"$f":"IF('DAV1'!B58=\"\",\"\",'DAV1'!B58)","v":""},{"$f":"IF('DAV1'!C58=\"\",\"\",'DAV1'!C58)","v":""},1,1,1,1,1,1,1,1,1,1,1,1,1,1,1,1,1,1,1,"GELİŞTİRİLMELİ"]
[{"$f":"IF('DAV1'!A59=\"\",\"\",'DAV1'!A59)","v":""},{"$f":"IF('DAV1'!B59=\"\",\"\",'DAV1'!B59)","v":""},{"$f":"IF('DAV1'!C59=\"\",\"\",'DAV1'!C59)","v":""},1,1,1,1,1,1,1,1,1,1,1,1,1,1,1,1,1,1,1,"GELİŞTİRİLMELİ"]
[{"$f":"IF('DAV1'!A60=\"\",\"\",'DAV1'!A60)","v":""},{"$f":"IF('DAV1'!B60=\"\",\"\",'DAV1'!B60)","v":""},{"$f":"IF('DAV1'!C60=\"\",\"\",'DAV1'!C60)","v":""},1,1,1,1,1,1,1,1,1,1,1,1,1,1,1,1,1,1,1,"GELİŞTİRİLMELİ"]
[{"$f":"IF('DAV1'!A61=\"\",\"\",'DAV1'!A61)","v":""},{"$f":"IF('DAV1'!B61=\"\",\"\",'DAV1'!B61)","v":""},{"$f":"IF('DAV1'!C61=\"\",\"\",'DAV1'!C61)","v":""},1,1,1,1,1,1,1,1,1,1,1,1,1,1,1,1,1,1,1,"GELİŞTİRİLMELİ"]
[{"$f":"IF('DAV1'!A62=\"\",\"\",'DAV1'!A62)","v":""},{"$f":"IF('DAV1'!B62=\"\",\"\",'DAV1'!B62)","v":""},{"$f":"IF('DAV1'!C62=\"\",\"\",'DAV1'!C62)","v":""},1,1,1,1,1,1,1,1,1,1,1,1,1,1,1,1,1,1,1,"GELİŞTİRİLMELİ"]
[{"$f":"IF('DAV1'!A63=\"\",\"\",'DAV1'!A63)","v":""},{"$f":"IF('DAV1'!B63=\"\",\"\",'DAV1'!B63)","v":""},{"$f":"IF('DAV1'!C63=\"\",\"\",'DAV1'!C63)","v":""},1,1,1,1,1,1,1,1,1,1,1,1,1,1,1,1,1,1,1,"GELİŞTİRİLMELİ"]
[{"$f":"IF('DAV1'!A64=\"\",\"\",'DAV1'!A64)","v":""},{"$f":"IF('DAV1'!B64=\"\",\"\",'DAV1'!B64)","v":""},{"$f":"IF('DAV1'!C64=\"\",\"\",'DAV1'!C64)","v":""},1,1,1,1,1,1,1,1,1,1,1,1,1,1,1,1,1,1,1,"GELİŞTİRİLMELİ"]
[{"$f":"IF('DAV1'!A65=\"\",\"\",'DAV1'!A65)","v":""},{"$f":"IF('DAV1'!B65=\"\",\"\",'DAV1'!B65)","v":""},{"$f":"IF('DAV1'!C65=\"\",\"\",'DAV1'!C65)","v":""},1,1,1,1,1,1,1,1,1,1,1,1,1,1,1,1,1,1,1,"GELİŞTİRİLMELİ"]
[{"$f":"IF('DAV1'!A66=\"\",\"\",'DAV1'!A66)","v":""},{"$f":"IF('DAV1'!B66=\"\",\"\",'DAV1'!B66)","v":""},{"$f":"IF('DAV1'!C66=\"\",\"\",'DAV1'!C66)","v":""},1,1,1,1,1,1,1,1,1,1,1,1,1,1,1,1,1,1,1,"GELİŞTİRİLMELİ"]
[{"$f":"IF('DAV1'!A67=\"\",\"\",'DAV1'!A67)","v":""},{"$f":"IF('DAV1'!B67=\"\",\"\",'DAV1'!B67)","v":""},{"$f":"IF('DAV1'!C67=\"\",\"\",'DAV1'!C67)","v":""},1,1,1,1,1,1,1,1,1,1,1,1,1,1,1,1,1,1,{"$f":"AVERAGE(D67:U67)","v":1},{"$f":"IF(V67=\"\",\"\",(IF(V67>=2.5,\"ÇOK İYİ\",IF(V67>=1.5,\"İYİ\",IF(V67>=1,\"GELİŞTİRİLMELİ\")))))","v":"GELİŞTİRİLMELİ"}]
[{"$f":"IF('DAV1'!A68=\"\",\"\",'DAV1'!A68)","v":""},{"$f":"IF('DAV1'!B68=\"\",\"\",'DAV1'!B68)","v":""},{"$f":"IF('DAV1'!C68=\"\",\"\",'DAV1'!C68)","v":""},1,1,1,1,1,1,1,1,1,1,1,1,1,1,1,1,1,1,1,"GELİŞTİRİLMELİ"]
[{"$f":"IF('DAV1'!A69=\"\",\"\",'DAV1'!A69)","v":""},{"$f":"IF('DAV1'!B69=\"\",\"\",'DAV1'!B69)","v":""},{"$f":"IF('DAV1'!C69=\"\",\"\",'DAV1'!C69)","v":""},1,1,1,1,1,1,1,1,1,1,1,1,1,1,1,1,1,1,1,"GELİŞTİRİLMELİ"]
[{"$f":"IF('DAV1'!A70=\"\",\"\",'DAV1'!A70)","v":""},{"$f":"IF('DAV1'!B70=\"\",\"\",'DAV1'!B70)","v":""},{"$f":"IF('DAV1'!C70=\"\",\"\",'DAV1'!C70)","v":""},1,1,1,1,1,1,1,1,1,1,1,1,1,1,1,1,1,1,1,"GELİŞTİRİLMELİ"]
[{"$f":"IF('DAV1'!A71=\"\",\"\",'DAV1'!A71)","v":""},{"$f":"IF('DAV1'!B71=\"\",\"\",'DAV1'!B71)","v":""},{"$f":"IF('DAV1'!C71=\"\",\"\",'DAV1'!C71)","v":""},1,1,1,1,1,1,1,1,1,1,1,1,1,1,1,1,1,1,1,"GELİŞTİRİLMELİ"]
[{"$f":"IF('DAV1'!A72=\"\",\"\",'DAV1'!A72)","v":""},{"$f":"IF('DAV1'!B72=\"\",\"\",'DAV1'!B72)","v":""},{"$f":"IF('DAV1'!C72=\"\",\"\",'DAV1'!C72)","v":""},1,1,1,1,1,1,1,1,1,1,1,1,1,1,1,1,1,1,1,"GELİŞTİRİLMELİ"]
[{"$f":"IF('DAV1'!A73=\"\",\"\",'DAV1'!A73)","v":""},{"$f":"IF('DAV1'!B73=\"\",\"\",'DAV1'!B73)","v":""},{"$f":"IF('DAV1'!C73=\"\",\"\",'DAV1'!C73)","v":""},1,1,1,1,1,1,1,1,1,1,1,1,1,1,1,1,1,1,1,"GELİŞTİRİLMELİ"]
[{"$f":"IF('DAV1'!A74=\"\",\"\",'DAV1'!A74)","v":""},{"$f":"IF('DAV1'!B74=\"\",\"\",'DAV1'!B74)","v":""},{"$f":"IF('DAV1'!C74=\"\",\"\",'DAV1'!C74)","v":""},1,1,1,1,1,1,1,1,1,1,1,1,1,1,1,1,1,1,1,"GELİŞTİRİLMELİ"]
[{"$f":"IF('DAV1'!A75=\"\",\"\",'DAV1'!A75)","v":""},{"$f":"IF('DAV1'!B75=\"\",\"\",'DAV1'!B75)","v":""},{"$f":"IF('DAV1'!C75=\"\",\"\",'DAV1'!C75)","v":""},1,1,1,1,1,1,1,1,1,1,1,1,1,1,1,1,1,1,1,"GELİŞTİRİLMELİ"]
[{"$f":"IF('DAV1'!A76=\"\",\"\",'DAV1'!A76)","v":""},{"$f":"IF('DAV1'!B76=\"\",\"\",'DAV1'!B76)","v":""},{"$f":"IF('DAV1'!C76=\"\",\"\",'DAV1'!C76)","v":""},1,1,1,1,1,1,1,1,1,1,1,1,1,1,1,1,1,1,1,"GELİŞTİRİLMELİ"]
[{"$f":"IF('DAV1'!A77=\"\",\"\",'DAV1'!A77)","v":""},{"$f":"IF('DAV1'!B77=\"\",\"\",'DAV1'!B77)","v":""},{"$f":"IF('DAV1'!C77=\"\",\"\",'DAV1'!C77)","v":""},1,1,1,1,1,1,1,1,1,1,1,1,1,1,1,1,1,1,1,"GELİŞTİRİLMELİ"]
[{"$f":"IF('DAV1'!A78=\"\",\"\",'DAV1'!A78)","v":""},{"$f":"IF('DAV1'!B78=\"\",\"\",'DAV1'!B78)","v":""},{"$f":"IF('DAV1'!C78=\"\",\"\",'DAV1'!C78)","v":""},1,1,1,1,1,1,1,1,1,1,1,1,1,1,1,1,1,1,1,"GELİŞTİRİLMELİ"]
[{"$f":"IF('DAV1'!A79=\"\",\"\",'DAV1'!A79)","v":""},{"$f":"IF('DAV1'!B79=\"\",\"\",'DAV1'!B79)","v":""},{"$f":"IF('DAV1'!C79=\"\",\"\",'DAV1'!C79)","v":""},1,1,1,1,1,1,1,1,1,1,1,1,1,1,1,1,1,1,1,"GELİŞTİRİLMELİ"]
[{"$f":"IF('DAV1'!A80=\"\",\"\",'DAV1'!A80)","v":""},{"$f":"IF('DAV1'!B80=\"\",\"\",'DAV1'!B80)","v":""},{"$f":"IF('DAV1'!C80=\"\",\"\",'DAV1'!C80)","v":""},1,1,1,1,1,1,1,1,1,1,1,1,1,1,1,1,1,1,1,"GELİŞTİRİLMELİ"]
[{"$f":"IF('DAV1'!A81=\"\",\"\",'DAV1'!A81)","v":""},{"$f":"IF('DAV1'!B81=\"\",\"\",'DAV1'!B81)","v":""},{"$f":"IF('DAV1'!C81=\"\",\"\",'DAV1'!C81)","v":""},1,1,1,1,1,1,1,1,1,1,1,1,1,1,1,1,1,1,1,"GELİŞTİRİLMELİ"]
[{"$f":"IF('DAV1'!A82=\"\",\"\",'DAV1'!A82)","v":""},{"$f":"IF('DAV1'!B82=\"\",\"\",'DAV1'!B82)","v":""},{"$f":"IF('DAV1'!C82=\"\",\"\",'DAV1'!C82)","v":""},1,1,1,1,1,1,1,1,1,1,1,1,1,1,1,1,1,1,1,"GELİŞTİRİLMELİ"]
[{"$f":"IF('DAV1'!A83=\"\",\"\",'DAV1'!A83)","v":""},{"$f":"IF('DAV1'!B83=\"\",\"\",'DAV1'!B83)","v":""},{"$f":"IF('DAV1'!C83=\"\",\"\",'DAV1'!C83)","v":""},1,1,1,1,1,1,1,1,1,1,1,1,1,1,1,1,1,1,1,"GELİŞTİRİLMELİ"]
[{"$f":"IF('DAV1'!A84=\"\",\"\",'DAV1'!A84)","v":""},{"$f":"IF('DAV1'!B84=\"\",\"\",'DAV1'!B84)","v":""},{"$f":"IF('DAV1'!C84=\"\",\"\",'DAV1'!C84)","v":""},1,1,1,1,1,1,1,1,1,1,1,1,1,1,1,1,1,1,1,"GELİŞTİRİLMELİ"]
[{"$f":"IF('DAV1'!A85=\"\",\"\",'DAV1'!A85)","v":""},{"$f":"IF('DAV1'!B85=\"\",\"\",'DAV1'!B85)","v":""},{"$f":"IF('DAV1'!C85=\"\",\"\",'DAV1'!C85)","v":""},1,1,1,1,1,1,1,1,1,1,1,1,1,1,1,1,1,1,1,"GELİŞTİRİLMELİ"]
[{"$f":"IF('DAV1'!A86=\"\",\"\",'DAV1'!A86)","v":""},{"$f":"IF('DAV1'!B86=\"\",\"\",'DAV1'!B86)","v":""},{"$f":"IF('DAV1'!C86=\"\",\"\",'DAV1'!C86)","v":""},1,1,1,1,1,1,1,1,1,1,1,1,1,1,1,1,1,1,1,"GELİŞTİRİLMELİ"]
[{"$f":"IF('DAV1'!A87=\"\",\"\",'DAV1'!A87)","v":""},{"$f":"IF('DAV1'!B87=\"\",\"\",'DAV1'!B87)","v":""},{"$f":"IF('DAV1'!C87=\"\",\"\",'DAV1'!C87)","v":""},1,1,1,1,1,1,1,1,1,1,1,1,1,1,1,1,1,1,1,"GELİŞTİRİLMELİ"]
[{"$f":"IF('DAV1'!A88=\"\",\"\",'DAV1'!A88)","v":""},{"$f":"IF('DAV1'!B88=\"\",\"\",'DAV1'!B88)","v":""},{"$f":"IF('DAV1'!C88=\"\",\"\",'DAV1'!C88)","v":""},1,1,1,1,1,1,1,1,1,1,1,1,1,1,1,1,1,1,1,"GELİŞTİRİLMELİ"]
[{"$f":"IF('DAV1'!A89=\"\",\"\",'DAV1'!A89)","v":""},{"$f":"IF('DAV1'!B89=\"\",\"\",'DAV1'!B89)","v":""},{"$f":"IF('DAV1'!C89=\"\",\"\",'DAV1'!C89)","v":""},1,1,1,1,1,1,1,1,1,1,1,1,1,1,1,1,1,1,1,"GELİŞTİRİLMELİ"]
[{"$f":"IF('DAV1'!A90=\"\",\"\",'DAV1'!A90)","v":""},{"$f":"IF('DAV1'!B90=\"\",\"\",'DAV1'!B90)","v":""},{"$f":"IF('DAV1'!C90=\"\",\"\",'DAV1'!C90)","v":""},1,1,1,1,1,1,1,1,1,1,1,1,1,1,1,1,1,1,1,"GELİŞTİRİLMELİ"]
[{"$f":"IF('DAV1'!A91=\"\",\"\",'DAV1'!A91)","v":""},{"$f":"IF('DAV1'!B91=\"\",\"\",'DAV1'!B91)","v":""},{"$f":"IF('DAV1'!C91=\"\",\"\",'DAV1'!C91)","v":""},1,1,1,1,1,1,1,1,1,1,1,1,1,1,1,1,1,1,1,"GELİŞTİRİLMELİ"]
[{"$f":"IF('DAV1'!A92=\"\",\"\",'DAV1'!A92)","v":""},{"$f":"IF('DAV1'!B92=\"\",\"\",'DAV1'!B92)","v":""},{"$f":"IF('DAV1'!C92=\"\",\"\",'DAV1'!C92)","v":""},1,1,1,1,1,1,1,1,1,1,1,1,1,1,1,1,1,1,1,"GELİŞTİRİLMELİ"]
[{"$f":"IF('DAV1'!A93=\"\",\"\",'DAV1'!A93)","v":""},{"$f":"IF('DAV1'!B93=\"\",\"\",'DAV1'!B93)","v":""},{"$f":"IF('DAV1'!C93=\"\",\"\",'DAV1'!C93)","v":""},1,1,1,1,1,1,1,1,1,1,1,1,1,1,1,1,1,1,1,"GELİŞTİRİLMELİ"]
[{"$f":"IF('DAV1'!A94=\"\",\"\",'DAV1'!A94)","v":""},{"$f":"IF('DAV1'!B94=\"\",\"\",'DAV1'!B94)","v":""},{"$f":"IF('DAV1'!C94=\"\",\"\",'DAV1'!C94)","v":""},1,1,1,1,1,1,1,1,1,1,1,1,1,1,1,1,1,1,1,"GELİŞTİRİLMELİ"]
[{"$f":"IF('DAV1'!A95=\"\",\"\",'DAV1'!A95)","v":""},{"$f":"IF('DAV1'!B95=\"\",\"\",'DAV1'!B95)","v":""},{"$f":"IF('DAV1'!C95=\"\",\"\",'DAV1'!C95)","v":""},1,1,1,1,1,1,1,1,1,1,1,1,1,1,1,1,1,1,1,"GELİŞTİRİLMELİ"]
[{"$f":"IF('DAV1'!A96=\"\",\"\",'DAV1'!A96)","v":""},{"$f":"IF('DAV1'!B96=\"\",\"\",'DAV1'!B96)","v":""},{"$f":"IF('DAV1'!C96=\"\",\"\",'DAV1'!C96)","v":""},1,1,1,1,1,1,1,1,1,1,1,1,1,1,1,1,1,1,1,"GELİŞTİRİLMELİ"]
[{"$f":"IF('DAV1'!A97=\"\",\"\",'DAV1'!A97)","v":""},{"$f":"IF('DAV1'!B97=\"\",\"\",'DAV1'!B97)","v":""},{"$f":"IF('DAV1'!C97=\"\",\"\",'DAV1'!C97)","v":""},1,1,1,1,1,1,1,1,1,1,1,1,1,1,1,1,1,1,1,"GELİŞTİRİLMELİ"]
[{"$f":"IF('DAV1'!A98=\"\",\"\",'DAV1'!A98)","v":""},{"$f":"IF('DAV1'!B98=\"\",\"\",'DAV1'!B98)","v":""},{"$f":"IF('DAV1'!C98=\"\",\"\",'DAV1'!C98)","v":""},1,1,1,1,1,1,1,1,1,1,1,1,1,1,1,1,1,1,1,"GELİŞTİRİLMELİ"]
[{"$f":"IF('DAV1'!A99=\"\",\"\",'DAV1'!A99)","v":""},{"$f":"IF('DAV1'!B99=\"\",\"\",'DAV1'!B99)","v":""},{"$f":"IF('DAV1'!C99=\"\",\"\",'DAV1'!C99)","v":""},1,1,1,1,1,1,1,1,1,1,1,1,1,1,1,1,1,1,{"$f":"AVERAGE(D99:U99)","v":1},"GELİŞTİRİLMELİ"]
[{"$f":"IF('DAV1'!A100=\"\",\"\",'DAV1'!A100)","v":""},{"$f":"IF('DAV1'!B100=\"\",\"\",'DAV1'!B100)","v":""},{"$f":"IF('DAV1'!C100=\"\",\"\",'DAV1'!C100)","v":""},1,1,1,1,1,1,1,1,1,1,1,1,1,1,1,1,1,1,1,"GELİŞTİRİLMELİ"]
[{"$f":"IF('DAV1'!A101=\"\",\"\",'DAV1'!A101)","v":""},{"$f":"IF('DAV1'!B101=\"\",\"\",'DAV1'!B101)","v":""},{"$f":"IF('DAV1'!C101=\"\",\"\",'DAV1'!C101)","v":""},1,1,1,1,1,1,1,1,1,1,1,1,1,1,1,1,1,1,1,"GELİŞTİRİLMELİ"]
[{"$f":"IF('DAV1'!A102=\"\",\"\",'DAV1'!A102)","v":""},{"$f":"IF('DAV1'!B102=\"\",\"\",'DAV1'!B102)","v":""},{"$f":"IF('DAV1'!C102=\"\",\"\",'DAV1'!C102)","v":""},1,1,1,1,1,1,1,1,1,1,1,1,1,1,1,1,1,1,1,"GELİŞTİRİLMELİ"]
[]
[1,1,1,1,1,1,1,1,1,1,1,1,1,1,1,1,1,1,1,1,1,1,1,1,1,1,1,1,1,1,1,1,1,1,1,1,1,1,1,1,1,1,1,1,1,1,1,1,1,1,1,1,1,1,1,1,1,1,1,1,1,1,1,1,1,1,1,1,1,1,1,1,1,1,1,1,1,1,1,1,1,1,1,1,1,1,1,1,1,1,1,1,1,1,1,1,1,1,1,1]
[2,2,2,2,2,2,2,2,2,2,2,2,2,2,2,2,2,2,2,2,2,2,2,2,2,2,2,2,2,2,2,2,2,2,2,2,2,2,2,2,2,2,2,2,2,2,2,2,2,2,2,2,2,2,2,2,2,2,2,2,2,2,2,2,2,2,2,2,2,2,2,2,2,2,2,2,2,2,2,2,2,2,2,2,2,2,2,2,2,2,2,2,2,2,2,2,2,2,2,2]
[3,3,3,3,3,3,3,3,3,3,3,3,3,3,3,3,3,3,3,3,3,3,3,3,3,3,3,3,3,3,3,3,3,3,3,3,3,3,3,3,3,3,3,3,3,3,3,3,3,3,3,3,3,3,3,3,3,3,3,3,3,3,3,3,3,3,3,3,3,3,3,3,3,3,3,3,3,3,3,3,3,3,3,3,3,3,3,3,3,3,3,3,3,3,3,3,3,3,3,3]
[4,4,4,4,4,4,4,4,4,4,4,4,4,4,4,4,4,4,4,4,4,4,4,4,4,4,4,4,4,4,4,4,4,4,4,4,4,4,4,4,4,4,4,4,4,4,4,4,4,4,4,4,4,4,4,4,4,4,4,4,4,4,4,4,4,4,4,4,4,4,4,4,4,4,4,4,4,4,4,4,4,4,4,4,4,4,4,4,4,4,4,4,4,4,4,4,4,4,4,4]

{"sheet":"T2.1","index":10,"n_rows":107,"n_cols":100,"rows_kept":107,"cut":false,"hidden":false,"merged":[[0,51,1,51],[0,1,0,2],[0,50,1,50],[1,3,1,49]]}
[1,"TÜRKÇE \n. DÖNEM",null,"1.1. Doğal ve yapay ses kaynaklarından çıkan sesleri ayırt eder.","1.2. Duyduğu sesleri taklit eder. ","1.3. Seslere karşılık gelen harfleri ayırt eder.","1.4. Görselden/ görsellerden hareketle dinleyeceği/ izleyeceği metin hakkında tahminde bulunur.","1.5. Dinlediklerinde/izlediklerinde geçen olayların gelişimi hakkında tahminde bulunur. ","1.6. Dinlediği/ izlediği metni anlatır.","1.7. Dinlediklerinin/izlediklerinin konusunu belirler. ","1.8. Dinlediklerine/izlediklerine yönelik sorulara cevap verir. ","1.9. Sözlü yönergeleri uygular. ","1.10. Dinleme stratejilerini uygular. ","1.11. Konuşmacının sözlü olmayan mesajlarını kavrar. ","2.1. Kelimeleri anlamlarına uygun kullanır. ","2.2. Hazırlıksız konuşmalar yapar. ","2.3. Çerçevesi belirli bir konu hakkında konuşur. ","2.4. Konuşma stratejilerini uygular. ","3.1. Okuma materyalindeki temel bölümleri tanır.","3.2. Harfi tanır ve seslendirir.","3.3. Hece ve kelimeleri okur.","3.4. Basit ve kısa cümleleri okur.","3.5. Kısa metinleri okur.","3.6. Noktalama işaretlerine dikkat ederek okur. ","3.7. Vurgu, tonlama ve telaffuza dikkat ederek okur. ","3.8. Şiir okur. ","3.9. Görsellerden hareketle kelimeleri ve anlamlarını tahmin eder. ","3.10. Farklı yazı karakterleri ile yazılmış yazıları okur. ","3.11. Kelimelerin zıt anlamlılarını tahmin eder. ","3.12. Okuma stratejilerini uygular. ","3.13. Görsellerle ilgili soruları cevaplar. ","3.14. Görsellerden hareketle okuyacağı metnin içeriğini tahmin eder. ","3.15. Metinle ilgili soruları cevaplar. ","3.16. Okuduklarını ana hatlarıyla anlatır. ","3.17. Metnin konusunu belirler. ","3.18. Metnin içeriğine uygun başlık/başlıklar belirler. ","3.19. Şekil, sembol ve işaretlerin anlamlarını kavrar. ","4.1. Boyama ve çizgi çalışmaları yapar.","4.2. Harfleri tekniğine uygun yazar.","4.3. Hece ve kelimeler yazar.","4.4. Rakamları tekniğine uygun yazar.","4.5. Anlamlı ve kurallı cümleler yazar.","4.6. Görsellerle ilgili kelime ve cümleler yazar.","4.7. Harfler, kelimeler ve cümleler arasında uygun boşluklar bırakır. ","4.8. Büyük harfleri ve noktalama işaretlerini uygun şekilde kullanır. ","4.9. Yazılarını görsel unsurlarla destekler. ","4.10. Yazdıklarını gözden geçirir.","4.11. Yazdıklarını paylaşır.","4.12. Yazma çalışmaları yapar. ","4.13. Yazma stratejilerini uygular.","ORTALAMA","DEĞERLENDİRME SONUCU"]
["SIRA","OKUL NO","ADI SOYADI"]
[{"$f":"IF('DAV1'!A3=\"\",\"\",'DAV1'!A3)","v":1},{"$f":"IF('DAV1'!B3=\"\",\"\",'DAV1'!B3)","v":11},{"$f":"IF('DAV1'!C3=\"\",\"\",'DAV1'!C3)","v":"KAYRA ÇINAR ERGÜN"},1,1,1,1,1,1,1,1,1,1,1,1,1,1,1,1,1,1,1,1,1,1,1,1,1,1,1,1,1,1,1,1,1,1,1,1,1,1,1,1,1,1,1,1,1,1,1,{"$f":"AVERAGE(D3:AX3)","v":1},{"$f":"IF(AY3=\"\",\"\",(IF(AY3>=2.5,\"ÇOK İYİ\",IF(AY3>=1.5,\"İYİ\",IF(AY3>=1,\"GELİŞTİRİLMELİ\")))))","v":"GELİŞTİRİLMELİ"}]
[{"$f":"IF('DAV1'!A4=\"\",\"\",'DAV1'!A4)","v":2},{"$f":"IF('DAV1'!B4=\"\",\"\",'DAV1'!B4)","v":35},{"$f":"IF('DAV1'!C4=\"\",\"\",'DAV1'!C4)","v":"FURKAN SOLMAZ"},1,1,1,1,1,1,1,1,1,1,1,1,1,1,1,1,1,1,1,1,1,1,1,1,1,1,1,1,1,1,1,1,1,1,1,1,1,1,1,1,1,1,1,1,1,1,1,1,"GELİŞTİRİLMELİ"]
[{"$f":"IF('DAV1'!A5=\"\",\"\",'DAV1'!A5)","v":3},{"$f":"IF('DAV1'!B5=\"\",\"\",'DAV1'!B5)","v":53},{"$f":"IF('DAV1'!C5=\"\",\"\",'DAV1'!C5)","v":"İLKNUR MUMCU"},1,1,1,1,1,1,1,1,1,1,1,1,1,1,1,1,1,1,1,1,1,1,1,1,1,1,1,1,1,1,1,1,1,1,1,1,1,1,1,1,1,1,1,1,1,1,1,1,"GELİŞTİRİLMELİ"]
[{"$f":"IF('DAV1'!A6=\"\",\"\",'DAV1'!A6)","v":4},{"$f":"IF('DAV1'!B6=\"\",\"\",'DAV1'!B6)","v":83},{"$f":"IF('DAV1'!C6=\"\",\"\",'DAV1'!C6)","v":"MUHAMMET ALİ YILDIRIM"},1,1,1,1,1,1,1,1,1,1,1,1,1,1,1,1,1,1,1,1,1,1,1,1,1,1,1,1,1,1,1,1,1,1,1,1,1,1,1,1,1,1,1,1,1,1,1,1,"GELİŞTİRİLMELİ"]
[{"$f":"IF('DAV1'!A7=\"\",\"\",'DAV1'!A7)","v":5},{"$f":"IF('DAV1'!B7=\"\",\"\",'DAV1'!B7)","v":93},{"$f":"IF('DAV1'!C7=\"\",\"\",'DAV1'!C7)","v":"ERTUĞRUL GAZİ NAMLI"},1,1,1,1,1,1,1,1,1,1,1,1,1,1,1,1,1,1,1,1,1,1,1,1,1,1,1,1,1,1,1,1,1,1,1,1,1,1,1,1,1,1,1,1,1,1,1,1,"GELİŞTİRİLMELİ"]
[{"$f":"IF('DAV1'!A8=\"\",\"\",'DAV1'!A8)","v":6},{"$f":"IF('DAV1'!B8=\"\",\"\",'DAV1'!B8)","v":100},{"$f":"IF('DAV1'!C8=\"\",\"\",'DAV1'!C8)","v":"ECEM EFE"},1,1,1,1,1,1,1,1,1,1,1,1,1,1,1,1,1,1,1,1,1,1,1,1,1,1,1,1,1,1,1,1,1,1,1,1,1,1,1,1,1,1,1,1,1,1,1,1,"GELİŞTİRİLMELİ"]
[{"$f":"IF('DAV1'!A9=\"\",\"\",'DAV1'!A9)","v":7},{"$f":"IF('DAV1'!B9=\"\",\"\",'DAV1'!B9)","v":105},{"$f":"IF('DAV1'!C9=\"\",\"\",'DAV1'!C9)","v":"SELİM ZEKERİYA ÖZDEMİR"},1,1,1,1,1,1,1,1,1,1,1,1,1,1,1,1,1,1,1,1,1,1,1,1,1,1,1,1,1,1,1,1,1,1,1,1,1,1,1,1,1,1,1,1,1,1,1,1,"GELİŞTİRİLMELİ"]
[{"$f":"IF('DAV1'!A10=\"\",\"\",'DAV1'!A10)","v":8},{"$f":"IF('DAV1'!B10=\"\",\"\",'DAV1'!B10)","v":108},{"$f":"IF('DAV1'!C10=\"\",\"\",'DAV1'!C10)","v":"AREN KARAKAŞ"},1,1,1,1,1,1,1,1,1,1,1,1,1,1,1,1,1,1,1,1,1,1,1,1,1,1,1,1,1,1,1,1,1,1,1,1,1,1,1,1,1,1,1,1,1,1,1,1,"GELİŞTİRİLMELİ"]
[{"$f":"IF('DAV1'!A11=\"\",\"\",'DAV1'!A11)","v":9},{"$f":"IF('DAV1'!B11=\"\",\"\",'DAV1'!B11)","v":111},{"$f":"IF('DAV1'!C11=\"\",\"\",'DAV1'!C11)","v":"ZEHRA ŞAHİNOĞLU"},1,1,1,1,1,1,1,1,1,1,1,1,1,1,1,1,1,1,1,1,1,1,1,1,1,1,1,1,1,1,1,1,1,1,1,1,1,1,1,1,1,1,1,1,1,1,1,1,"GELİŞTİRİLMELİ"]
[{"$f":"IF('DAV1'!A12=\"\",\"\",'DAV1'!A12)","v":10},{"$f":"IF('DAV1'!B12=\"\",\"\",'DAV1'!B12)","v":113},{"$f":"IF('DAV1'!C12=\"\",\"\",'DAV1'!C12)","v":"YUSUF ALİ TÜNÇ"},1,1,1,1,1,1,1,1,1,1,1,1,1,1,1,1,1,1,1,1,1,1,1,1,1,1,1,1,1,1,1,1,1,1,1,1,1,1,1,1,1,1,1,1,1,1,1,1,"GELİŞTİRİLMELİ"]
[{"$f":"IF('DAV1'!A13=\"\",\"\",'DAV1'!A13)","v":11},{"$f":"IF('DAV1'!B13=\"\",\"\",'DAV1'!B13)","v":161},{"$f":"IF('DAV1'!C13=\"\",\"\",'DAV1'!C13)","v":"HÜSEYİN CELAYİR"},1,1,1,1,1,1,1,1,1,1,1,1,1,1,1,1,1,1,1,1,1,1,1,1,1,1,1,1,1,1,1,1,1,1,1,1,1,1,1,1,1,1,1,1,1,1,1,1,"GELİŞTİRİLMELİ"]
[{"$f":"IF('DAV1'!A14=\"\",\"\",'DAV1'!A14)","v":12},{"$f":"IF('DAV1'!B14=\"\",\"\",'DAV1'!B14)","v":177},{"$f":"IF('DAV1'!C14=\"\",\"\",'DAV1'!C14)","v":"YİĞİT EFE YEŞİLDAL"},1,1,1,1,1,1,1,1,1,1,1,1,1,1,1,1,1,1,1,1,1,1,1,1,1,1,1,1,1,1,1,1,1,1,1,1,1,1,1,1,1,1,1,1,1,1,1,1,"GELİŞTİRİLMELİ"]
[{"$f":"IF('DAV1'!A15=\"\",\"\",'DAV1'!A15)","v":13},{"$f":"IF('DAV1'!B15=\"\",\"\",'DAV1'!B15)","v":187},{"$f":"IF('DAV1'!C15=\"\",\"\",'DAV1'!C15)","v":"HALEF TAHA ATEŞ"},1,1,1,1,1,1,1,1,1,1,1,1,1,1,1,1,1,1,1,1,1,1,1,1,1,1,1,1,1,1,1,1,1,1,1,1,1,1,1,1,1,1,1,1,1,1,1,1,"GELİŞTİRİLMELİ"]
[{"$f":"IF('DAV1'!A16=\"\",\"\",'DAV1'!A16)","v":14},{"$f":"IF('DAV1'!B16=\"\",\"\",'DAV1'!B16)","v":188},{"$f":"IF('DAV1'!C16=\"\",\"\",'DAV1'!C16)","v":"EMİRHAN MERTOĞLU"},1,1,1,1,1,1,1,1,1,1,1,1,1,1,1,1,1,1,1,1,1,1,1,1,1,1,1,1,1,1,1,1,1,1,1,1,1,1,1,1,1,1,1,1,1,1,1,1,"GELİŞTİRİLMELİ"]
[{"$f":"IF('DAV1'!A17=\"\",\"\",'DAV1'!A17)","v":15},{"$f":"IF('DAV1'!B17=\"\",\"\",'DAV1'!B17)","v":189},{"$f":"IF('DAV1'!C17=\"\",\"\",'DAV1'!C17)","v":"EMİNE GÜVEN"},1,1,1,1,1,1,1,1,1,1,1,1,1,1,1,1,1,1,1,1,1,1,1,1,1,1,1,1,1,1,1,1,1,1,1,1,1,1,1,1,1,1,1,1,1,1,1,1,"GELİŞTİRİLMELİ"]
[{"$f":"IF('DAV1'!A18=\"\",\"\",'DAV1'!A18)","v":16},{"$f":"IF('DAV1'!B18=\"\",\"\",'DAV1'!B18)","v":213},{"$f":"IF('DAV1'!C18=\"\",\"\",'DAV1'!C18)","v":"YAĞMUR KILIÇ"},1,1,1,1,1,1,1,1,1,1,1,1,1,1,1,1,1,1,1,1,1,1,1,1,1,1,1,1,1,1,1,1,1,1,1,1,1,1,1,1,1,1,1,1,1,1,1,1,"GELİŞTİRİLMELİ"]
[{"$f":"IF('DAV1'!A19=\"\",\"\",'DAV1'!A19)","v":17},{"$f":"IF('DAV1'!B19=\"\",\"\",'DAV1'!B19)","v":214},{"$f":"IF('DAV1'!C19=\"\",\"\",'DAV1'!C19)","v":"ERDAL GÜLATAR"},1,1,1,1,1,1,1,1,1,1,1,1,1,1,1,1,1,1,1,1,1,1,1,1,1,1,1,1,1,1,1,1,1,1,1,1,1,1,1,1,1,1,1,1,1,1,1,1,"GELİŞTİRİLMELİ"]
[{"$f":"IF('DAV1'!A20=\"\",\"\",'DAV1'!A20)","v":18},{"$f":"IF('DAV1'!B20=\"\",\"\",'DAV1'!B20)","v":216},{"$f":"IF('DAV1'!C20=\"\",\"\",'DAV1'!C20)","v":"GAMZE ACAR"},1,1,1,1,1,1,1,1,1,1,1,1,1,1,1,1,1,1,1,1,1,1,1,1,1,1,1,1,1,1,1,1,1,1,1,1,1,1,1,1,1,1,1,1,1,1,1,1,"GELİŞTİRİLMELİ"]
[{"$f":"IF('DAV1'!A21=\"\",\"\",'DAV1'!A21)","v":19},{"$f":"IF('DAV1'!B21=\"\",\"\",'DAV1'!B21)","v":222},{"$f":"IF('DAV1'!C21=\"\",\"\",'DAV1'!C21)","v":"HİRANUR DOĞANDEMİR"},1,1,1,1,1,1,1,1,1,1,1,1,1,1,1,1,1,1,1,1,1,1,1,1,1,1,1,1,1,1,1,1,1,1,1,1,1,1,1,1,1,1,1,1,1,1,1,1,"GELİŞTİRİLMELİ"]
[{"$f":"IF('DAV1'!A22=\"\",\"\",'DAV1'!A22)","v":20},{"$f":"IF('DAV1'!B22=\"\",\"\",'DAV1'!B22)","v":224},{"$f":"IF('DAV1'!C22=\"\",\"\",'DAV1'!C22)","v":"TALHA YILMAZ"},1,1,1,1,1,1,1,1,1,1,1,1,1,1,1,1,1,1,1,1,1,1,1,1,1,1,1,1,1,1,1,1,1,1,1,1,1,1,1,1,1,1,1,1,1,1,1,1,"GELİŞTİRİLMELİ"]
[{"$f":"IF('DAV1'!A23=\"\",\"\",'DAV1'!A23)","v":21},{"$f":"IF('DAV1'!B23=\"\",\"\",'DAV1'!B23)","v":225},{"$f":"IF('DAV1'!C23=\"\",\"\",'DAV1'!C23)","v":"YUSUF EMİR DAĞDÖGEN"},1,1,1,1,1,1,1,1,1,1,1,1,1,1,1,1,1,1,1,1,1,1,1,1,1,1,1,1,1,1,1,1,1,1,1,1,1,1,1,1,1,1,1,1,1,1,1,1,"GELİŞTİRİLMELİ"]
[{"$f":"IF('DAV1'!A24=\"\",\"\",'DAV1'!A24)","v":22},{"$f":"IF('DAV1'!B24=\"\",\"\",'DAV1'!B24)","v":226},{"$f":"IF('DAV1'!C24=\"\",\"\",'DAV1'!C24)","v":"İMREN CANPOLAT"},1,1,1,1,1,1,1,1,1,1,1,1,1,1,1,1,1,1,1,1,1,1,1,1,1,1,1,1,1,1,1,1,1,1,1,1,1,1,1,1,1,1,1,1,1,1,1,1,"GELİŞTİRİLMELİ"]
[{"$f":"IF('DAV1'!A25=\"\",\"\",'DAV1'!A25)","v":23},{"$f":"IF('DAV1'!B25=\"\",\"\",'DAV1'!B25)","v":227},{"$f":"IF('DAV1'!C25=\"\",\"\",'DAV1'!C25)","v":"ZEYNEP CANPOLAT"},1,1,1,1,1,1,1,1,1,1,1,1,1,1,1,1,1,1,1,1,1,1,1,1,1,1,1,1,1,1,1,1,1,1,1,1,1,1,1,1,1,1,1,1,1,1,1,1,"GELİŞTİRİLMELİ"]
[{"$f":"IF('DAV1'!A26=\"\",\"\",'DAV1'!A26)","v":24},{"$f":"IF('DAV1'!B26=\"\",\"\",'DAV1'!B26)","v":229},{"$f":"IF('DAV1'!C26=\"\",\"\",'DAV1'!C26)","v":"MERYEM PARMAK"},1,1,1,1,1,1,1,1,1,1,1,1,1,1,1,1,1,1,1,1,1,1,1,1,1,1,1,1,1,1,1,1,1,1,1,1,1,1,1,1,1,1,1,1,1,1,1,1,"GELİŞTİRİLMELİ"]
[{"$f":"IF('DAV1'!A27=\"\",\"\",'DAV1'!A27)","v":25},{"$f":"IF('DAV1'!B27=\"\",\"\",'DAV1'!B27)","v":237},{"$f":"IF('DAV1'!C27=\"\",\"\",'DAV1'!C27)","v":"ZEYNEP MİRAY BOYRAZ"},1,1,1,1,1,1,1,1,1,1,1,1,1,1,1,1,1,1,1,1,1,1,1,1,1,1,1,1,1,1,1,1,1,1,1,1,1,1,1,1,1,1,1,1,1,1,1,1,"GELİŞTİRİLMELİ"]
[{"$f":"IF('DAV1'!A28=\"\",\"\",'DAV1'!A28)","v":26},{"$f":"IF('DAV1'!B28=\"\",\"\",'DAV1'!B28)","v":244},{"$f":"IF('DAV1'!C28=\"\",\"\",'DAV1'!C28)","v":"TAMER ŞEKERCİLEROĞLU"},1,1,1,1,1,1,1,1,1,1,1,1,1,1,1,1,1,1,1,1,1,1,1,1,1,1,1,1,1,1,1,1,1,1,1,1,1,1,1,1,1,1,1,1,1,1,1,1,"GELİŞTİRİLMELİ"]
[{"$f":"IF('DAV1'!A29=\"\",\"\",'DAV1'!A29)","v":27},{"$f":"IF('DAV1'!B29=\"\",\"\",'DAV1'!B29)","v":263},{"$f":"IF('DAV1'!C29=\"\",\"\",'DAV1'!C29)","v":"MUHAMMED YUSUF YILMAZ"},1,1,1,1,1,1,1,1,1,1,1,1,1,1,1,1,1,1,1,1,1,1,1,1,1,1,1,1,1,1,1,1,1,1,1,1,1,1,1,1,1,1,1,1,1,1,1,1,"GELİŞTİRİLMELİ"]
[{"$f":"IF('DAV1'!A30=\"\",\"\",'DAV1'!A30)","v":28},{"$f":"IF('DAV1'!B30=\"\",\"\",'DAV1'!B30)","v":264},{"$f":"IF('DAV1'!C30=\"\",\"\",'DAV1'!C30)","v":"OĞUZHAN GÜRGÜZE"},1,1,1,1,1,1,1,1,1,1,1,1,1,1,1,1,1,1,1,1,1,1,1,1,1,1,1,1,1,1,1,1,1,1,1,1,1,1,1,1,1,1,1,1,1,1,1,1,"GELİŞTİRİLMELİ"]
[{"$f":"IF('DAV1'!A31=\"\",\"\",'DAV1'!A31)","v":29},{"$f":"IF('DAV1'!B31=\"\",\"\",'DAV1'!B31)","v":279},{"$f":"IF('DAV1'!C31=\"\",\"\",'DAV1'!C31)","v":"MİHRİMA EKİCİ"},1,1,1,1,1,1,1,1,1,1,1,1,1,1,1,1,1,1,1,1,1,1,1,1,1,1,1,1,1,1,1,1,1,1,1,1,1,1,1,1,1,1,1,1,1,1,1,1,"GELİŞTİRİLMELİ"]
[{"$f":"IF('DAV1'!A32=\"\",\"\",'DAV1'!A32)","v":30},{"$f":"IF('DAV1'!B32=\"\",\"\",'DAV1'!B32)","v":290},{"$f":"IF('DAV1'!C32=\"\",\"\",'DAV1'!C32)","v":"NİSA NUR YILDIZ"},1,1,1,1,1,1,1,1,1,1,1,1,1,1,1,1,1,1,1,1,1,1,1,1,1,1,1,1,1,1,1,1,1,1,1,1,1,1,1,1,1,1,1,1,1,1,1,1,"GELİŞTİRİLMELİ"]
[{"$f":"IF('DAV1'!A33=\"\",\"\",'DAV1'!A33)","v":31},{"$f":"IF('DAV1'!B33=\"\",\"\",'DAV1'!B33)","v":293},{"$f":"IF('DAV1'!C33=\"\",\"\",'DAV1'!C33)","v":"MEHMET ALATAŞ"},1,1,1,1,1,1,1,1,1,1,1,1,1,1,1,1,1,1,1,1,1,1,1,1,1,1,1,1,1,1,1,1,1,1,1,1,1,1,1,1,1,1,1,1,1,1,1,1,"GELİŞTİRİLMELİ"]
[{"$f":"IF('DAV1'!A34=\"\",\"\",'DAV1'!A34)","v":32},{"$f":"IF('DAV1'!B34=\"\",\"\",'DAV1'!B34)","v":451},{"$f":"IF('DAV1'!C34=\"\",\"\",'DAV1'!C34)","v":"İKRA YILDIRIM"},1,1,1,1,1,1,1,1,1,1,1,1,1,1,1,1,1,1,1,1,1,1,1,1,1,1,1,1,1,1,1,1,1,1,1,1,1,1,1,1,1,1,1,1,1,1,1,1,"GELİŞTİRİLMELİ"]
[{"$f":"IF('DAV1'!A35=\"\",\"\",'DAV1'!A35)","v":33},{"$f":"IF('DAV1'!B35=\"\",\"\",'DAV1'!B35)","v":616},{"$f":"IF('DAV1'!C35=\"\",\"\",'DAV1'!C35)","v":"EDA TURAL"},1,1,1,1,1,1,1,1,1,1,1,1,1,1,1,1,1,1,1,1,1,1,1,1,1,1,1,1,1,1,1,1,1,1,1,1,1,1,1,1,1,1,1,1,1,1,1,{"$f":"AVERAGE(D35:AX35)","v":1},"GELİŞTİRİLMELİ"]
[{"$f":"IF('DAV1'!A36=\"\",\"\",'DAV1'!A36)","v":34},{"$f":"IF('DAV1'!B36=\"\",\"\",'DAV1'!B36)","v":892},{"$f":"IF('DAV1'!C36=\"\",\"\",'DAV1'!C36)","v":"ALMA ALRAMADAN"},1,1,1,1,1,1,1,1,1,1,1,1,1,1,1,1,1,1,1,1,1,1,1,1,1,1,1,1,1,1,1,1,1,1,1,1,1,1,1,1,1,1,1,1,1,1,1,1,"GELİŞTİRİLMELİ"]
[{"$f":"IF('DAV1'!A37=\"\",\"\",'DAV1'!A37)","v":35},{"$f":"IF('DAV1'!B37=\"\",\"\",'DAV1'!B37)","v":1000},{"$f":"IF('DAV1'!C37=\"\",\"\",'DAV1'!C37)","v":"TURGUT POLAT"},1,1,1,1,1,1,1,1,1,1,1,1,1,1,1,1,1,1,1,1,1,1,1,1,1,1,1,1,1,1,1,1,1,1,1,1,1,1,1,1,1,1,1,1,1,1,1,1,{"$f":"IF(AY37=\"\",\"\",(IF(AY37>=2.5,\"ÇOK İYİ\",IF(AY37>=1.5,\"İYİ\",IF(AY37>=1,\"GELİŞTİRİLMELİ\")))))","v":"GELİŞTİRİLMELİ"}]
[{"$f":"IF('DAV1'!A38=\"\",\"\",'DAV1'!A38)","v":""},{"$f":"IF('DAV1'!B38=\"\",\"\",'DAV1'!B38)","v":""},{"$f":"IF('DAV1'!C38=\"\",\"\",'DAV1'!C38)","v":""},1,1,1,1,1,1,1,1,1,1,1,1,1,1,1,1,1,1,1,1,1,1,1,1,1,1,1,1,1,1,1,1,1,1,1,1,1,1,1,1,1,1,1,1,1,1,1,1,"GELİŞTİRİLMELİ"]
[{"$f":"IF('DAV1'!A39=\"\",\"\",'DAV1'!A39)","v":""},{"$f":"IF('DAV1'!B39=\"\",\"\",'DAV1'!B39)","v":""},{"$f":"IF('DAV1'!C39=\"\",\"\",'DAV1'!C39)","v":""},1,1,1,1,1,1,1,1,1,1,1,1,1,1,1,1,1,1,1,1,1,1,1,1,1,1,1,1,1,1,1,1,1,1,1,1,1,1,1,1,1,1,1,1,1,1,1,1,"GELİŞTİRİLMELİ"]
[{"$f":"IF('DAV1'!A40=\"\",\"\",'DAV1'!A40)","v":""},{"$f":"IF('DAV1'!B40=\"\",\"\",'DAV1'!B40)","v":""},{"$f":"IF('DAV1'!C40=\"\",\"\",'DAV1'!C40)","v":""},1,1,1,1,1,1,1,1,1,1,1,1,1,1,1,1,1,1,1,1,1,1,1,1,1,1,1,1,1,1,1,1,1,1,1,1,1,1,1,1,1,1,1,1,1,1,1,1,"GELİŞTİRİLMELİ"]
[{"$f":"IF('DAV1'!A41=\"\",\"\",'DAV1'!A41)","v":""},{"$f":"IF('DAV1'!B41=\"\",\"\",'DAV1'!B41)","v":""},{"$f":"IF('DAV1'!C41=\"\",\"\",'DAV1'!C41)","v":""},1,1,1,1,1,1,1,1,1,1,1,1,1,1,1,1,1,1,1,1,1,1,1,1,1,1,1,1,1,1,1,1,1,1,1,1,1,1,1,1,1,1,1,1,1,1,1,1,"GELİŞTİRİLMELİ"]
[{"$f":"IF('DAV1'!A42=\"\",\"\",'DAV1'!A42)","v":""},{"$f":"IF('DAV1'!B42=\"\",\"\",'DAV1'!B42)","v":""},{"$f":"IF('DAV1'!C42=\"\",\"\",'DAV1'!C42)","v":""},1,1,1,1,1,1,1,1,1,1,1,1,1,1,1,1,1,1,1,1,1,1,1,1,1,1,1,1,1,1,1,1,1,1,1,1,1,1,1,1,1,1,1,1,1,1,1,1,"GELİŞTİRİLMELİ"]
[{"$f":"IF('DAV1'!A43=\"\",\"\",'DAV1'!A43)","v":""},{"$f":"IF('DAV1'!B43=\"\",\"\",'DAV1'!B43)","v":""},{"$f":"IF('DAV1'!C43=\"\",\"\",'DAV1'!C43)","v":""},1,1,1,1,1,1,1,1,1,1,1,1,1,1,1,1,1,1,1,1,1,1,1,1,1,1,1,1,1,1,1,1,1,1,1,1,1,1,1,1,1,1,1,1,1,1,1,1,"GELİŞTİRİLMELİ"]
[{"$f":"IF('DAV1'!A44=\"\",\"\",'DAV1'!A44)","v":""},{"$f":"IF('DAV1'!B44=\"\",\"\",'DAV1'!B44)","v":""},{"$f":"IF('DAV1'!C44=\"\",\"\",'DAV1'!C44)","v":""},1,1,1,1,1,1,1,1,1,1,1,1,1,1,1,1,1,1,1,1,1,1,1,1,1,1,1,1,1,1,1,1,1,1,1,1,1,1,1,1,1,1,1,1,1,1,1,1,"GELİŞTİRİLMELİ"]
[{"$f":"IF('DAV1'!A45=\"\",\"\",'DAV1'!A45)","v":""},{"$f":"IF('DAV1'!B45=\"\",\"\",'DAV1'!B45)","v":""},{"$f":"IF('DAV1'!C45=\"\",\"\",'DAV1'!C45)","v":""},1,1,1,1,1,1,1,1,1,1,1,1,1,1,1,1,1,1,1,1,1,1,1,1,1,1,1,1,1,1,1,1,1,1,1,1,1,1,1,1,1,1,1,1,1,1,1,1,"GELİŞTİRİLMELİ"]
[{"$f":"IF('DAV1'!A46=\"\",\"\",'DAV1'!A46)","v":""},{"$f":"IF('DAV1'!B46=\"\",\"\",'DAV1'!B46)","v":""},{"$f":"IF('DAV1'!C46=\"\",\"\",'DAV1'!C46)","v":""},1,1,1,1,1,1,1,1,1,1,1,1,1,1,1,1,1,1,1,1,1,1,1,1,1,1,1,1,1,1,1,1,1,1,1,1,1,1,1,1,1,1,1,1,1,1,1,1,"GELİŞTİRİLMELİ"]
[{"$f":"IF('DAV1'!A47=\"\",\"\",'DAV1'!A47)","v":""},{"$f":"IF('DAV1'!B47=\"\",\"\",'DAV1'!B47)","v":""},{"$f":"IF('DAV1'!C47=\"\",\"\",'DAV1'!C47)","v":""},1,1,1,1,1,1,1,1,1,1,1,1,1,1,1,1,1,1,1,1,1,1,1,1,1,1,1,1,1,1,1,1,1,1,1,1,1,1,1,1,1,1,1,1,1,1,1,1,"GELİŞTİRİLMELİ"]
[{"$f":"IF('DAV1'!A48=\"\",\"\",'DAV1'!A48)","v":""},{"$f":"IF('DAV1'!B48=\"\",\"\",'DAV1'!B48)","v":""},{"$f":"IF('DAV1'!C48=\"\",\"\",'DAV1'!C48)","v":""},1,1,1,1,1,1,1,1,1,1,1,1,1,1,1,1,1,1,1,1,1,1,1,1,1,1,1,1,1,1,1,1,1,1,1,1,1,1,1,1,1,1,1,1,1,1,1,1,"GELİŞTİRİLMELİ"]
[{"$f":"IF('DAV1'!A49=\"\",\"\",'DAV1'!A49)","v":""},{"$f":"IF('DAV1'!B49=\"\",\"\",'DAV1'!B49)","v":""},{"$f":"IF('DAV1'!C49=\"\",\"\",'DAV1'!C49)","v":""},1,1,1,1,1,1,1,1,1,1,1,1,1,1,1,1,1,1,1,1,1,1,1,1,1,1,1,1,1,1,1,1,1,1,1,1,1,1,1,1,1,1,1,1,1,1,1,1,"GELİŞTİRİLMELİ"]
[{"$f":"IF('DAV1'!A50=\"\",\"\",'DAV1'!A50)","v":""},{"$f":"IF('DAV1'!B50=\"\",\"\",'DAV1'!B50)","v":""},{"$f":"IF('DAV1'!C50=\"\",\"\",'DAV1'!C50)","v":""},1,1,1,1,1,1,1,1,1,1,1,1,1,1,1,1,1,1,1,1,1,1,1,1,1,1,1,1,1,1,1,1,1,1,1,1,1,1,1,1,1,1,1,1,1,1,1,1,"GELİŞTİRİLMELİ"]
[{"$f":"IF('DAV1'!A51=\"\",\"\",'DAV1'!A51)","v":""},{"$f":"IF('DAV1'!B51=\"\",\"\",'DAV1'!B51)","v":""},{"$f":"IF('DAV1'!C51=\"\",\"\",'DAV1'!C51)","v":""},1,1,1,1,1,1,1,1,1,1,1,1,1,1,1,1,1,1,1,1,1,1,1,1,1,1,1,1,1,1,1,1,1,1,1,1,1,1,1,1,1,1,1,1,1,1,1,1,"GELİŞTİRİLMELİ"]
[{"$f":"IF('DAV1'!A52=\"\",\"\",'DAV1'!A52)","v":""},{"$f":"IF('DAV1'!B52=\"\",\"\",'DAV1'!B52)","v":""},{"$f":"IF('DAV1'!C52=\"\",\"\",'DAV1'!C52)","v":""},1,1,1,1,1,1,1,1,1,1,1,1,1,1,1,1,1,1,1,1,1,1,1,1,1,1,1,1,1,1,1,1,1,1,1,1,1,1,1,1,1,1,1,1,1,1,1,1,"GELİŞTİRİLMELİ"]
[{"$f":"IF('DAV1'!A53=\"\",\"\",'DAV1'!A53)","v":""},{"$f":"IF('DAV1'!B53=\"\",\"\",'DAV1'!B53)","v":""},{"$f":"IF('DAV1'!C53=\"\",\"\",'DAV1'!C53)","v":""},1,1,1,1,1,1,1,1,1,1,1,1,1,1,1,1,1,1,1,1,1,1,1,1,1,1,1,1,1,1,1,1,1,1,1,1,1,1,1,1,1,1,1,1,1,1,1,1,"GELİŞTİRİLMELİ"]
[{"$f":"IF('DAV1'!A54=\"\",\"\",'DAV1'!A54)","v":""},{"$f":"IF('DAV1'!B54=\"\",\"\",'DAV1'!B54)","v":""},{"$f":"IF('DAV1'!C54=\"\",\"\",'DAV1'!C54)","v":""},1,1,1,1,1,1,1,1,1,1,1,1,1,1,1,1,1,1,1,1,1,1,1,1,1,1,1,1,1,1,1,1,1,1,1,1,1,1,1,1,1,1,1,1,1,1,1,1,"GELİŞTİRİLMELİ"]
[{"$f":"IF('DAV1'!A55=\"\",\"\",'DAV1'!A55)","v":""},{"$f":"IF('DAV1'!B55=\"\",\"\",'DAV1'!B55)","v":""},{"$f":"IF('DAV1'!C55=\"\",\"\",'DAV1'!C55)","v":""},1,1,1,1,1,1,1,1,1,1,1,1,1,1,1,1,1,1,1,1,1,1,1,1,1,1,1,1,1,1,1,1,1,1,1,1,1,1,1,1,1,1,1,1,1,1,1,1,"GELİŞTİRİLMELİ"]
[{"$f":"IF('DAV1'!A56=\"\",\"\",'DAV1'!A56)","v":""},{"$f":"IF('DAV1'!B56=\"\",\"\",'DAV1'!B56)","v":""},{"$f":"IF('DAV1'!C56=\"\",\"\",'DAV1'!C56)","v":""},1,1,1,1,1,1,1,1,1,1,1,1,1,1,1,1,1,1,1,1,1,1,1,1,1,1,1,1,1,1,1,1,1,1,1,1,1,1,1,1,1,1,1,1,1,1,1,1,"GELİŞTİRİLMELİ"]
[{"$f":"IF('DAV1'!A57=\"\",\"\",'DAV1'!A57)","v":""},{"$f":"IF('DAV1'!B57=\"\",\"\",'DAV1'!B57)","v":""},{"$f":"IF('DAV1'!C57=\"\",\"\",'DAV1'!C57)","v":""},1,1,1,1,1,1,1,1,1,1,1,1,1,1,1,1,1,1,1,1,1,1,1,1,1,1,1,1,1,1,1,1,1,1,1,1,1,1,1,1,1,1,1,1,1,1,1,1,"GELİŞTİRİLMELİ"]
[{"$f":"IF('DAV1'!A58=\"\",\"\",'DAV1'!A58)","v":""},{"$f":"IF('DAV1'!B58=\"\",\"\",'DAV1'!B58)","v":""},{"$f":"IF('DAV1'!C58=\"\",\"\",'DAV1'!C58)","v":""},1,1,1,1,1,1,1,1,1,1,1,1,1,1,1,1,1,1,1,1,1,1,1,1,1,1,1,1,1,1,1,1,1,1,1,1,1,1,1,1,1,1,1,1,1,1,1,1,"GELİŞTİRİLMELİ"]
[{"$f":"IF('DAV1'!A59=\"\",\"\",'DAV1'!A59)","v":""},{"$f":"IF('DAV1'!B59=\"\",\"\",'DAV1'!B59)","v":""},{"$f":"IF('DAV1'!C59=\"\",\"\",'DAV1'!C59)","v":""},1,1,1,1,1,1,1,1,1,1,1,1,1,1,1,1,1,1,1,1,1,1,1,1,1,1,1,1,1,1,1,1,1,1,1,1,1,1,1,1,1,1,1,1,1,1,1,1,"GELİŞTİRİLMELİ"]
[{"$f":"IF('DAV1'!A60=\"\",\"\",'DAV1'!A60)","v":""},{"$f":"IF('DAV1'!B60=\"\",\"\",'DAV1'!B60)","v":""},{"$f":"IF('DAV1'!C60=\"\",\"\",'DAV1'!C60)","v":""},1,1,1,1,1,1,1,1,1,1,1,1,1,1,1,1,1,1,1,1,1,1,1,1,1,1,1,1,1,1,1,1,1,1,1,1,1,1,1,1,1,1,1,1,1,1,1,1,"GELİŞTİRİLMELİ"]
[{"$f":"IF('DAV1'!A61=\"\",\"\",'DAV1'!A61)","v":""},{"$f":"IF('DAV1'!B61=\"\",\"\",'DAV1'!B61)","v":""},{"$f":"IF('DAV1'!C61=\"\",\"\",'DAV1'!C61)","v":""},1,1,1,1,1,1,1,1,1,1,1,1,1,1,1,1,1,1,1,1,1,1,1,1,1,1,1,1,1,1,1,1,1,1,1,1,1,1,1,1,1,1,1,1,1,1,1,1,"GELİŞTİRİLMELİ"]
[{"$f":"IF('DAV1'!A62=\"\",\"\",'DAV1'!A62)","v":""},{"$f":"IF('DAV1'!B62=\"\",\"\",'DAV1'!B62)","v":""},{"$f":"IF('DAV1'!C62=\"\",\"\",'DAV1'!C62)","v":""},1,1,1,1,1,1,1,1,1,1,1,1,1,1,1,1,1,1,1,1,1,1,1,1,1,1,1,1,1,1,1,1,1,1,1,1,1,1,1,1,1,1,1,1,1,1,1,1,"GELİŞTİRİLMELİ"]
[{"$f":"IF('DAV1'!A63=\"\",\"\",'DAV1'!A63)","v":""},{"$f":"IF('DAV1'!B63=\"\",\"\",'DAV1'!B63)","v":""},{"$f":"IF('DAV1'!C63=\"\",\"\",'DAV1'!C63)","v":""},1,1,1,1,1,1,1,1,1,1,1,1,1,1,1,1,1,1,1,1,1,1,1,1,1,1,1,1,1,1,1,1,1,1,1,1,1,1,1,1,1,1,1,1,1,1,1,1,"GELİŞTİRİLMELİ"]
[{"$f":"IF('DAV1'!A64=\"\",\"\",'DAV1'!A64)","v":""},{"$f":"IF('DAV1'!B64=\"\",\"\",'DAV1'!B64)","v":""},{"$f":"IF('DAV1'!C64=\"\",\"\",'DAV1'!C64)","v":""},1,1,1,1,1,1,1,1,1,1,1,1,1,1,1,1,1,1,1,1,1,1,1,1,1,1,1,1,1,1,1,1,1,1,1,1,1,1,1,1,1,1,1,1,1,1,1,1,"GELİŞTİRİLMELİ"]
[{"$f":"IF('DAV1'!A65=\"\",\"\",'DAV1'!A65)","v":""},{"$f":"IF('DAV1'!B65=\"\",\"\",'DAV1'!B65)","v":""},{"$f":"IF('DAV1'!C65=\"\",\"\",'DAV1'!C65)","v":""},1,1,1,1,1,1,1,1,1,1,1,1,1,1,1,1,1,1,1,1,1,1,1,1,1,1,1,1,1,1,1,1,1,1,1,1,1,1,1,1,1,1,1,1,1,1,1,1,"GELİŞTİRİLMELİ"]
[{"$f":"IF('DAV1'!A66=\"\",\"\",'DAV1'!A66)","v":""},{"$f":"IF('DAV1'!B66=\"\",\"\",'DAV1'!B66)","v":""},{"$f":"IF('DAV1'!C66=\"\",\"\",'DAV1'!C66)","v":""},1,1,1,1,1,1,1,1,1,1,1,1,1,1,1,1,1,1,1,1,1,1,1,1,1,1,1,1,1,1,1,1,1,1,1,1,1,1,1,1,1,1,1,1,1,1,1,1,"GELİŞTİRİLMELİ"]
[{"$f":"IF('DAV1'!A67=\"\",\"\",'DAV1'!A67)","v":""},{"$f":"IF('DAV1'!B67=\"\",\"\",'DAV1'!B67)","v":""},{"$f":"IF('DAV1'!C67=\"\",\"\",'DAV1'!C67)","v":""},1,1,1,1,1,1,1,1,1,1,1,1,1,1,1,1,1,1,1,1,1,1,1,1,1,1,1,1,1,1,1,1,1,1,1,1,1,1,1,1,1,1,1,1,1,1,1,{"$f":"AVERAGE(D67:AX67)","v":1},"GELİŞTİRİLMELİ"]
[{"$f":"IF('DAV1'!A68=\"\",\"\",'DAV1'!A68)","v":""},{"$f":"IF('DAV1'!B68=\"\",\"\",'DAV1'!B68)","v":""},{"$f":"IF('DAV1'!C68=\"\",\"\",'DAV1'!C68)","v":""},1,1,1,1,1,1,1,1,1,1,1,1,1,1,1,1,1,1,1,1,1,1,1,1,1,1,1,1,1,1,1,1,1,1,1,1,1,1,1,1,1,1,1,1,1,1,1,1,"GELİŞTİRİLMELİ"]
[{"$f":"IF('DAV1'!A69=\"\",\"\",'DAV1'!A69)","v":""},{"$f":"IF('DAV1'!B69=\"\",\"\",'DAV1'!B69)","v":""},{"$f":"IF('DAV1'!C69=\"\",\"\",'DAV1'!C69)","v":""},1,1,1,1,1,1,1,1,1,1,1,1,1,1,1,1,1,1,1,1,1,1,1,1,1,1,1,1,1,1,1,1,1,1,1,1,1,1,1,1,1,1,1,1,1,1,1,1,"GELİŞTİRİLMELİ"]
[{"$f":"IF('DAV1'!A70=\"\",\"\",'DAV1'!A70)","v":""},{"$f":"IF('DAV1'!B70=\"\",\"\",'DAV1'!B70)","v":""},{"$f":"IF('DAV1'!C70=\"\",\"\",'DAV1'!C70)","v":""},1,1,1,1,1,1,1,1,1,1,1,1,1,1,1,1,1,1,1,1,1,1,1,1,1,1,1,1,1,1,1,1,1,1,1,1,1,1,1,1,1,1,1,1,1,1,1,1,"GELİŞTİRİLMELİ"]
[{"$f":"IF('DAV1'!A71=\"\",\"\",'DAV1'!A71)","v":""},{"$f":"IF('DAV1'!B71=\"\",\"\",'DAV1'!B71)","v":""},{"$f":"IF('DAV1'!C71=\"\",\"\",'DAV1'!C71)","v":""},1,1,1,1,1,1,1,1,1,1,1,1,1,1,1,1,1,1,1,1,1,1,1,1,1,1,1,1,1,1,1,1,1,1,1,1,1,1,1,1,1,1,1,1,1,1,1,1,"GELİŞTİRİLMELİ"]
[{"$f":"IF('DAV1'!A72=\"\",\"\",'DAV1'!A72)","v":""},{"$f":"IF('DAV1'!B72=\"\",\"\",'DAV1'!B72)","v":""},{"$f":"IF('DAV1'!C72=\"\",\"\",'DAV1'!C72)","v":""},1,1,1,1,1,1,1,1,1,1,1,1,1,1,1,1,1,1,1,1,1,1,1,1,1,1,1,1,1,1,1,1,1,1,1,1,1,1,1,1,1,1,1,1,1,1,1,1,"GELİŞTİRİLMELİ"]
[{"$f":"IF('DAV1'!A73=\"\",\"\",'DAV1'!A73)","v":""},{"$f":"IF('DAV1'!B73=\"\",\"\",'DAV1'!B73)","v":""},{"$f":"IF('DAV1'!C73=\"\",\"\",'DAV1'!C73)","v":""},1,1,1,1,1,1,1,1,1,1,1,1,1,1,1,1,1,1,1,1,1,1,1,1,1,1,1,1,1,1,1,1,1,1,1,1,1,1,1,1,1,1,1,1,1,1,1,1,"GELİŞTİRİLMELİ"]
[{"$f":"IF('DAV1'!A74=\"\",\"\",'DAV1'!A74)","v":""},{"$f":"IF('DAV1'!B74=\"\",\"\",'DAV1'!B74)","v":""},{"$f":"IF('DAV1'!C74=\"\",\"\",'DAV1'!C74)","v":""},1,1,1,1,1,1,1,1,1,1,1,1,1,1,1,1,1,1,1,1,1,1,1,1,1,1,1,1,1,1,1,1,1,1,1,1,1,1,1,1,1,1,1,1,1,1,1,1,"GELİŞTİRİLMELİ"]
[{"$f":"IF('DAV1'!A75=\"\",\"\",'DAV1'!A75)","v":""},{"$f":"IF('DAV1'!B75=\"\",\"\",'DAV1'!B75)","v":""},{"$f":"IF('DAV1'!C75=\"\",\"\",'DAV1'!C75)","v":""},1,1,1,1,1,1,1,1,1,1,1,1,1,1,1,1,1,1,1,1,1,1,1,1,1,1,1,1,1,1,1,1,1,1,1,1,1,1,1,1,1,1,1,1,1,1,1,1,"GELİŞTİRİLMELİ"]
[{"$f":"IF('DAV1'!A76=\"\",\"\",'DAV1'!A76)","v":""},{"$f":"IF('DAV1'!B76=\"\",\"\",'DAV1'!B76)","v":""},{"$f":"IF('DAV1'!C76=\"\",\"\",'DAV1'!C76)","v":""},1,1,1,1,1,1,1,1,1,1,1,1,1,1,1,1,1,1,1,1,1,1,1,1,1,1,1,1,1,1,1,1,1,1,1,1,1,1,1,1,1,1,1,1,1,1,1,1,"GELİŞTİRİLMELİ"]
[{"$f":"IF('DAV1'!A77=\"\",\"\",'DAV1'!A77)","v":""},{"$f":"IF('DAV1'!B77=\"\",\"\",'DAV1'!B77)","v":""},{"$f":"IF('DAV1'!C77=\"\",\"\",'DAV1'!C77)","v":""},1,1,1,1,1,1,1,1,1,1,1,1,1,1,1,1,1,1,1,1,1,1,1,1,1,1,1,1,1,1,1,1,1,1,1,1,1,1,1,1,1,1,1,1,1,1,1,1,"GELİŞTİRİLMELİ"]
[{"$f":"IF('DAV1'!A78=\"\",\"\",'DAV1'!A78)","v":""},{"$f":"IF('DAV1'!B78=\"\",\"\",'DAV1'!B78)","v":""},{"$f":"IF('DAV1'!C78=\"\",\"\",'DAV1'!C78)","v":""},1,1,1,1,1,1,1,1,1,1,1,1,1,1,1,1,1,1,1,1,1,1,1,1,1,1,1,1,1,1,1,1,1,1,1,1,1,1,1,1,1,1,1,1,1,1,1,1,"GELİŞTİRİLMELİ"]
[{"$f":"IF('DAV1'!A79=\"\",\"\",'DAV1'!A79)","v":""},{"$f":"IF('DAV1'!B79=\"\",\"\",'DAV1'!B79)","v":""},{"$f":"IF('DAV1'!C79=\"\",\"\",'DAV1'!C79)","v":""},1,1,1,1,1,1,1,1,1,1,1,1,1,1,1,1,1,1,1,1,1,1,1,1,1,1,1,1,1,1,1,1,1,1,1,1,1,1,1,1,1,1,1,1,1,1,1,1,"GELİŞTİRİLMELİ"]
[{"$f":"IF('DAV1'!A80=\"\",\"\",'DAV1'!A80)","v":""},{"$f":"IF('DAV1'!B80=\"\",\"\",'DAV1'!B80)","v":""},{"$f":"IF('DAV1'!C80=\"\",\"\",'DAV1'!C80)","v":""},1,1,1,1,1,1,1,1,1,1,1,1,1,1,1,1,1,1,1,1,1,1,1,1,1,1,1,1,1,1,1,1,1,1,1,1,1,1,1,1,1,1,1,1,1,1,1,1,"GELİŞTİRİLMELİ"]
[{"$f":"IF('DAV1'!A81=\"\",\"\",'DAV1'!A81)","v":""},{"$f":"IF('DAV1'!B81=\"\",\"\",'DAV1'!B81)","v":""},{"$f":"IF('DAV1'!C81=\"\",\"\",'DAV1'!C81)","v":""},1,1,1,1,1,1,1,1,1,1,1,1,1,1,1,1,1,1,1,1,1,1,1,1,1,1,1,1,1,1,1,1,1,1,1,1,1,1,1,1,1,1,1,1,1,1,1,1,"GELİŞTİRİLMELİ"]
[{"$f":"IF('DAV1'!A82=\"\",\"\",'DAV1'!A82)","v":""},{"$f":"IF('DAV1'!B82=\"\",\"\",'DAV1'!B82)","v":""},{"$f":"IF('DAV1'!C82=\"\",\"\",'DAV1'!C82)","v":""},1,1,1,1,1,1,1,1,1,1,1,1,1,1,1,1,1,1,1,1,1,1,1,1,1,1,1,1,1,1,1,1,1,1,1,1,1,1,1,1,1,1,1,1,1,1,1,1,"GELİŞTİRİLMELİ"]
[{"$f":"IF('DAV1'!A83=\"\",\"\",'DAV1'!A83)","v":""},{"$f":"IF('DAV1'!B83=\"\",\"\",'DAV1'!B83)","v":""},{"$f":"IF('DAV1'!C83=\"\",\"\",'DAV1'!C83)","v":""},1,1,1,1,1,1,1,1,1,1,1,1,1,1,1,1,1,1,1,1,1,1,1,1,1,1,1,1,1,1,1,1,1,1,1,1,1,1,1,1,1,1,1,1,1,1,1,1,"GELİŞTİRİLMELİ"]
[{"$f":"IF('DAV1'!A84=\"\",\"\",'DAV1'!A84)","v":""},{"$f":"IF('DAV1'!B84=\"\",\"\",'DAV1'!B84)","v":""},{"$f":"IF('DAV1'!C84=\"\",\"\",'DAV1'!C84)","v":""},1,1,1,1,1,1,1,1,1,1,1,1,1,1,1,1,1,1,1,1,1,1,1,1,1,1,1,1,1,1,1,1,1,1,1,1,1,1,1,1,1,1,1,1,1,1,1,1,"GELİŞTİRİLMELİ"]
[{"$f":"IF('DAV1'!A85=\"\",\"\",'DAV1'!A85)","v":""},{"$f":"IF('DAV1'!B85=\"\",\"\",'DAV1'!B85)","v":""},{"$f":"IF('DAV1'!C85=\"\",\"\",'DAV1'!C85)","v":""},1,1,1,1,1,1,1,1,1,1,1,1,1,1,1,1,1,1,1,1,1,1,1,1,1,1,1,1,1,1,1,1,1,1,1,1,1,1,1,1,1,1,1,1,1,1,1,1,"GELİŞTİRİLMELİ"]
[{"$f":"IF('DAV1'!A86=\"\",\"\",'DAV1'!A86)","v":""},{"$f":"IF('DAV1'!B86=\"\",\"\",'DAV1'!B86)","v":""},{"$f":"IF('DAV1'!C86=\"\",\"\",'DAV1'!C86)","v":""},1,1,1,1,1,1,1,1,1,1,1,1,1,1,1,1,1,1,1,1,1,1,1,1,1,1,1,1,1,1,1,1,1,1,1,1,1,1,1,1,1,1,1,1,1,1,1,1,"GELİŞTİRİLMELİ"]
[{"$f":"IF('DAV1'!A87=\"\",\"\",'DAV1'!A87)","v":""},{"$f":"IF('DAV1'!B87=\"\",\"\",'DAV1'!B87)","v":""},{"$f":"IF('DAV1'!C87=\"\",\"\",'DAV1'!C87)","v":""},1,1,1,1,1,1,1,1,1,1,1,1,1,1,1,1,1,1,1,1,1,1,1,1,1,1,1,1,1,1,1,1,1,1,1,1,1,1,1,1,1,1,1,1,1,1,1,1,"GELİŞTİRİLMELİ"]
[{"$f":"IF('DAV1'!A88=\"\",\"\",'DAV1'!A88)","v":""},{"$f":"IF('DAV1'!B88=\"\",\"\",'DAV1'!B88)","v":""},{"$f":"IF('DAV1'!C88=\"\",\"\",'DAV1'!C88)","v":""},1,1,1,1,1,1,1,1,1,1,1,1,1,1,1,1,1,1,1,1,1,1,1,1,1,1,1,1,1,1,1,1,1,1,1,1,1,1,1,1,1,1,1,1,1,1,1,1,"GELİŞTİRİLMELİ"]
[{"$f":"IF('DAV1'!A89=\"\",\"\",'DAV1'!A89)","v":""},{"$f":"IF('DAV1'!B89=\"\",\"\",'DAV1'!B89)","v":""},{"$f":"IF('DAV1'!C89=\"\",\"\",'DAV1'!C89)","v":""},1,1,1,1,1,1,1,1,1,1,1,1,1,1,1,1,1,1,1,1,1,1,1,1,1,1,1,1,1,1,1,1,1,1,1,1,1,1,1,1,1,1,1,1,1,1,1,1,"GELİŞTİRİLMELİ"]
[{"$f":"IF('DAV1'!A90=\"\",\"\",'DAV1'!A90)","v":""},{"$f":"IF('DAV1'!B90=\"\",\"\",'DAV1'!B90)","v":""},{"$f":"IF('DAV1'!C90=\"\",\"\",'DAV1'!C90)","v":""},1,1,1,1,1,1,1,1,1,1,1,1,1,1,1,1,1,1,1,1,1,1,1,1,1,1,1,1,1,1,1,1,1,1,1,1,1,1,1,1,1,1,1,1,1,1,1,1,"GELİŞTİRİLMELİ"]
[{"$f":"IF('DAV1'!A91=\"\",\"\",'DAV1'!A91)","v":""},{"$f":"IF('DAV1'!B91=\"\",\"\",'DAV1'!B91)","v":""},{"$f":"IF('DAV1'!C91=\"\",\"\",'DAV1'!C91)","v":""},1,1,1,1,1,1,1,1,1,1,1,1,1,1,1,1,1,1,1,1,1,1,1,1,1,1,1,1,1,1,1,1,1,1,1,1,1,1,1,1,1,1,1,1,1,1,1,1,"GELİŞTİRİLMELİ"]
[{"$f":"IF('DAV1'!A92=\"\",\"\",'DAV1'!A92)","v":""},{"$f":"IF('DAV1'!B92=\"\",\"\",'DAV1'!B92)","v":""},{"$f":"IF('DAV1'!C92=\"\",\"\",'DAV1'!C92)","v":""},1,1,1,1,1,1,1,1,1,1,1,1,1,1,1,1,1,1,1,1,1,1,1,1,1,1,1,1,1,1,1,1,1,1,1,1,1,1,1,1,1,1,1,1,1,1,1,1,"GELİŞTİRİLMELİ"]
[{"$f":"IF('DAV1'!A93=\"\",\"\",'DAV1'!A93)","v":""},{"$f":"IF('DAV1'!B93=\"\",\"\",'DAV1'!B93)","v":""},{"$f":"IF('DAV1'!C93=\"\",\"\",'DAV1'!C93)","v":""},1,1,1,1,1,1,1,1,1,1,1,1,1,1,1,1,1,1,1,1,1,1,1,1,1,1,1,1,1,1,1,1,1,1,1,1,1,1,1,1,1,1,1,1,1,1,1,1,"GELİŞTİRİLMELİ"]
[{"$f":"IF('DAV1'!A94=\"\",\"\",'DAV1'!A94)","v":""},{"$f":"IF('DAV1'!B94=\"\",\"\",'DAV1'!B94)","v":""},{"$f":"IF('DAV1'!C94=\"\",\"\",'DAV1'!C94)","v":""},1,1,1,1,1,1,1,1,1,1,1,1,1,1,1,1,1,1,1,1,1,1,1,1,1,1,1,1,1,1,1,1,1,1,1,1,1,1,1,1,1,1,1,1,1,1,1,1,"GELİŞTİRİLMELİ"]
[{"$f":"IF('DAV1'!A95=\"\",\"\",'DAV1'!A95)","v":""},{"$f":"IF('DAV1'!B95=\"\",\"\",'DAV1'!B95)","v":""},{"$f":"IF('DAV1'!C95=\"\",\"\",'DAV1'!C95)","v":""},1,1,1,1,1,1,1,1,1,1,1,1,1,1,1,1,1,1,1,1,1,1,1,1,1,1,1,1,1,1,1,1,1,1,1,1,1,1,1,1,1,1,1,1,1,1,1,1,"GELİŞTİRİLMELİ"]
[{"$f":"IF('DAV1'!A96=\"\",\"\",'DAV1'!A96)","v":""},{"$f":"IF('DAV1'!B96=\"\",\"\",'DAV1'!B96)","v":""},{"$f":"IF('DAV1'!C96=\"\",\"\",'DAV1'!C96)","v":""},1,1,1,1,1,1,1,1,1,1,1,1,1,1,1,1,1,1,1,1,1,1,1,1,1,1,1,1,1,1,1,1,1,1,1,1,1,1,1,1,1,1,1,1,1,1,1,1,"GELİŞTİRİLMELİ"]
[{"$f":"IF('DAV1'!A97=\"\",\"\",'DAV1'!A97)","v":""},{"$f":"IF('DAV1'!B97=\"\",\"\",'DAV1'!B97)","v":""},{"$f":"IF('DAV1'!C97=\"\",\"\",'DAV1'!C97)","v":""},1,1,1,1,1,1,1,1,1,1,1,1,1,1,1,1,1,1,1,1,1,1,1,1,1,1,1,1,1,1,1,1,1,1,1,1,1,1,1,1,1,1,1,1,1,1,1,1,"GELİŞTİRİLMELİ"]
[{"$f":"IF('DAV1'!A98=\"\",\"\",'DAV1'!A98)","v":""},{"$f":"IF('DAV1'!B98=\"\",\"\",'DAV1'!B98)","v":""},{"$f":"IF('DAV1'!C98=\"\",\"\",'DAV1'!C98)","v":""},1,1,1,1,1,1,1,1,1,1,1,1,1,1,1,1,1,1,1,1,1,1,1,1,1,1,1,1,1,1,1,1,1,1,1,1,1,1,1,1,1,1,1,1,1,1,1,1,"GELİŞTİRİLMELİ"]
[{"$f":"IF('DAV1'!A99=\"\",\"\",'DAV1'!A99)","v":""},{"$f":"IF('DAV1'!B99=\"\",\"\",'DAV1'!B99)","v":""},{"$f":"IF('DAV1'!C99=\"\",\"\",'DAV1'!C99)","v":""},1,1,1,1,1,1,1,1,1,1,1,1,1,1,1,1,1,1,1,1,1,1,1,1,1,1,1,1,1,1,1,1,1,1,1,1,1,1,1,1,1,1,1,1,1,1,1,{"$f":"AVERAGE(D99:AX99)","v":1},"GELİŞTİRİLMELİ"]
[{"$f":"IF('DAV1'!A100=\"\",\"\",'DAV1'!A100)","v":""},{"$f":"IF('DAV1'!B100=\"\",\"\",'DAV1'!B100)","v":""},{"$f":"IF('DAV1'!C100=\"\",\"\",'DAV1'!C100)","v":""},1,1,1,1,1,1,1,1,1,1,1,1,1,1,1,1,1,1,1,1,1,1,1,1,1,1,1,1,1,1,1,1,1,1,1,1,1,1,1,1,1,1,1,1,1,1,1,1,"GELİŞTİRİLMELİ"]
[{"$f":"IF('DAV1'!A101=\"\",\"\",'DAV1'!A101)","v":""},{"$f":"IF('DAV1'!B101=\"\",\"\",'DAV1'!B101)","v":""},{"$f":"IF('DAV1'!C101=\"\",\"\",'DAV1'!C101)","v":""},1,1,1,1,1,1,1,1,1,1,1,1,1,1,1,1,1,1,1,1,1,1,1,1,1,1,1,1,1,1,1,1,1,1,1,1,1,1,1,1,1,1,1,1,1,1,1,1,{"$f":"IF(AY101=\"\",\"\",(IF(AY101>=2.5,\"ÇOK İYİ\",IF(AY101>=1.5,\"İYİ\",IF(AY101>=1,\"GELİŞTİRİLMELİ\")))))","v":"GELİŞTİRİLMELİ"}]
[{"$f":"IF('DAV1'!A102=\"\",\"\",'DAV1'!A102)","v":""},{"$f":"IF('DAV1'!B102=\"\",\"\",'DAV1'!B102)","v":""},{"$f":"IF('DAV1'!C102=\"\",\"\",'DAV1'!C102)","v":""},1,1,1,1,1,1,1,1,1,1,1,1,1,1,1,1,1,1,1,1,1,1,1,1,1,1,1,1,1,1,1,1,1,1,1,1,1,1,1,1,1,1,1,1,1,1,1,1,"GELİŞTİRİLMELİ"]
[]
[1,1,1,1,1,1,1,1,1,1,1,1,1,1,1,1,1,1,1,1,1,1,1,1,1,1,1,1,1,1,1,1,1,1,1,1,1,1,1,1,1,1,1,1,1,1,1,1,1,1,1,1,1,1,1,1,1,1,1,1,1,1,1,1,1,1,1,1,1,1,1,1,1,1,1,1,1,1,1,1,1,1,1,1,1,1,1,1,1,1,1,1,1,1,1,1,1,1,1,1]
[2,2,2,2,2,2,2,2,2,2,2,2,2,2,2,2,2,2,2,2,2,2,2,2,2,2,2,2,2,2,2,2,2,2,2,2,2,2,2,2,2,2,2,2,2,2,2,2,2,2,2,2,2,2,2,2,2,2,2,2,2,2,2,2,2,2,2,2,2,2,2,2,2,2,2,2,2,2,2,2,2,2,2,2,2,2,2,2,2,2,2,2,2,2,2,2,2,2,2,2]
[3,3,3,3,3,3,3,3,3,3,3,3,3,3,3,3,3,3,3,3,3,3,3,3,3,3,3,3,3,3,3,3,3,3,3,3,3,3,3,3,3,3,3,3,3,3,3,3,3,3,3,3,3,3,3,3,3,3,3,3,3,3,3,3,3,3,3,3,3,3,3,3,3,3,3,3,3,3,3,3,3,3,3,3,3,3,3,3,3,3,3,3,3,3,3,3,3,3,3,3]
[4,4,4,4,4,4,4,4,4,4,4,4,4,4,4,4,4,4,4,4,4,4,4,4,4,4,4,4,4,4,4,4,4,4,4,4,4,4,4,4,4,4,4,4,4,4,4,4,4,4,4,4,4,4,4,4,4,4,4,4,4,4,4,4,4,4,4,4,4,4,4,4,4,4,4,4,4,4,4,4,4,4,4,4,4,4,4,4,4,4,4,4,4,4,4,4,4,4,4,4]

{"sheet":"T2.2","index":11,"n_rows":107,"n_cols":100,"rows_kept":107,"cut":false,"hidden":false,"merged":[[0,1,0,2],[0,50,1,50],[0,51,1,51],[1,3,1,49]]}
[2,"TÜRKÇE \n. DÖNEM",null,"1.1. Doğal ve yapay ses kaynaklarından çıkan sesleri ayırt eder.","1.2. Duyduğu sesleri taklit eder. ","1.3. Seslere karşılık gelen harfleri ayırt eder.","1.4. Görselden/ görsellerden hareketle dinleyeceği/ izleyeceği metin hakkında tahminde bulunur.","1.5. Dinlediklerinde/izlediklerinde geçen olayların gelişimi hakkında tahminde bulunur. ","1.6. Dinlediği/ izlediği metni anlatır.","1.7. Dinlediklerinin/izlediklerinin konusunu belirler. ","1.8. Dinlediklerine/izlediklerine yönelik sorulara cevap verir. ","1.9. Sözlü yönergeleri uygular. ","1.10. Dinleme stratejilerini uygular. ","1.11. Konuşmacının sözlü olmayan mesajlarını kavrar. ","2.1. Kelimeleri anlamlarına uygun kullanır. ","2.2. Hazırlıksız konuşmalar yapar. ","2.3. Çerçevesi belirli bir konu hakkında konuşur. ","2.4. Konuşma stratejilerini uygular. ","3.1. Okuma materyalindeki temel bölümleri tanır.","3.2. Harfi tanır ve seslendirir.","3.3. Hece ve kelimeleri okur.","3.4. Basit ve kısa cümleleri okur.","3.5. Kısa metinleri okur.","3.6. Noktalama işaretlerine dikkat ederek okur. ","3.7. Vurgu, tonlama ve telaffuza dikkat ederek okur. ","3.8. Şiir okur. ","3.9. Görsellerden hareketle kelimeleri ve anlamlarını tahmin eder. ","3.10. Farklı yazı karakterleri ile yazılmış yazıları okur. ","3.11. Kelimelerin zıt anlamlılarını tahmin eder. ","3.12. Okuma stratejilerini uygular. ","3.13. Görsellerle ilgili soruları cevaplar. ","3.14. Görsellerden hareketle okuyacağı metnin içeriğini tahmin eder. ","3.15. Metinle ilgili soruları cevaplar. ","3.16. Okuduklarını ana hatlarıyla anlatır. ","3.17. Metnin konusunu belirler. ","3.18. Metnin içeriğine uygun başlık/başlıklar belirler. ","3.19. Şekil, sembol ve işaretlerin anlamlarını kavrar. ","4.1. Boyama ve çizgi çalışmaları yapar.","4.2. Harfleri tekniğine uygun yazar.","4.3. Hece ve kelimeler yazar.","4.4. Rakamları tekniğine uygun yazar.","4.5. Anlamlı ve kurallı cümleler yazar.","4.6. Görsellerle ilgili kelime ve cümleler yazar.","4.7. Harfler, kelimeler ve cümleler arasında uygun boşluklar bırakır. ","4.8. Büyük harfleri ve noktalama işaretlerini uygun şekilde kullanır. ","4.9. Yazılarını görsel unsurlarla destekler. ","4.10. Yazdıklarını gözden geçirir.","4.11. Yazdıklarını paylaşır.","4.12. Yazma çalışmaları yapar. ","4.13. Yazma stratejilerini uygular.","ORTALAMA","DEĞERLENDİRME SONUCU"]
["SIRA","OKUL NO","ADI SOYADI"]
[{"$f":"IF('DAV1'!A3=\"\",\"\",'DAV1'!A3)","v":1},{"$f":"IF('DAV1'!B3=\"\",\"\",'DAV1'!B3)","v":11},{"$f":"IF('DAV1'!C3=\"\",\"\",'DAV1'!C3)","v":"KAYRA ÇINAR ERGÜN"},1,1,1,1,1,1,1,1,1,1,1,1,1,1,1,1,1,1,1,1,1,1,1,1,1,1,1,1,1,1,1,1,1,1,1,1,1,1,1,1,1,1,1,1,1,1,1,{"$f":"AVERAGE(D3:AX3)","v":1},{"$f":"IF(AY3=\"\",\"\",(IF(AY3>=2.5,\"ÇOK İYİ\",IF(AY3>=1.5,\"İYİ\",IF(AY3>=1,\"GELİŞTİRİLMELİ\")))))","v":"GELİŞTİRİLMELİ"}]
[{"$f":"IF('DAV1'!A4=\"\",\"\",'DAV1'!A4)","v":2},{"$f":"IF('DAV1'!B4=\"\",\"\",'DAV1'!B4)","v":35},{"$f":"IF('DAV1'!C4=\"\",\"\",'DAV1'!C4)","v":"FURKAN SOLMAZ"},1,1,1,1,1,1,1,1,1,1,1,1,1,1,1,1,1,1,1,1,1,1,1,1,1,1,1,1,1,1,1,1,1,1,1,1,1,1,1,1,1,1,1,1,1,1,1,1,"GELİŞTİRİLMELİ"]
[{"$f":"IF('DAV1'!A5=\"\",\"\",'DAV1'!A5)","v":3},{"$f":"IF('DAV1'!B5=\"\",\"\",'DAV1'!B5)","v":53},{"$f":"IF('DAV1'!C5=\"\",\"\",'DAV1'!C5)","v":"İLKNUR MUMCU"},1,1,1,1,1,1,1,1,1,1,1,1,1,1,1,1,1,1,1,1,1,1,1,1,1,1,1,1,1,1,1,1,1,1,1,1,1,1,1,1,1,1,1,1,1,1,1,1,"GELİŞTİRİLMELİ"]
[{"$f":"IF('DAV1'!A6=\"\",\"\",'DAV1'!A6)","v":4},{"$f":"IF('DAV1'!B6=\"\",\"\",'DAV1'!B6)","v":83},{"$f":"IF('DAV1'!C6=\"\",\"\",'DAV1'!C6)","v":"MUHAMMET ALİ YILDIRIM"},1,1,1,1,1,1,1,1,1,1,1,1,1,1,1,1,1,1,1,1,1,1,1,1,1,1,1,1,1,1,1,1,1,1,1,1,1,1,1,1,1,1,1,1,1,1,1,1,"GELİŞTİRİLMELİ"]
[{"$f":"IF('DAV1'!A7=\"\",\"\",'DAV1'!A7)","v":5},{"$f":"IF('DAV1'!B7=\"\",\"\",'DAV1'!B7)","v":93},{"$f":"IF('DAV1'!C7=\"\",\"\",'DAV1'!C7)","v":"ERTUĞRUL GAZİ NAMLI"},1,1,1,1,1,1,1,1,1,1,1,1,1,1,1,1,1,1,1,1,1,1,1,1,1,1,1,1,1,1,1,1,1,1,1,1,1,1,1,1,1,1,1,1,1,1,1,1,"GELİŞTİRİLMELİ"]
[{"$f":"IF('DAV1'!A8=\"\",\"\",'DAV1'!A8)","v":6},{"$f":"IF('DAV1'!B8=\"\",\"\",'DAV1'!B8)","v":100},{"$f":"IF('DAV1'!C8=\"\",\"\",'DAV1'!C8)","v":"ECEM EFE"},1,1,1,1,1,1,1,1,1,1,1,1,1,1,1,1,1,1,1,1,1,1,1,1,1,1,1,1,1,1,1,1,1,1,1,1,1,1,1,1,1,1,1,1,1,1,1,1,"GELİŞTİRİLMELİ"]
[{"$f":"IF('DAV1'!A9=\"\",\"\",'DAV1'!A9)","v":7},{"$f":"IF('DAV1'!B9=\"\",\"\",'DAV1'!B9)","v":105},{"$f":"IF('DAV1'!C9=\"\",\"\",'DAV1'!C9)","v":"SELİM ZEKERİYA ÖZDEMİR"},1,1,1,1,1,1,1,1,1,1,1,1,1,1,1,1,1,1,1,1,1,1,1,1,1,1,1,1,1,1,1,1,1,1,1,1,1,1,1,1,1,1,1,1,1,1,1,1,"GELİŞTİRİLMELİ"]
[{"$f":"IF('DAV1'!A10=\"\",\"\",'DAV1'!A10)","v":8},{"$f":"IF('DAV1'!B10=\"\",\"\",'DAV1'!B10)","v":108},{"$f":"IF('DAV1'!C10=\"\",\"\",'DAV1'!C10)","v":"AREN KARAKAŞ"},1,1,1,1,1,1,1,1,1,1,1,1,1,1,1,1,1,1,1,1,1,1,1,1,1,1,1,1,1,1,1,1,1,1,1,1,1,1,1,1,1,1,1,1,1,1,1,1,"GELİŞTİRİLMELİ"]
[{"$f":"IF('DAV1'!A11=\"\",\"\",'DAV1'!A11)","v":9},{"$f":"IF('DAV1'!B11=\"\",\"\",'DAV1'!B11)","v":111},{"$f":"IF('DAV1'!C11=\"\",\"\",'DAV1'!C11)","v":"ZEHRA ŞAHİNOĞLU"},1,1,1,1,1,1,1,1,1,1,1,1,1,1,1,1,1,1,1,1,1,1,1,1,1,1,1,1,1,1,1,1,1,1,1,1,1,1,1,1,1,1,1,1,1,1,1,1,"GELİŞTİRİLMELİ"]
[{"$f":"IF('DAV1'!A12=\"\",\"\",'DAV1'!A12)","v":10},{"$f":"IF('DAV1'!B12=\"\",\"\",'DAV1'!B12)","v":113},{"$f":"IF('DAV1'!C12=\"\",\"\",'DAV1'!C12)","v":"YUSUF ALİ TÜNÇ"},1,1,1,1,1,1,1,1,1,1,1,1,1,1,1,1,1,1,1,1,1,1,1,1,1,1,1,1,1,1,1,1,1,1,1,1,1,1,1,1,1,1,1,1,1,1,1,1,"GELİŞTİRİLMELİ"]
[{"$f":"IF('DAV1'!A13=\"\",\"\",'DAV1'!A13)","v":11},{"$f":"IF('DAV1'!B13=\"\",\"\",'DAV1'!B13)","v":161},{"$f":"IF('DAV1'!C13=\"\",\"\",'DAV1'!C13)","v":"HÜSEYİN CELAYİR"},1,1,1,1,1,1,1,1,1,1,1,1,1,1,1,1,1,1,1,1,1,1,1,1,1,1,1,1,1,1,1,1,1,1,1,1,1,1,1,1,1,1,1,1,1,1,1,1,"GELİŞTİRİLMELİ"]
[{"$f":"IF('DAV1'!A14=\"\",\"\",'DAV1'!A14)","v":12},{"$f":"IF('DAV1'!B14=\"\",\"\",'DAV1'!B14)","v":177},{"$f":"IF('DAV1'!C14=\"\",\"\",'DAV1'!C14)","v":"YİĞİT EFE YEŞİLDAL"},1,1,1,1,1,1,1,1,1,1,1,1,1,1,1,1,1,1,1,1,1,1,1,1,1,1,1,1,1,1,1,1,1,1,1,1,1,1,1,1,1,1,1,1,1,1,1,1,"GELİŞTİRİLMELİ"]
[{"$f":"IF('DAV1'!A15=\"\",\"\",'DAV1'!A15)","v":13},{"$f":"IF('DAV1'!B15=\"\",\"\",'DAV1'!B15)","v":187},{"$f":"IF('DAV1'!C15=\"\",\"\",'DAV1'!C15)","v":"HALEF TAHA ATEŞ"},1,1,1,1,1,1,1,1,1,1,1,1,1,1,1,1,1,1,1,1,1,1,1,1,1,1,1,1,1,1,1,1,1,1,1,1,1,1,1,1,1,1,1,1,1,1,1,1,"GELİŞTİRİLMELİ"]
[{"$f":"IF('DAV1'!A16=\"\",\"\",'DAV1'!A16)","v":14},{"$f":"IF('DAV1'!B16=\"\",\"\",'DAV1'!B16)","v":188},{"$f":"IF('DAV1'!C16=\"\",\"\",'DAV1'!C16)","v":"EMİRHAN MERTOĞLU"},1,1,1,1,1,1,1,1,1,1,1,1,1,1,1,1,1,1,1,1,1,1,1,1,1,1,1,1,1,1,1,1,1,1,1,1,1,1,1,1,1,1,1,1,1,1,1,1,"GELİŞTİRİLMELİ"]
[{"$f":"IF('DAV1'!A17=\"\",\"\",'DAV1'!A17)","v":15},{"$f":"IF('DAV1'!B17=\"\",\"\",'DAV1'!B17)","v":189},{"$f":"IF('DAV1'!C17=\"\",\"\",'DAV1'!C17)","v":"EMİNE GÜVEN"},1,1,1,1,1,1,1,1,1,1,1,1,1,1,1,1,1,1,1,1,1,1,1,1,1,1,1,1,1,1,1,1,1,1,1,1,1,1,1,1,1,1,1,1,1,1,1,1,"GELİŞTİRİLMELİ"]
[{"$f":"IF('DAV1'!A18=\"\",\"\",'DAV1'!A18)","v":16},{"$f":"IF('DAV1'!B18=\"\",\"\",'DAV1'!B18)","v":213},{"$f":"IF('DAV1'!C18=\"\",\"\",'DAV1'!C18)","v":"YAĞMUR KILIÇ"},1,1,1,1,1,1,1,1,1,1,1,1,1,1,1,1,1,1,1,1,1,1,1,1,1,1,1,1,1,1,1,1,1,1,1,1,1,1,1,1,1,1,1,1,1,1,1,1,"GELİŞTİRİLMELİ"]
[{"$f":"IF('DAV1'!A19=\"\",\"\",'DAV1'!A19)","v":17},{"$f":"IF('DAV1'!B19=\"\",\"\",'DAV1'!B19)","v":214},{"$f":"IF('DAV1'!C19=\"\",\"\",'DAV1'!C19)","v":"ERDAL GÜLATAR"},1,1,1,1,1,1,1,1,1,1,1,1,1,1,1,1,1,1,1,1,1,1,1,1,1,1,1,1,1,1,1,1,1,1,1,1,1,1,1,1,1,1,1,1,1,1,1,1,"GELİŞTİRİLMELİ"]
[{"$f":"IF('DAV1'!A20=\"\",\"\",'DAV1'!A20)","v":18},{"$f":"IF('DAV1'!B20=\"\",\"\",'DAV1'!B20)","v":216},{"$f":"IF('DAV1'!C20=\"\",\"\",'DAV1'!C20)","v":"GAMZE ACAR"},1,1,1,1,1,1,1,1,1,1,1,1,1,1,1,1,1,1,1,1,1,1,1,1,1,1,1,1,1,1,1,1,1,1,1,1,1,1,1,1,1,1,1,1,1,1,1,1,"GELİŞTİRİLMELİ"]
[{"$f":"IF('DAV1'!A21=\"\",\"\",'DAV1'!A21)","v":19},{"$f":"IF('DAV1'!B21=\"\",\"\",'DAV1'!B21)","v":222},{"$f":"IF('DAV1'!C21=\"\",\"\",'DAV1'!C21)","v":"HİRANUR DOĞANDEMİR"},1,1,1,1,1,1,1,1,1,1,1,1,1,1,1,1,1,1,1,1,1,1,1,1,1,1,1,1,1,1,1,1,1,1,1,1,1,1,1,1,1,1,1,1,1,1,1,1,"GELİŞTİRİLMELİ"]
[{"$f":"IF('DAV1'!A22=\"\",\"\",'DAV1'!A22)","v":20},{"$f":"IF('DAV1'!B22=\"\",\"\",'DAV1'!B22)","v":224},{"$f":"IF('DAV1'!C22=\"\",\"\",'DAV1'!C22)","v":"TALHA YILMAZ"},1,1,1,1,1,1,1,1,1,1,1,1,1,1,1,1,1,1,1,1,1,1,1,1,1,1,1,1,1,1,1,1,1,1,1,1,1,1,1,1,1,1,1,1,1,1,1,1,"GELİŞTİRİLMELİ"]
[{"$f":"IF('DAV1'!A23=\"\",\"\",'DAV1'!A23)","v":21},{"$f":"IF('DAV1'!B23=\"\",\"\",'DAV1'!B23)","v":225},{"$f":"IF('DAV1'!C23=\"\",\"\",'DAV1'!C23)","v":"YUSUF EMİR DAĞDÖGEN"},1,1,1,1,1,1,1,1,1,1,1,1,1,1,1,1,1,1,1,1,1,1,1,1,1,1,1,1,1,1,1,1,1,1,1,1,1,1,1,1,1,1,1,1,1,1,1,1,"GELİŞTİRİLMELİ"]
[{"$f":"IF('DAV1'!A24=\"\",\"\",'DAV1'!A24)","v":22},{"$f":"IF('DAV1'!B24=\"\",\"\",'DAV1'!B24)","v":226},{"$f":"IF('DAV1'!C24=\"\",\"\",'DAV1'!C24)","v":"İMREN CANPOLAT"},1,1,1,1,1,1,1,1,1,1,1,1,1,1,1,1,1,1,1,1,1,1,1,1,1,1,1,1,1,1,1,1,1,1,1,1,1,1,1,1,1,1,1,1,1,1,1,1,"GELİŞTİRİLMELİ"]
[{"$f":"IF('DAV1'!A25=\"\",\"\",'DAV1'!A25)","v":23},{"$f":"IF('DAV1'!B25=\"\",\"\",'DAV1'!B25)","v":227},{"$f":"IF('DAV1'!C25=\"\",\"\",'DAV1'!C25)","v":"ZEYNEP CANPOLAT"},1,1,1,1,1,1,1,1,1,1,1,1,1,1,1,1,1,1,1,1,1,1,1,1,1,1,1,1,1,1,1,1,1,1,1,1,1,1,1,1,1,1,1,1,1,1,1,1,"GELİŞTİRİLMELİ"]
[{"$f":"IF('DAV1'!A26=\"\",\"\",'DAV1'!A26)","v":24},{"$f":"IF('DAV1'!B26=\"\",\"\",'DAV1'!B26)","v":229},{"$f":"IF('DAV1'!C26=\"\",\"\",'DAV1'!C26)","v":"MERYEM PARMAK"},1,1,1,1,1,1,1,1,1,1,1,1,1,1,1,1,1,1,1,1,1,1,1,1,1,1,1,1,1,1,1,1,1,1,1,1,1,1,1,1,1,1,1,1,1,1,1,1,"GELİŞTİRİLMELİ"]
[{"$f":"IF('DAV1'!A27=\"\",\"\",'DAV1'!A27)","v":25},{"$f":"IF('DAV1'!B27=\"\",\"\",'DAV1'!B27)","v":237},{"$f":"IF('DAV1'!C27=\"\",\"\",'DAV1'!C27)","v":"ZEYNEP MİRAY BOYRAZ"},1,1,1,1,1,1,1,1,1,1,1,1,1,1,1,1,1,1,1,1,1,1,1,1,1,1,1,1,1,1,1,1,1,1,1,1,1,1,1,1,1,1,1,1,1,1,1,1,"GELİŞTİRİLMELİ"]
[{"$f":"IF('DAV1'!A28=\"\",\"\",'DAV1'!A28)","v":26},{"$f":"IF('DAV1'!B28=\"\",\"\",'DAV1'!B28)","v":244},{"$f":"IF('DAV1'!C28=\"\",\"\",'DAV1'!C28)","v":"TAMER ŞEKERCİLEROĞLU"},1,1,1,1,1,1,1,1,1,1,1,1,1,1,1,1,1,1,1,1,1,1,1,1,1,1,1,1,1,1,1,1,1,1,1,1,1,1,1,1,1,1,1,1,1,1,1,1,"GELİŞTİRİLMELİ"]
[{"$f":"IF('DAV1'!A29=\"\",\"\",'DAV1'!A29)","v":27},{"$f":"IF('DAV1'!B29=\"\",\"\",'DAV1'!B29)","v":263},{"$f":"IF('DAV1'!C29=\"\",\"\",'DAV1'!C29)","v":"MUHAMMED YUSUF YILMAZ"},1,1,1,1,1,1,1,1,1,1,1,1,1,1,1,1,1,1,1,1,1,1,1,1,1,1,1,1,1,1,1,1,1,1,1,1,1,1,1,1,1,1,1,1,1,1,1,1,"GELİŞTİRİLMELİ"]
[{"$f":"IF('DAV1'!A30=\"\",\"\",'DAV1'!A30)","v":28},{"$f":"IF('DAV1'!B30=\"\",\"\",'DAV1'!B30)","v":264},{"$f":"IF('DAV1'!C30=\"\",\"\",'DAV1'!C30)","v":"OĞUZHAN GÜRGÜZE"},1,1,1,1,1,1,1,1,1,1,1,1,1,1,1,1,1,1,1,1,1,1,1,1,1,1,1,1,1,1,1,1,1,1,1,1,1,1,1,1,1,1,1,1,1,1,1,1,"GELİŞTİRİLMELİ"]
[{"$f":"IF('DAV1'!A31=\"\",\"\",'DAV1'!A31)","v":29},{"$f":"IF('DAV1'!B31=\"\",\"\",'DAV1'!B31)","v":279},{"$f":"IF('DAV1'!C31=\"\",\"\",'DAV1'!C31)","v":"MİHRİMA EKİCİ"},1,1,1,1,1,1,1,1,1,1,1,1,1,1,1,1,1,1,1,1,1,1,1,1,1,1,1,1,1,1,1,1,1,1,1,1,1,1,1,1,1,1,1,1,1,1,1,1,"GELİŞTİRİLMELİ"]
[{"$f":"IF('DAV1'!A32=\"\",\"\",'DAV1'!A32)","v":30},{"$f":"IF('DAV1'!B32=\"\",\"\",'DAV1'!B32)","v":290},{"$f":"IF('DAV1'!C32=\"\",\"\",'DAV1'!C32)","v":"NİSA NUR YILDIZ"},1,1,1,1,1,1,1,1,1,1,1,1,1,1,1,1,1,1,1,1,1,1,1,1,1,1,1,1,1,1,1,1,1,1,1,1,1,1,1,1,1,1,1,1,1,1,1,1,"GELİŞTİRİLMELİ"]
[{"$f":"IF('DAV1'!A33=\"\",\"\",'DAV1'!A33)","v":31},{"$f":"IF('DAV1'!B33=\"\",\"\",'DAV1'!B33)","v":293},{"$f":"IF('DAV1'!C33=\"\",\"\",'DAV1'!C33)","v":"MEHMET ALATAŞ"},1,1,1,1,1,1,1,1,1,1,1,1,1,1,1,1,1,1,1,1,1,1,1,1,1,1,1,1,1,1,1,1,1,1,1,1,1,1,1,1,1,1,1,1,1,1,1,1,"GELİŞTİRİLMELİ"]
[{"$f":"IF('DAV1'!A34=\"\",\"\",'DAV1'!A34)","v":32},{"$f":"IF('DAV1'!B34=\"\",\"\",'DAV1'!B34)","v":451},{"$f":"IF('DAV1'!C34=\"\",\"\",'DAV1'!C34)","v":"İKRA YILDIRIM"},1,1,1,1,1,1,1,1,1,1,1,1,1,1,1,1,1,1,1,1,1,1,1,1,1,1,1,1,1,1,1,1,1,1,1,1,1,1,1,1,1,1,1,1,1,1,1,1,"GELİŞTİRİLMELİ"]
[{"$f":"IF('DAV1'!A35=\"\",\"\",'DAV1'!A35)","v":33},{"$f":"IF('DAV1'!B35=\"\",\"\",'DAV1'!B35)","v":616},{"$f":"IF('DAV1'!C35=\"\",\"\",'DAV1'!C35)","v":"EDA TURAL"},1,1,1,1,1,1,1,1,1,1,1,1,1,1,1,1,1,1,1,1,1,1,1,1,1,1,1,1,1,1,1,1,1,1,1,1,1,1,1,1,1,1,1,1,1,1,1,{"$f":"AVERAGE(D35:AX35)","v":1},"GELİŞTİRİLMELİ"]
[{"$f":"IF('DAV1'!A36=\"\",\"\",'DAV1'!A36)","v":34},{"$f":"IF('DAV1'!B36=\"\",\"\",'DAV1'!B36)","v":892},{"$f":"IF('DAV1'!C36=\"\",\"\",'DAV1'!C36)","v":"ALMA ALRAMADAN"},1,1,1,1,1,1,1,1,1,1,1,1,1,1,1,1,1,1,1,1,1,1,1,1,1,1,1,1,1,1,1,1,1,1,1,1,1,1,1,1,1,1,1,1,1,1,1,1,"GELİŞTİRİLMELİ"]
[{"$f":"IF('DAV1'!A37=\"\",\"\",'DAV1'!A37)","v":35},{"$f":"IF('DAV1'!B37=\"\",\"\",'DAV1'!B37)","v":1000},{"$f":"IF('DAV1'!C37=\"\",\"\",'DAV1'!C37)","v":"TURGUT POLAT"},1,1,1,1,1,1,1,1,1,1,1,1,1,1,1,1,1,1,1,1,1,1,1,1,1,1,1,1,1,1,1,1,1,1,1,1,1,1,1,1,1,1,1,1,1,1,1,1,"GELİŞTİRİLMELİ"]
[{"$f":"IF('DAV1'!A38=\"\",\"\",'DAV1'!A38)","v":""},{"$f":"IF('DAV1'!B38=\"\",\"\",'DAV1'!B38)","v":""},{"$f":"IF('DAV1'!C38=\"\",\"\",'DAV1'!C38)","v":""},1,1,1,1,1,1,1,1,1,1,1,1,1,1,1,1,1,1,1,1,1,1,1,1,1,1,1,1,1,1,1,1,1,1,1,1,1,1,1,1,1,1,1,1,1,1,1,1,"GELİŞTİRİLMELİ"]
[{"$f":"IF('DAV1'!A39=\"\",\"\",'DAV1'!A39)","v":""},{"$f":"IF('DAV1'!B39=\"\",\"\",'DAV1'!B39)","v":""},{"$f":"IF('DAV1'!C39=\"\",\"\",'DAV1'!C39)","v":""},1,1,1,1,1,1,1,1,1,1,1,1,1,1,1,1,1,1,1,1,1,1,1,1,1,1,1,1,1,1,1,1,1,1,1,1,1,1,1,1,1,1,1,1,1,1,1,1,"GELİŞTİRİLMELİ"]
[{"$f":"IF('DAV1'!A40=\"\",\"\",'DAV1'!A40)","v":""},{"$f":"IF('DAV1'!B40=\"\",\"\",'DAV1'!B40)","v":""},{"$f":"IF('DAV1'!C40=\"\",\"\",'DAV1'!C40)","v":""},1,1,1,1,1,1,1,1,1,1,1,1,1,1,1,1,1,1,1,1,1,1,1,1,1,1,1,1,1,1,1,1,1,1,1,1,1,1,1,1,1,1,1,1,1,1,1,1,"GELİŞTİRİLMELİ"]
[{"$f":"IF('DAV1'!A41=\"\",\"\",'DAV1'!A41)","v":""},{"$f":"IF('DAV1'!B41=\"\",\"\",'DAV1'!B41)","v":""},{"$f":"IF('DAV1'!C41=\"\",\"\",'DAV1'!C41)","v":""},1,1,1,1,1,1,1,1,1,1,1,1,1,1,1,1,1,1,1,1,1,1,1,1,1,1,1,1,1,1,1,1,1,1,1,1,1,1,1,1,1,1,1,1,1,1,1,1,"GELİŞTİRİLMELİ"]
[{"$f":"IF('DAV1'!A42=\"\",\"\",'DAV1'!A42)","v":""},{"$f":"IF('DAV1'!B42=\"\",\"\",'DAV1'!B42)","v":""},{"$f":"IF('DAV1'!C42=\"\",\"\",'DAV1'!C42)","v":""},1,1,1,1,1,1,1,1,1,1,1,1,1,1,1,1,1,1,1,1,1,1,1,1,1,1,1,1,1,1,1,1,1,1,1,1,1,1,1,1,1,1,1,1,1,1,1,1,"GELİŞTİRİLMELİ"]
[{"$f":"IF('DAV1'!A43=\"\",\"\",'DAV1'!A43)","v":""},{"$f":"IF('DAV1'!B43=\"\",\"\",'DAV1'!B43)","v":""},{"$f":"IF('DAV1'!C43=\"\",\"\",'DAV1'!C43)","v":""},1,1,1,1,1,1,1,1,1,1,1,1,1,1,1,1,1,1,1,1,1,1,1,1,1,1,1,1,1,1,1,1,1,1,1,1,1,1,1,1,1,1,1,1,1,1,1,1,"GELİŞTİRİLMELİ"]
[{"$f":"IF('DAV1'!A44=\"\",\"\",'DAV1'!A44)","v":""},{"$f":"IF('DAV1'!B44=\"\",\"\",'DAV1'!B44)","v":""},{"$f":"IF('DAV1'!C44=\"\",\"\",'DAV1'!C44)","v":""},1,1,1,1,1,1,1,1,1,1,1,1,1,1,1,1,1,1,1,1,1,1,1,1,1,1,1,1,1,1,1,1,1,1,1,1,1,1,1,1,1,1,1,1,1,1,1,1,"GELİŞTİRİLMELİ"]
[{"$f":"IF('DAV1'!A45=\"\",\"\",'DAV1'!A45)","v":""},{"$f":"IF('DAV1'!B45=\"\",\"\",'DAV1'!B45)","v":""},{"$f":"IF('DAV1'!C45=\"\",\"\",'DAV1'!C45)","v":""},1,1,1,1,1,1,1,1,1,1,1,1,1,1,1,1,1,1,1,1,1,1,1,1,1,1,1,1,1,1,1,1,1,1,1,1,1,1,1,1,1,1,1,1,1,1,1,1,"GELİŞTİRİLMELİ"]
[{"$f":"IF('DAV1'!A46=\"\",\"\",'DAV1'!A46)","v":""},{"$f":"IF('DAV1'!B46=\"\",\"\",'DAV1'!B46)","v":""},{"$f":"IF('DAV1'!C46=\"\",\"\",'DAV1'!C46)","v":""},1,1,1,1,1,1,1,1,1,1,1,1,1,1,1,1,1,1,1,1,1,1,1,1,1,1,1,1,1,1,1,1,1,1,1,1,1,1,1,1,1,1,1,1,1,1,1,1,"GELİŞTİRİLMELİ"]
[{"$f":"IF('DAV1'!A47=\"\",\"\",'DAV1'!A47)","v":""},{"$f":"IF('DAV1'!B47=\"\",\"\",'DAV1'!B47)","v":""},{"$f":"IF('DAV1'!C47=\"\",\"\",'DAV1'!C47)","v":""},1,1,1,1,1,1,1,1,1,1,1,1,1,1,1,1,1,1,1,1,1,1,1,1,1,1,1,1,1,1,1,1,1,1,1,1,1,1,1,1,1,1,1,1,1,1,1,1,"GELİŞTİRİLMELİ"]
[{"$f":"IF('DAV1'!A48=\"\",\"\",'DAV1'!A48)","v":""},{"$f":"IF('DAV1'!B48=\"\",\"\",'DAV1'!B48)","v":""},{"$f":"IF('DAV1'!C48=\"\",\"\",'DAV1'!C48)","v":""},1,1,1,1,1,1,1,1,1,1,1,1,1,1,1,1,1,1,1,1,1,1,1,1,1,1,1,1,1,1,1,1,1,1,1,1,1,1,1,1,1,1,1,1,1,1,1,1,"GELİŞTİRİLMELİ"]
[{"$f":"IF('DAV1'!A49=\"\",\"\",'DAV1'!A49)","v":""},{"$f":"IF('DAV1'!B49=\"\",\"\",'DAV1'!B49)","v":""},{"$f":"IF('DAV1'!C49=\"\",\"\",'DAV1'!C49)","v":""},1,1,1,1,1,1,1,1,1,1,1,1,1,1,1,1,1,1,1,1,1,1,1,1,1,1,1,1,1,1,1,1,1,1,1,1,1,1,1,1,1,1,1,1,1,1,1,1,"GELİŞTİRİLMELİ"]
[{"$f":"IF('DAV1'!A50=\"\",\"\",'DAV1'!A50)","v":""},{"$f":"IF('DAV1'!B50=\"\",\"\",'DAV1'!B50)","v":""},{"$f":"IF('DAV1'!C50=\"\",\"\",'DAV1'!C50)","v":""},1,1,1,1,1,1,1,1,1,1,1,1,1,1,1,1,1,1,1,1,1,1,1,1,1,1,1,1,1,1,1,1,1,1,1,1,1,1,1,1,1,1,1,1,1,1,1,1,"GELİŞTİRİLMELİ"]
[{"$f":"IF('DAV1'!A51=\"\",\"\",'DAV1'!A51)","v":""},{"$f":"IF('DAV1'!B51=\"\",\"\",'DAV1'!B51)","v":""},{"$f":"IF('DAV1'!C51=\"\",\"\",'DAV1'!C51)","v":""},1,1,1,1,1,1,1,1,1,1,1,1,1,1,1,1,1,1,1,1,1,1,1,1,1,1,1,1,1,1,1,1,1,1,1,1,1,1,1,1,1,1,1,1,1,1,1,1,"GELİŞTİRİLMELİ"]
[{"$f":"IF('DAV1'!A52=\"\",\"\",'DAV1'!A52)","v":""},{"$f":"IF('DAV1'!B52=\"\",\"\",'DAV1'!B52)","v":""},{"$f":"IF('DAV1'!C52=\"\",\"\",'DAV1'!C52)","v":""},1,1,1,1,1,1,1,1,1,1,1,1,1,1,1,1,1,1,1,1,1,1,1,1,1,1,1,1,1,1,1,1,1,1,1,1,1,1,1,1,1,1,1,1,1,1,1,1,"GELİŞTİRİLMELİ"]
[{"$f":"IF('DAV1'!A53=\"\",\"\",'DAV1'!A53)","v":""},{"$f":"IF('DAV1'!B53=\"\",\"\",'DAV1'!B53)","v":""},{"$f":"IF('DAV1'!C53=\"\",\"\",'DAV1'!C53)","v":""},1,1,1,1,1,1,1,1,1,1,1,1,1,1,1,1,1,1,1,1,1,1,1,1,1,1,1,1,1,1,1,1,1,1,1,1,1,1,1,1,1,1,1,1,1,1,1,1,"GELİŞTİRİLMELİ"]
[{"$f":"IF('DAV1'!A54=\"\",\"\",'DAV1'!A54)","v":""},{"$f":"IF('DAV1'!B54=\"\",\"\",'DAV1'!B54)","v":""},{"$f":"IF('DAV1'!C54=\"\",\"\",'DAV1'!C54)","v":""},1,1,1,1,1,1,1,1,1,1,1,1,1,1,1,1,1,1,1,1,1,1,1,1,1,1,1,1,1,1,1,1,1,1,1,1,1,1,1,1,1,1,1,1,1,1,1,1,"GELİŞTİRİLMELİ"]
[{"$f":"IF('DAV1'!A55=\"\",\"\",'DAV1'!A55)","v":""},{"$f":"IF('DAV1'!B55=\"\",\"\",'DAV1'!B55)","v":""},{"$f":"IF('DAV1'!C55=\"\",\"\",'DAV1'!C55)","v":""},1,1,1,1,1,1,1,1,1,1,1,1,1,1,1,1,1,1,1,1,1,1,1,1,1,1,1,1,1,1,1,1,1,1,1,1,1,1,1,1,1,1,1,1,1,1,1,1,"GELİŞTİRİLMELİ"]
[{"$f":"IF('DAV1'!A56=\"\",\"\",'DAV1'!A56)","v":""},{"$f":"IF('DAV1'!B56=\"\",\"\",'DAV1'!B56)","v":""},{"$f":"IF('DAV1'!C56=\"\",\"\",'DAV1'!C56)","v":""},1,1,1,1,1,1,1,1,1,1,1,1,1,1,1,1,1,1,1,1,1,1,1,1,1,1,1,1,1,1,1,1,1,1,1,1,1,1,1,1,1,1,1,1,1,1,1,1,"GELİŞTİRİLMELİ"]
[{"$f":"IF('DAV1'!A57=\"\",\"\",'DAV1'!A57)","v":""},{"$f":"IF('DAV1'!B57=\"\",\"\",'DAV1'!B57)","v":""},{"$f":"IF('DAV1'!C57=\"\",\"\",'DAV1'!C57)","v":""},1,1,1,1,1,1,1,1,1,1,1,1,1,1,1,1,1,1,1,1,1,1,1,1,1,1,1,1,1,1,1,1,1,1,1,1,1,1,1,1,1,1,1,1,1,1,1,1,"GELİŞTİRİLMELİ"]
[{"$f":"IF('DAV1'!A58=\"\",\"\",'DAV1'!A58)","v":""},{"$f":"IF('DAV1'!B58=\"\",\"\",'DAV1'!B58)","v":""},{"$f":"IF('DAV1'!C58=\"\",\"\",'DAV1'!C58)","v":""},1,1,1,1,1,1,1,1,1,1,1,1,1,1,1,1,1,1,1,1,1,1,1,1,1,1,1,1,1,1,1,1,1,1,1,1,1,1,1,1,1,1,1,1,1,1,1,1,"GELİŞTİRİLMELİ"]
[{"$f":"IF('DAV1'!A59=\"\",\"\",'DAV1'!A59)","v":""},{"$f":"IF('DAV1'!B59=\"\",\"\",'DAV1'!B59)","v":""},{"$f":"IF('DAV1'!C59=\"\",\"\",'DAV1'!C59)","v":""},1,1,1,1,1,1,1,1,1,1,1,1,1,1,1,1,1,1,1,1,1,1,1,1,1,1,1,1,1,1,1,1,1,1,1,1,1,1,1,1,1,1,1,1,1,1,1,1,"GELİŞTİRİLMELİ"]
[{"$f":"IF('DAV1'!A60=\"\",\"\",'DAV1'!A60)","v":""},{"$f":"IF('DAV1'!B60=\"\",\"\",'DAV1'!B60)","v":""},{"$f":"IF('DAV1'!C60=\"\",\"\",'DAV1'!C60)","v":""},1,1,1,1,1,1,1,1,1,1,1,1,1,1,1,1,1,1,1,1,1,1,1,1,1,1,1,1,1,1,1,1,1,1,1,1,1,1,1,1,1,1,1,1,1,1,1,1,"GELİŞTİRİLMELİ"]
[{"$f":"IF('DAV1'!A61=\"\",\"\",'DAV1'!A61)","v":""},{"$f":"IF('DAV1'!B61=\"\",\"\",'DAV1'!B61)","v":""},{"$f":"IF('DAV1'!C61=\"\",\"\",'DAV1'!C61)","v":""},1,1,1,1,1,1,1,1,1,1,1,1,1,1,1,1,1,1,1,1,1,1,1,1,1,1,1,1,1,1,1,1,1,1,1,1,1,1,1,1,1,1,1,1,1,1,1,1,"GELİŞTİRİLMELİ"]
[{"$f":"IF('DAV1'!A62=\"\",\"\",'DAV1'!A62)","v":""},{"$f":"IF('DAV1'!B62=\"\",\"\",'DAV1'!B62)","v":""},{"$f":"IF('DAV1'!C62=\"\",\"\",'DAV1'!C62)","v":""},1,1,1,1,1,1,1,1,1,1,1,1,1,1,1,1,1,1,1,1,1,1,1,1,1,1,1,1,1,1,1,1,1,1,1,1,1,1,1,1,1,1,1,1,1,1,1,1,"GELİŞTİRİLMELİ"]
[{"$f":"IF('DAV1'!A63=\"\",\"\",'DAV1'!A63)","v":""},{"$f":"IF('DAV1'!B63=\"\",\"\",'DAV1'!B63)","v":""},{"$f":"IF('DAV1'!C63=\"\",\"\",'DAV1'!C63)","v":""},1,1,1,1,1,1,1,1,1,1,1,1,1,1,1,1,1,1,1,1,1,1,1,1,1,1,1,1,1,1,1,1,1,1,1,1,1,1,1,1,1,1,1,1,1,1,1,1,"GELİŞTİRİLMELİ"]
[{"$f":"IF('DAV1'!A64=\"\",\"\",'DAV1'!A64)","v":""},{"$f":"IF('DAV1'!B64=\"\",\"\",'DAV1'!B64)","v":""},{"$f":"IF('DAV1'!C64=\"\",\"\",'DAV1'!C64)","v":""},1,1,1,1,1,1,1,1,1,1,1,1,1,1,1,1,1,1,1,1,1,1,1,1,1,1,1,1,1,1,1,1,1,1,1,1,1,1,1,1,1,1,1,1,1,1,1,1,"GELİŞTİRİLMELİ"]
[{"$f":"IF('DAV1'!A65=\"\",\"\",'DAV1'!A65)","v":""},{"$f":"IF('DAV1'!B65=\"\",\"\",'DAV1'!B65)","v":""},{"$f":"IF('DAV1'!C65=\"\",\"\",'DAV1'!C65)","v":""},1,1,1,1,1,1,1,1,1,1,1,1,1,1,1,1,1,1,1,1,1,1,1,1,1,1,1,1,1,1,1,1,1,1,1,1,1,1,1,1,1,1,1,1,1,1,1,1,"GELİŞTİRİLMELİ"]
[{"$f":"IF('DAV1'!A66=\"\",\"\",'DAV1'!A66)","v":""},{"$f":"IF('DAV1'!B66=\"\",\"\",'DAV1'!B66)","v":""},{"$f":"IF('DAV1'!C66=\"\",\"\",'DAV1'!C66)","v":""},1,1,1,1,1,1,1,1,1,1,1,1,1,1,1,1,1,1,1,1,1,1,1,1,1,1,1,1,1,1,1,1,1,1,1,1,1,1,1,1,1,1,1,1,1,1,1,1,"GELİŞTİRİLMELİ"]
[{"$f":"IF('DAV1'!A67=\"\",\"\",'DAV1'!A67)","v":""},{"$f":"IF('DAV1'!B67=\"\",\"\",'DAV1'!B67)","v":""},{"$f":"IF('DAV1'!C67=\"\",\"\",'DAV1'!C67)","v":""},1,1,1,1,1,1,1,1,1,1,1,1,1,1,1,1,1,1,1,1,1,1,1,1,1,1,1,1,1,1,1,1,1,1,1,1,1,1,1,1,1,1,1,1,1,1,1,{"$f":"AVERAGE(D67:AX67)","v":1},{"$f":"IF(AY67=\"\",\"\",(IF(AY67>=2.5,\"ÇOK İYİ\",IF(AY67>=1.5,\"İYİ\",IF(AY67>=1,\"GELİŞTİRİLMELİ\")))))","v":"GELİŞTİRİLMELİ"}]
[{"$f":"IF('DAV1'!A68=\"\",\"\",'DAV1'!A68)","v":""},{"$f":"IF('DAV1'!B68=\"\",\"\",'DAV1'!B68)","v":""},{"$f":"IF('DAV1'!C68=\"\",\"\",'DAV1'!C68)","v":""},1,1,1,1,1,1,1,1,1,1,1,1,1,1,1,1,1,1,1,1,1,1,1,1,1,1,1,1,1,1,1,1,1,1,1,1,1,1,1,1,1,1,1,1,1,1,1,1,"GELİŞTİRİLMELİ"]
[{"$f":"IF('DAV1'!A69=\"\",\"\",'DAV1'!A69)","v":""},{"$f":"IF('DAV1'!B69=\"\",\"\",'DAV1'!B69)","v":""},{"$f":"IF('DAV1'!C69=\"\",\"\",'DAV1'!C69)","v":""},1,1,1,1,1,1,1,1,1,1,1,1,1,1,1,1,1,1,1,1,1,1,1,1,1,1,1,1,1,1,1,1,1,1,1,1,1,1,1,1,1,1,1,1,1,1,1,1,"GELİŞTİRİLMELİ"]
[{"$f":"IF('DAV1'!A70=\"\",\"\",'DAV1'!A70)","v":""},{"$f":"IF('DAV1'!B70=\"\",\"\",'DAV1'!B70)","v":""},{"$f":"IF('DAV1'!C70=\"\",\"\",'DAV1'!C70)","v":""},1,1,1,1,1,1,1,1,1,1,1,1,1,1,1,1,1,1,1,1,1,1,1,1,1,1,1,1,1,1,1,1,1,1,1,1,1,1,1,1,1,1,1,1,1,1,1,1,"GELİŞTİRİLMELİ"]
[{"$f":"IF('DAV1'!A71=\"\",\"\",'DAV1'!A71)","v":""},{"$f":"IF('DAV1'!B71=\"\",\"\",'DAV1'!B71)","v":""},{"$f":"IF('DAV1'!C71=\"\",\"\",'DAV1'!C71)","v":""},1,1,1,1,1,1,1,1,1,1,1,1,1,1,1,1,1,1,1,1,1,1,1,1,1,1,1,1,1,1,1,1,1,1,1,1,1,1,1,1,1,1,1,1,1,1,1,1,"GELİŞTİRİLMELİ"]
[{"$f":"IF('DAV1'!A72=\"\",\"\",'DAV1'!A72)","v":""},{"$f":"IF('DAV1'!B72=\"\",\"\",'DAV1'!B72)","v":""},{"$f":"IF('DAV1'!C72=\"\",\"\",'DAV1'!C72)","v":""},1,1,1,1,1,1,1,1,1,1,1,1,1,1,1,1,1,1,1,1,1,1,1,1,1,1,1,1,1,1,1,1,1,1,1,1,1,1,1,1,1,1,1,1,1,1,1,1,"GELİŞTİRİLMELİ"]
[{"$f":"IF('DAV1'!A73=\"\",\"\",'DAV1'!A73)","v":""},{"$f":"IF('DAV1'!B73=\"\",\"\",'DAV1'!B73)","v":""},{"$f":"IF('DAV1'!C73=\"\",\"\",'DAV1'!C73)","v":""},1,1,1,1,1,1,1,1,1,1,1,1,1,1,1,1,1,1,1,1,1,1,1,1,1,1,1,1,1,1,1,1,1,1,1,1,1,1,1,1,1,1,1,1,1,1,1,1,"GELİŞTİRİLMELİ"]
[{"$f":"IF('DAV1'!A74=\"\",\"\",'DAV1'!A74)","v":""},{"$f":"IF('DAV1'!B74=\"\",\"\",'DAV1'!B74)","v":""},{"$f":"IF('DAV1'!C74=\"\",\"\",'DAV1'!C74)","v":""},1,1,1,1,1,1,1,1,1,1,1,1,1,1,1,1,1,1,1,1,1,1,1,1,1,1,1,1,1,1,1,1,1,1,1,1,1,1,1,1,1,1,1,1,1,1,1,1,"GELİŞTİRİLMELİ"]
[{"$f":"IF('DAV1'!A75=\"\",\"\",'DAV1'!A75)","v":""},{"$f":"IF('DAV1'!B75=\"\",\"\",'DAV1'!B75)","v":""},{"$f":"IF('DAV1'!C75=\"\",\"\",'DAV1'!C75)","v":""},1,1,1,1,1,1,1,1,1,1,1,1,1,1,1,1,1,1,1,1,1,1,1,1,1,1,1,1,1,1,1,1,1,1,1,1,1,1,1,1,1,1,1,1,1,1,1,1,"GELİŞTİRİLMELİ"]
[{"$f":"IF('DAV1'!A76=\"\",\"\",'DAV1'!A76)","v":""},{"$f":"IF('DAV1'!B76=\"\",\"\",'DAV1'!B76)","v":""},{"$f":"IF('DAV1'!C76=\"\",\"\",'DAV1'!C76)","v":""},1,1,1,1,1,1,1,1,1,1,1,1,1,1,1,1,1,1,1,1,1,1,1,1,1,1,1,1,1,1,1,1,1,1,1,1,1,1,1,1,1,1,1,1,1,1,1,1,"GELİŞTİRİLMELİ"]
[{"$f":"IF('DAV1'!A77=\"\",\"\",'DAV1'!A77)","v":""},{"$f":"IF('DAV1'!B77=\"\",\"\",'DAV1'!B77)","v":""},{"$f":"IF('DAV1'!C77=\"\",\"\",'DAV1'!C77)","v":""},1,1,1,1,1,1,1,1,1,1,1,1,1,1,1,1,1,1,1,1,1,1,1,1,1,1,1,1,1,1,1,1,1,1,1,1,1,1,1,1,1,1,1,1,1,1,1,1,"GELİŞTİRİLMELİ"]
[{"$f":"IF('DAV1'!A78=\"\",\"\",'DAV1'!A78)","v":""},{"$f":"IF('DAV1'!B78=\"\",\"\",'DAV1'!B78)","v":""},{"$f":"IF('DAV1'!C78=\"\",\"\",'DAV1'!C78)","v":""},1,1,1,1,1,1,1,1,1,1,1,1,1,1,1,1,1,1,1,1,1,1,1,1,1,1,1,1,1,1,1,1,1,1,1,1,1,1,1,1,1,1,1,1,1,1,1,1,"GELİŞTİRİLMELİ"]
[{"$f":"IF('DAV1'!A79=\"\",\"\",'DAV1'!A79)","v":""},{"$f":"IF('DAV1'!B79=\"\",\"\",'DAV1'!B79)","v":""},{"$f":"IF('DAV1'!C79=\"\",\"\",'DAV1'!C79)","v":""},1,1,1,1,1,1,1,1,1,1,1,1,1,1,1,1,1,1,1,1,1,1,1,1,1,1,1,1,1,1,1,1,1,1,1,1,1,1,1,1,1,1,1,1,1,1,1,1,"GELİŞTİRİLMELİ"]
[{"$f":"IF('DAV1'!A80=\"\",\"\",'DAV1'!A80)","v":""},{"$f":"IF('DAV1'!B80=\"\",\"\",'DAV1'!B80)","v":""},{"$f":"IF('DAV1'!C80=\"\",\"\",'DAV1'!C80)","v":""},1,1,1,1,1,1,1,1,1,1,1,1,1,1,1,1,1,1,1,1,1,1,1,1,1,1,1,1,1,1,1,1,1,1,1,1,1,1,1,1,1,1,1,1,1,1,1,1,"GELİŞTİRİLMELİ"]
[{"$f":"IF('DAV1'!A81=\"\",\"\",'DAV1'!A81)","v":""},{"$f":"IF('DAV1'!B81=\"\",\"\",'DAV1'!B81)","v":""},{"$f":"IF('DAV1'!C81=\"\",\"\",'DAV1'!C81)","v":""},1,1,1,1,1,1,1,1,1,1,1,1,1,1,1,1,1,1,1,1,1,1,1,1,1,1,1,1,1,1,1,1,1,1,1,1,1,1,1,1,1,1,1,1,1,1,1,1,"GELİŞTİRİLMELİ"]
[{"$f":"IF('DAV1'!A82=\"\",\"\",'DAV1'!A82)","v":""},{"$f":"IF('DAV1'!B82=\"\",\"\",'DAV1'!B82)","v":""},{"$f":"IF('DAV1'!C82=\"\",\"\",'DAV1'!C82)","v":""},1,1,1,1,1,1,1,1,1,1,1,1,1,1,1,1,1,1,1,1,1,1,1,1,1,1,1,1,1,1,1,1,1,1,1,1,1,1,1,1,1,1,1,1,1,1,1,1,"GELİŞTİRİLMELİ"]
[{"$f":"IF('DAV1'!A83=\"\",\"\",'DAV1'!A83)","v":""},{"$f":"IF('DAV1'!B83=\"\",\"\",'DAV1'!B83)","v":""},{"$f":"IF('DAV1'!C83=\"\",\"\",'DAV1'!C83)","v":""},1,1,1,1,1,1,1,1,1,1,1,1,1,1,1,1,1,1,1,1,1,1,1,1,1,1,1,1,1,1,1,1,1,1,1,1,1,1,1,1,1,1,1,1,1,1,1,1,"GELİŞTİRİLMELİ"]
[{"$f":"IF('DAV1'!A84=\"\",\"\",'DAV1'!A84)","v":""},{"$f":"IF('DAV1'!B84=\"\",\"\",'DAV1'!B84)","v":""},{"$f":"IF('DAV1'!C84=\"\",\"\",'DAV1'!C84)","v":""},1,1,1,1,1,1,1,1,1,1,1,1,1,1,1,1,1,1,1,1,1,1,1,1,1,1,1,1,1,1,1,1,1,1,1,1,1,1,1,1,1,1,1,1,1,1,1,1,"GELİŞTİRİLMELİ"]
[{"$f":"IF('DAV1'!A85=\"\",\"\",'DAV1'!A85)","v":""},{"$f":"IF('DAV1'!B85=\"\",\"\",'DAV1'!B85)","v":""},{"$f":"IF('DAV1'!C85=\"\",\"\",'DAV1'!C85)","v":""},1,1,1,1,1,1,1,1,1,1,1,1,1,1,1,1,1,1,1,1,1,1,1,1,1,1,1,1,1,1,1,1,1,1,1,1,1,1,1,1,1,1,1,1,1,1,1,1,"GELİŞTİRİLMELİ"]
[{"$f":"IF('DAV1'!A86=\"\",\"\",'DAV1'!A86)","v":""},{"$f":"IF('DAV1'!B86=\"\",\"\",'DAV1'!B86)","v":""},{"$f":"IF('DAV1'!C86=\"\",\"\",'DAV1'!C86)","v":""},1,1,1,1,1,1,1,1,1,1,1,1,1,1,1,1,1,1,1,1,1,1,1,1,1,1,1,1,1,1,1,1,1,1,1,1,1,1,1,1,1,1,1,1,1,1,1,1,"GELİŞTİRİLMELİ"]
[{"$f":"IF('DAV1'!A87=\"\",\"\",'DAV1'!A87)","v":""},{"$f":"IF('DAV1'!B87=\"\",\"\",'DAV1'!B87)","v":""},{"$f":"IF('DAV1'!C87=\"\",\"\",'DAV1'!C87)","v":""},1,1,1,1,1,1,1,1,1,1,1,1,1,1,1,1,1,1,1,1,1,1,1,1,1,1,1,1,1,1,1,1,1,1,1,1,1,1,1,1,1,1,1,1,1,1,1,1,"GELİŞTİRİLMELİ"]
[{"$f":"IF('DAV1'!A88=\"\",\"\",'DAV1'!A88)","v":""},{"$f":"IF('DAV1'!B88=\"\",\"\",'DAV1'!B88)","v":""},{"$f":"IF('DAV1'!C88=\"\",\"\",'DAV1'!C88)","v":""},1,1,1,1,1,1,1,1,1,1,1,1,1,1,1,1,1,1,1,1,1,1,1,1,1,1,1,1,1,1,1,1,1,1,1,1,1,1,1,1,1,1,1,1,1,1,1,1,"GELİŞTİRİLMELİ"]
[{"$f":"IF('DAV1'!A89=\"\",\"\",'DAV1'!A89)","v":""},{"$f":"IF('DAV1'!B89=\"\",\"\",'DAV1'!B89)","v":""},{"$f":"IF('DAV1'!C89=\"\",\"\",'DAV1'!C89)","v":""},1,1,1,1,1,1,1,1,1,1,1,1,1,1,1,1,1,1,1,1,1,1,1,1,1,1,1,1,1,1,1,1,1,1,1,1,1,1,1,1,1,1,1,1,1,1,1,1,"GELİŞTİRİLMELİ"]
[{"$f":"IF('DAV1'!A90=\"\",\"\",'DAV1'!A90)","v":""},{"$f":"IF('DAV1'!B90=\"\",\"\",'DAV1'!B90)","v":""},{"$f":"IF('DAV1'!C90=\"\",\"\",'DAV1'!C90)","v":""},1,1,1,1,1,1,1,1,1,1,1,1,1,1,1,1,1,1,1,1,1,1,1,1,1,1,1,1,1,1,1,1,1,1,1,1,1,1,1,1,1,1,1,1,1,1,1,1,"GELİŞTİRİLMELİ"]
[{"$f":"IF('DAV1'!A91=\"\",\"\",'DAV1'!A91)","v":""},{"$f":"IF('DAV1'!B91=\"\",\"\",'DAV1'!B91)","v":""},{"$f":"IF('DAV1'!C91=\"\",\"\",'DAV1'!C91)","v":""},1,1,1,1,1,1,1,1,1,1,1,1,1,1,1,1,1,1,1,1,1,1,1,1,1,1,1,1,1,1,1,1,1,1,1,1,1,1,1,1,1,1,1,1,1,1,1,1,"GELİŞTİRİLMELİ"]
[{"$f":"IF('DAV1'!A92=\"\",\"\",'DAV1'!A92)","v":""},{"$f":"IF('DAV1'!B92=\"\",\"\",'DAV1'!B92)","v":""},{"$f":"IF('DAV1'!C92=\"\",\"\",'DAV1'!C92)","v":""},1,1,1,1,1,1,1,1,1,1,1,1,1,1,1,1,1,1,1,1,1,1,1,1,1,1,1,1,1,1,1,1,1,1,1,1,1,1,1,1,1,1,1,1,1,1,1,1,"GELİŞTİRİLMELİ"]
[{"$f":"IF('DAV1'!A93=\"\",\"\",'DAV1'!A93)","v":""},{"$f":"IF('DAV1'!B93=\"\",\"\",'DAV1'!B93)","v":""},{"$f":"IF('DAV1'!C93=\"\",\"\",'DAV1'!C93)","v":""},1,1,1,1,1,1,1,1,1,1,1,1,1,1,1,1,1,1,1,1,1,1,1,1,1,1,1,1,1,1,1,1,1,1,1,1,1,1,1,1,1,1,1,1,1,1,1,1,"GELİŞTİRİLMELİ"]
[{"$f":"IF('DAV1'!A94=\"\",\"\",'DAV1'!A94)","v":""},{"$f":"IF('DAV1'!B94=\"\",\"\",'DAV1'!B94)","v":""},{"$f":"IF('DAV1'!C94=\"\",\"\",'DAV1'!C94)","v":""},1,1,1,1,1,1,1,1,1,1,1,1,1,1,1,1,1,1,1,1,1,1,1,1,1,1,1,1,1,1,1,1,1,1,1,1,1,1,1,1,1,1,1,1,1,1,1,1,"GELİŞTİRİLMELİ"]
[{"$f":"IF('DAV1'!A95=\"\",\"\",'DAV1'!A95)","v":""},{"$f":"IF('DAV1'!B95=\"\",\"\",'DAV1'!B95)","v":""},{"$f":"IF('DAV1'!C95=\"\",\"\",'DAV1'!C95)","v":""},1,1,1,1,1,1,1,1,1,1,1,1,1,1,1,1,1,1,1,1,1,1,1,1,1,1,1,1,1,1,1,1,1,1,1,1,1,1,1,1,1,1,1,1,1,1,1,1,"GELİŞTİRİLMELİ"]
[{"$f":"IF('DAV1'!A96=\"\",\"\",'DAV1'!A96)","v":""},{"$f":"IF('DAV1'!B96=\"\",\"\",'DAV1'!B96)","v":""},{"$f":"IF('DAV1'!C96=\"\",\"\",'DAV1'!C96)","v":""},1,1,1,1,1,1,1,1,1,1,1,1,1,1,1,1,1,1,1,1,1,1,1,1,1,1,1,1,1,1,1,1,1,1,1,1,1,1,1,1,1,1,1,1,1,1,1,1,"GELİŞTİRİLMELİ"]
[{"$f":"IF('DAV1'!A97=\"\",\"\",'DAV1'!A97)","v":""},{"$f":"IF('DAV1'!B97=\"\",\"\",'DAV1'!B97)","v":""},{"$f":"IF('DAV1'!C97=\"\",\"\",'DAV1'!C97)","v":""},1,1,1,1,1,1,1,1,1,1,1,1,1,1,1,1,1,1,1,1,1,1,1,1,1,1,1,1,1,1,1,1,1,1,1,1,1,1,1,1,1,1,1,1,1,1,1,1,"GELİŞTİRİLMELİ"]
[{"$f":"IF('DAV1'!A98=\"\",\"\",'DAV1'!A98)","v":""},{"$f":"IF('DAV1'!B98=\"\",\"\",'DAV1'!B98)","v":""},{"$f":"IF('DAV1'!C98=\"\",\"\",'DAV1'!C98)","v":""},1,1,1,1,1,1,1,1,1,1,1,1,1,1,1,1,1,1,1,1,1,1,1,1,1,1,1,1,1,1,1,1,1,1,1,1,1,1,1,1,1,1,1,1,1,1,1,1,"GELİŞTİRİLMELİ"]
[{"$f":"IF('DAV1'!A99=\"\",\"\",'DAV1'!A99)","v":""},{"$f":"IF('DAV1'!B99=\"\",\"\",'DAV1'!B99)","v":""},{"$f":"IF('DAV1'!C99=\"\",\"\",'DAV1'!C99)","v":""},1,1,1,1,1,1,1,1,1,1,1,1,1,1,1,1,1,1,1,1,1,1,1,1,1,1,1,1,1,1,1,1,1,1,1,1,1,1,1,1,1,1,1,1,1,1,1,{"$f":"AVERAGE(D99:AX99)","v":1},"GELİŞTİRİLMELİ"]
[{"$f":"IF('DAV1'!A100=\"\",\"\",'DAV1'!A100)","v":""},{"$f":"IF('DAV1'!B100=\"\",\"\",'DAV1'!B100)","v":""},{"$f":"IF('DAV1'!C100=\"\",\"\",'DAV1'!C100)","v":""},1,1,1,1,1,1,1,1,1,1,1,1,1,1,1,1,1,1,1,1,1,1,1,1,1,1,1,1,1,1,1,1,1,1,1,1,1,1,1,1,1,1,1,1,1,1,1,1,"GELİŞTİRİLMELİ"]
[{"$f":"IF('DAV1'!A101=\"\",\"\",'DAV1'!A101)","v":""},{"$f":"IF('DAV1'!B101=\"\",\"\",'DAV1'!B101)","v":""},{"$f":"IF('DAV1'!C101=\"\",\"\",'DAV1'!C101)","v":""},1,1,1,1,1,1,1,1,1,1,1,1,1,1,1,1,1,1,1,1,1,1,1,1,1,1,1,1,1,1,1,1,1,1,1,1,1,1,1,1,1,1,1,1,1,1,1,1,"GELİŞTİRİLMELİ"]
[{"$f":"IF('DAV1'!A102=\"\",\"\",'DAV1'!A102)","v":""},{"$f":"IF('DAV1'!B102=\"\",\"\",'DAV1'!B102)","v":""},{"$f":"IF('DAV1'!C102=\"\",\"\",'DAV1'!C102)","v":""},1,1,1,1,1,1,1,1,1,1,1,1,1,1,1,1,1,1,1,1,1,1,1,1,1,1,1,1,1,1,1,1,1,1,1,1,1,1,1,1,1,1,1,1,1,1,1,1,"GELİŞTİRİLMELİ"]
[]
[1,1,1,1,1,1,1,1,1,1,1,1,1,1,1,1,1,1,1,1,1,1,1,1,1,1,1,1,1,1,1,1,1,1,1,1,1,1,1,1,1,1,1,1,1,1,1,1,1,1,1,1,1,1,1,1,1,1,1,1,1,1,1,1,1,1,1,1,1,1,1,1,1,1,1,1,1,1,1,1,1,1,1,1,1,1,1,1,1,1,1,1,1,1,1,1,1,1,1,1]
[2,2,2,2,2,2,2,2,2,2,2,2,2,2,2,2,2,2,2,2,2,2,2,2,2,2,2,2,2,2,2,2,2,2,2,2,2,2,2,2,2,2,2,2,2,2,2,2,2,2,2,2,2,2,2,2,2,2,2,2,2,2,2,2,2,2,2,2,2,2,2,2,2,2,2,2,2,2,2,2,2,2,2,2,2,2,2,2,2,2,2,2,2,2,2,2,2,2,2,2]
[3,3,3,3,3,3,3,3,3,3,3,3,3,3,3,3,3,3,3,3,3,3,3,3,3,3,3,3,3,3,3,3,3,3,3,3,3,3,3,3,3,3,3,3,3,3,3,3,3,3,3,3,3,3,3,3,3,3,3,3,3,3,3,3,3,3,3,3,3,3,3,3,3,3,3,3,3,3,3,3,3,3,3,3,3,3,3,3,3,3,3,3,3,3,3,3,3,3,3,3]
[4,4,4,4,4,4,4,4,4,4,4,4,4,4,4,4,4,4,4,4,4,4,4,4,4,4,4,4,4,4,4,4,4,4,4,4,4,4,4,4,4,4,4,4,4,4,4,4,4,4,4,4,4,4,4,4,4,4,4,4,4,4,4,4,4,4,4,4,4,4,4,4,4,4,4,4,4,4,4,4,4,4,4,4,4,4,4,4,4,4,4,4,4,4,4,4,4,4,4,4]

{"sheet":"GS2.1","index":12,"n_rows":107,"n_cols":100,"rows_kept":107,"cut":false,"hidden":false,"merged":[[0,0,0,2],[0,10,1,10],[0,11,1,11],[1,3,1,9]]}
["GÖRSEL SANATLAR\n1. DÖNEM",null,null,"G.1.1.1. Görsel sanat çalışmalarını oluştururken uygulama basamaklarını ifade eder. ","G.1.1.2. Görsel sanat çalışmalarında farklı materyal, malzeme, gereç ve teknikleri kullanır.","G.1.1.3. Duygu ve düşüncelerini görsel sanat çalışmasına yansıtır.","G.1.1.4. Görsel sanat çalışmalarını temalardan, konulardan, fikirlerden, şiirlerden, hikâyelerden esinlenerek oluşturur.","G.1.1.5. İki boyutlu yüzey üzerinde biçimleri düzenler.","G.1.1.6. Görsel sanat çalışmasında figür-mekân ilişkisini ifade eder.","G.1.1.7. Görsel sanat çalışmasında büyüklük-küçüklük ilişkilerini kullanır.","ORTALAMA","DEĞERLENDİRME SONUCU"]
["SIRA","OKUL NO","ADI SOYADI","GÖRSEL İLETİŞİM VE BİÇİMLENDİRME"]
[{"$f":"IF('DAV1'!A3=\"\",\"\",'DAV1'!A3)","v":1},{"$f":"IF('DAV1'!B3=\"\",\"\",'DAV1'!B3)","v":11},{"$f":"IF('DAV1'!C3=\"\",\"\",'DAV1'!C3)","v":"KAYRA ÇINAR ERGÜN"},1,1,1,1,1,1,1,{"$f":"AVERAGE(D3:J3)","v":1},{"$f":"IF(K3=\"\",\"\",(IF(K3>=2.5,\"ÇOK İYİ\",IF(K3>=1.5,\"İYİ\",IF(K3>=1,\"GELİŞTİRİLMELİ\")))))","v":"GELİŞTİRİLMELİ"}]
[{"$f":"IF('DAV1'!A4=\"\",\"\",'DAV1'!A4)","v":2},{"$f":"IF('DAV1'!B4=\"\",\"\",'DAV1'!B4)","v":35},{"$f":"IF('DAV1'!C4=\"\",\"\",'DAV1'!C4)","v":"FURKAN SOLMAZ"},1,1,1,1,1,1,1,1,"GELİŞTİRİLMELİ"]
[{"$f":"IF('DAV1'!A5=\"\",\"\",'DAV1'!A5)","v":3},{"$f":"IF('DAV1'!B5=\"\",\"\",'DAV1'!B5)","v":53},{"$f":"IF('DAV1'!C5=\"\",\"\",'DAV1'!C5)","v":"İLKNUR MUMCU"},1,1,1,1,1,1,1,1,"GELİŞTİRİLMELİ"]
[{"$f":"IF('DAV1'!A6=\"\",\"\",'DAV1'!A6)","v":4},{"$f":"IF('DAV1'!B6=\"\",\"\",'DAV1'!B6)","v":83},{"$f":"IF('DAV1'!C6=\"\",\"\",'DAV1'!C6)","v":"MUHAMMET ALİ YILDIRIM"},1,1,1,1,1,1,1,1,"GELİŞTİRİLMELİ"]
[{"$f":"IF('DAV1'!A7=\"\",\"\",'DAV1'!A7)","v":5},{"$f":"IF('DAV1'!B7=\"\",\"\",'DAV1'!B7)","v":93},{"$f":"IF('DAV1'!C7=\"\",\"\",'DAV1'!C7)","v":"ERTUĞRUL GAZİ NAMLI"},1,1,1,1,1,1,1,1,"GELİŞTİRİLMELİ"]
[{"$f":"IF('DAV1'!A8=\"\",\"\",'DAV1'!A8)","v":6},{"$f":"IF('DAV1'!B8=\"\",\"\",'DAV1'!B8)","v":100},{"$f":"IF('DAV1'!C8=\"\",\"\",'DAV1'!C8)","v":"ECEM EFE"},1,1,1,1,1,1,1,1,"GELİŞTİRİLMELİ"]
[{"$f":"IF('DAV1'!A9=\"\",\"\",'DAV1'!A9)","v":7},{"$f":"IF('DAV1'!B9=\"\",\"\",'DAV1'!B9)","v":105},{"$f":"IF('DAV1'!C9=\"\",\"\",'DAV1'!C9)","v":"SELİM ZEKERİYA ÖZDEMİR"},1,1,1,1,1,1,1,1,"GELİŞTİRİLMELİ"]
[{"$f":"IF('DAV1'!A10=\"\",\"\",'DAV1'!A10)","v":8},{"$f":"IF('DAV1'!B10=\"\",\"\",'DAV1'!B10)","v":108},{"$f":"IF('DAV1'!C10=\"\",\"\",'DAV1'!C10)","v":"AREN KARAKAŞ"},1,1,1,1,1,1,1,1,"GELİŞTİRİLMELİ"]
[{"$f":"IF('DAV1'!A11=\"\",\"\",'DAV1'!A11)","v":9},{"$f":"IF('DAV1'!B11=\"\",\"\",'DAV1'!B11)","v":111},{"$f":"IF('DAV1'!C11=\"\",\"\",'DAV1'!C11)","v":"ZEHRA ŞAHİNOĞLU"},1,1,1,1,1,1,1,1,"GELİŞTİRİLMELİ"]
[{"$f":"IF('DAV1'!A12=\"\",\"\",'DAV1'!A12)","v":10},{"$f":"IF('DAV1'!B12=\"\",\"\",'DAV1'!B12)","v":113},{"$f":"IF('DAV1'!C12=\"\",\"\",'DAV1'!C12)","v":"YUSUF ALİ TÜNÇ"},1,1,1,1,1,1,1,1,"GELİŞTİRİLMELİ"]
[{"$f":"IF('DAV1'!A13=\"\",\"\",'DAV1'!A13)","v":11},{"$f":"IF('DAV1'!B13=\"\",\"\",'DAV1'!B13)","v":161},{"$f":"IF('DAV1'!C13=\"\",\"\",'DAV1'!C13)","v":"HÜSEYİN CELAYİR"},1,1,1,1,1,1,1,1,"GELİŞTİRİLMELİ"]
[{"$f":"IF('DAV1'!A14=\"\",\"\",'DAV1'!A14)","v":12},{"$f":"IF('DAV1'!B14=\"\",\"\",'DAV1'!B14)","v":177},{"$f":"IF('DAV1'!C14=\"\",\"\",'DAV1'!C14)","v":"YİĞİT EFE YEŞİLDAL"},1,1,1,1,1,1,1,1,"GELİŞTİRİLMELİ"]
[{"$f":"IF('DAV1'!A15=\"\",\"\",'DAV1'!A15)","v":13},{"$f":"IF('DAV1'!B15=\"\",\"\",'DAV1'!B15)","v":187},{"$f":"IF('DAV1'!C15=\"\",\"\",'DAV1'!C15)","v":"HALEF TAHA ATEŞ"},1,1,1,1,1,1,1,1,"GELİŞTİRİLMELİ"]
[{"$f":"IF('DAV1'!A16=\"\",\"\",'DAV1'!A16)","v":14},{"$f":"IF('DAV1'!B16=\"\",\"\",'DAV1'!B16)","v":188},{"$f":"IF('DAV1'!C16=\"\",\"\",'DAV1'!C16)","v":"EMİRHAN MERTOĞLU"},1,1,1,1,1,1,1,1,"GELİŞTİRİLMELİ"]
[{"$f":"IF('DAV1'!A17=\"\",\"\",'DAV1'!A17)","v":15},{"$f":"IF('DAV1'!B17=\"\",\"\",'DAV1'!B17)","v":189},{"$f":"IF('DAV1'!C17=\"\",\"\",'DAV1'!C17)","v":"EMİNE GÜVEN"},1,1,1,1,1,1,1,1,"GELİŞTİRİLMELİ"]
[{"$f":"IF('DAV1'!A18=\"\",\"\",'DAV1'!A18)","v":16},{"$f":"IF('DAV1'!B18=\"\",\"\",'DAV1'!B18)","v":213},{"$f":"IF('DAV1'!C18=\"\",\"\",'DAV1'!C18)","v":"YAĞMUR KILIÇ"},1,1,1,1,1,1,1,1,"GELİŞTİRİLMELİ"]
[{"$f":"IF('DAV1'!A19=\"\",\"\",'DAV1'!A19)","v":17},{"$f":"IF('DAV1'!B19=\"\",\"\",'DAV1'!B19)","v":214},{"$f":"IF('DAV1'!C19=\"\",\"\",'DAV1'!C19)","v":"ERDAL GÜLATAR"},1,1,1,1,1,1,1,1,"GELİŞTİRİLMELİ"]
[{"$f":"IF('DAV1'!A20=\"\",\"\",'DAV1'!A20)","v":18},{"$f":"IF('DAV1'!B20=\"\",\"\",'DAV1'!B20)","v":216},{"$f":"IF('DAV1'!C20=\"\",\"\",'DAV1'!C20)","v":"GAMZE ACAR"},1,1,1,1,1,1,1,1,"GELİŞTİRİLMELİ"]
[{"$f":"IF('DAV1'!A21=\"\",\"\",'DAV1'!A21)","v":19},{"$f":"IF('DAV1'!B21=\"\",\"\",'DAV1'!B21)","v":222},{"$f":"IF('DAV1'!C21=\"\",\"\",'DAV1'!C21)","v":"HİRANUR DOĞANDEMİR"},1,1,1,1,1,1,1,1,"GELİŞTİRİLMELİ"]
[{"$f":"IF('DAV1'!A22=\"\",\"\",'DAV1'!A22)","v":20},{"$f":"IF('DAV1'!B22=\"\",\"\",'DAV1'!B22)","v":224},{"$f":"IF('DAV1'!C22=\"\",\"\",'DAV1'!C22)","v":"TALHA YILMAZ"},1,1,1,1,1,1,1,1,"GELİŞTİRİLMELİ"]
[{"$f":"IF('DAV1'!A23=\"\",\"\",'DAV1'!A23)","v":21},{"$f":"IF('DAV1'!B23=\"\",\"\",'DAV1'!B23)","v":225},{"$f":"IF('DAV1'!C23=\"\",\"\",'DAV1'!C23)","v":"YUSUF EMİR DAĞDÖGEN"},1,1,1,1,1,1,1,1,"GELİŞTİRİLMELİ"]
[{"$f":"IF('DAV1'!A24=\"\",\"\",'DAV1'!A24)","v":22},{"$f":"IF('DAV1'!B24=\"\",\"\",'DAV1'!B24)","v":226},{"$f":"IF('DAV1'!C24=\"\",\"\",'DAV1'!C24)","v":"İMREN CANPOLAT"},1,1,1,1,1,1,1,1,"GELİŞTİRİLMELİ"]
[{"$f":"IF('DAV1'!A25=\"\",\"\",'DAV1'!A25)","v":23},{"$f":"IF('DAV1'!B25=\"\",\"\",'DAV1'!B25)","v":227},{"$f":"IF('DAV1'!C25=\"\",\"\",'DAV1'!C25)","v":"ZEYNEP CANPOLAT"},1,1,1,1,1,1,1,1,"GELİŞTİRİLMELİ"]
[{"$f":"IF('DAV1'!A26=\"\",\"\",'DAV1'!A26)","v":24},{"$f":"IF('DAV1'!B26=\"\",\"\",'DAV1'!B26)","v":229},{"$f":"IF('DAV1'!C26=\"\",\"\",'DAV1'!C26)","v":"MERYEM PARMAK"},1,1,1,1,1,1,1,1,"GELİŞTİRİLMELİ"]
[{"$f":"IF('DAV1'!A27=\"\",\"\",'DAV1'!A27)","v":25},{"$f":"IF('DAV1'!B27=\"\",\"\",'DAV1'!B27)","v":237},{"$f":"IF('DAV1'!C27=\"\",\"\",'DAV1'!C27)","v":"ZEYNEP MİRAY BOYRAZ"},1,1,1,1,1,1,1,1,"GELİŞTİRİLMELİ"]
[{"$f":"IF('DAV1'!A28=\"\",\"\",'DAV1'!A28)","v":26},{"$f":"IF('DAV1'!B28=\"\",\"\",'DAV1'!B28)","v":244},{"$f":"IF('DAV1'!C28=\"\",\"\",'DAV1'!C28)","v":"TAMER ŞEKERCİLEROĞLU"},1,1,1,1,1,1,1,1,"GELİŞTİRİLMELİ"]
[{"$f":"IF('DAV1'!A29=\"\",\"\",'DAV1'!A29)","v":27},{"$f":"IF('DAV1'!B29=\"\",\"\",'DAV1'!B29)","v":263},{"$f":"IF('DAV1'!C29=\"\",\"\",'DAV1'!C29)","v":"MUHAMMED YUSUF YILMAZ"},1,1,1,1,1,1,1,1,"GELİŞTİRİLMELİ"]
[{"$f":"IF('DAV1'!A30=\"\",\"\",'DAV1'!A30)","v":28},{"$f":"IF('DAV1'!B30=\"\",\"\",'DAV1'!B30)","v":264},{"$f":"IF('DAV1'!C30=\"\",\"\",'DAV1'!C30)","v":"OĞUZHAN GÜRGÜZE"},1,1,1,1,1,1,1,1,"GELİŞTİRİLMELİ"]
[{"$f":"IF('DAV1'!A31=\"\",\"\",'DAV1'!A31)","v":29},{"$f":"IF('DAV1'!B31=\"\",\"\",'DAV1'!B31)","v":279},{"$f":"IF('DAV1'!C31=\"\",\"\",'DAV1'!C31)","v":"MİHRİMA EKİCİ"},1,1,1,1,1,1,1,1,"GELİŞTİRİLMELİ"]
[{"$f":"IF('DAV1'!A32=\"\",\"\",'DAV1'!A32)","v":30},{"$f":"IF('DAV1'!B32=\"\",\"\",'DAV1'!B32)","v":290},{"$f":"IF('DAV1'!C32=\"\",\"\",'DAV1'!C32)","v":"NİSA NUR YILDIZ"},1,1,1,1,1,1,1,1,"GELİŞTİRİLMELİ"]
[{"$f":"IF('DAV1'!A33=\"\",\"\",'DAV1'!A33)","v":31},{"$f":"IF('DAV1'!B33=\"\",\"\",'DAV1'!B33)","v":293},{"$f":"IF('DAV1'!C33=\"\",\"\",'DAV1'!C33)","v":"MEHMET ALATAŞ"},1,1,1,1,1,1,1,1,"GELİŞTİRİLMELİ"]
[{"$f":"IF('DAV1'!A34=\"\",\"\",'DAV1'!A34)","v":32},{"$f":"IF('DAV1'!B34=\"\",\"\",'DAV1'!B34)","v":451},{"$f":"IF('DAV1'!C34=\"\",\"\",'DAV1'!C34)","v":"İKRA YILDIRIM"},1,1,1,1,1,1,1,1,"GELİŞTİRİLMELİ"]
[{"$f":"IF('DAV1'!A35=\"\",\"\",'DAV1'!A35)","v":33},{"$f":"IF('DAV1'!B35=\"\",\"\",'DAV1'!B35)","v":616},{"$f":"IF('DAV1'!C35=\"\",\"\",'DAV1'!C35)","v":"EDA TURAL"},1,1,1,1,1,1,1,{"$f":"AVERAGE(D35:J35)","v":1},"GELİŞTİRİLMELİ"]
[{"$f":"IF('DAV1'!A36=\"\",\"\",'DAV1'!A36)","v":34},{"$f":"IF('DAV1'!B36=\"\",\"\",'DAV1'!B36)","v":892},{"$f":"IF('DAV1'!C36=\"\",\"\",'DAV1'!C36)","v":"ALMA ALRAMADAN"},1,1,1,1,1,1,1,1,"GELİŞTİRİLMELİ"]
[{"$f":"IF('DAV1'!A37=\"\",\"\",'DAV1'!A37)","v":35},{"$f":"IF('DAV1'!B37=\"\",\"\",'DAV1'!B37)","v":1000},{"$f":"IF('DAV1'!C37=\"\",\"\",'DAV1'!C37)","v":"TURGUT POLAT"},1,1,1,1,1,1,1,1,{"$f":"IF(K37=\"\",\"\",(IF(K37>=2.5,\"ÇOK İYİ\",IF(K37>=1.5,\"İYİ\",IF(K37>=1,\"GELİŞTİRİLMELİ\")))))","v":"GELİŞTİRİLMELİ"}]
[{"$f":"IF('DAV1'!A38=\"\",\"\",'DAV1'!A38)","v":""},{"$f":"IF('DAV1'!B38=\"\",\"\",'DAV1'!B38)","v":""},{"$f":"IF('DAV1'!C38=\"\",\"\",'DAV1'!C38)","v":""},1,1,1,1,1,1,1,1,"GELİŞTİRİLMELİ"]
[{"$f":"IF('DAV1'!A39=\"\",\"\",'DAV1'!A39)","v":""},{"$f":"IF('DAV1'!B39=\"\",\"\",'DAV1'!B39)","v":""},{"$f":"IF('DAV1'!C39=\"\",\"\",'DAV1'!C39)","v":""},1,1,1,1,1,1,1,1,"GELİŞTİRİLMELİ"]
[{"$f":"IF('DAV1'!A40=\"\",\"\",'DAV1'!A40)","v":""},{"$f":"IF('DAV1'!B40=\"\",\"\",'DAV1'!B40)","v":""},{"$f":"IF('DAV1'!C40=\"\",\"\",'DAV1'!C40)","v":""},1,1,1,1,1,1,1,1,"GELİŞTİRİLMELİ"]
[{"$f":"IF('DAV1'!A41=\"\",\"\",'DAV1'!A41)","v":""},{"$f":"IF('DAV1'!B41=\"\",\"\",'DAV1'!B41)","v":""},{"$f":"IF('DAV1'!C41=\"\",\"\",'DAV1'!C41)","v":""},1,1,1,1,1,1,1,1,"GELİŞTİRİLMELİ"]
[{"$f":"IF('DAV1'!A42=\"\",\"\",'DAV1'!A42)","v":""},{"$f":"IF('DAV1'!B42=\"\",\"\",'DAV1'!B42)","v":""},{"$f":"IF('DAV1'!C42=\"\",\"\",'DAV1'!C42)","v":""},1,1,1,1,1,1,1,1,"GELİŞTİRİLMELİ"]
[{"$f":"IF('DAV1'!A43=\"\",\"\",'DAV1'!A43)","v":""},{"$f":"IF('DAV1'!B43=\"\",\"\",'DAV1'!B43)","v":""},{"$f":"IF('DAV1'!C43=\"\",\"\",'DAV1'!C43)","v":""},1,1,1,1,1,1,1,1,"GELİŞTİRİLMELİ"]
[{"$f":"IF('DAV1'!A44=\"\",\"\",'DAV1'!A44)","v":""},{"$f":"IF('DAV1'!B44=\"\",\"\",'DAV1'!B44)","v":""},{"$f":"IF('DAV1'!C44=\"\",\"\",'DAV1'!C44)","v":""},1,1,1,1,1,1,1,1,"GELİŞTİRİLMELİ"]
[{"$f":"IF('DAV1'!A45=\"\",\"\",'DAV1'!A45)","v":""},{"$f":"IF('DAV1'!B45=\"\",\"\",'DAV1'!B45)","v":""},{"$f":"IF('DAV1'!C45=\"\",\"\",'DAV1'!C45)","v":""},1,1,1,1,1,1,1,1,"GELİŞTİRİLMELİ"]
[{"$f":"IF('DAV1'!A46=\"\",\"\",'DAV1'!A46)","v":""},{"$f":"IF('DAV1'!B46=\"\",\"\",'DAV1'!B46)","v":""},{"$f":"IF('DAV1'!C46=\"\",\"\",'DAV1'!C46)","v":""},1,1,1,1,1,1,1,1,"GELİŞTİRİLMELİ"]
[{"$f":"IF('DAV1'!A47=\"\",\"\",'DAV1'!A47)","v":""},{"$f":"IF('DAV1'!B47=\"\",\"\",'DAV1'!B47)","v":""},{"$f":"IF('DAV1'!C47=\"\",\"\",'DAV1'!C47)","v":""},1,1,1,1,1,1,1,1,"GELİŞTİRİLMELİ"]
[{"$f":"IF('DAV1'!A48=\"\",\"\",'DAV1'!A48)","v":""},{"$f":"IF('DAV1'!B48=\"\",\"\",'DAV1'!B48)","v":""},{"$f":"IF('DAV1'!C48=\"\",\"\",'DAV1'!C48)","v":""},1,1,1,1,1,1,1,1,"GELİŞTİRİLMELİ"]
[{"$f":"IF('DAV1'!A49=\"\",\"\",'DAV1'!A49)","v":""},{"$f":"IF('DAV1'!B49=\"\",\"\",'DAV1'!B49)","v":""},{"$f":"IF('DAV1'!C49=\"\",\"\",'DAV1'!C49)","v":""},1,1,1,1,1,1,1,1,"GELİŞTİRİLMELİ"]
[{"$f":"IF('DAV1'!A50=\"\",\"\",'DAV1'!A50)","v":""},{"$f":"IF('DAV1'!B50=\"\",\"\",'DAV1'!B50)","v":""},{"$f":"IF('DAV1'!C50=\"\",\"\",'DAV1'!C50)","v":""},1,1,1,1,1,1,1,1,"GELİŞTİRİLMELİ"]
[{"$f":"IF('DAV1'!A51=\"\",\"\",'DAV1'!A51)","v":""},{"$f":"IF('DAV1'!B51=\"\",\"\",'DAV1'!B51)","v":""},{"$f":"IF('DAV1'!C51=\"\",\"\",'DAV1'!C51)","v":""},1,1,1,1,1,1,1,1,"GELİŞTİRİLMELİ"]
[{"$f":"IF('DAV1'!A52=\"\",\"\",'DAV1'!A52)","v":""},{"$f":"IF('DAV1'!B52=\"\",\"\",'DAV1'!B52)","v":""},{"$f":"IF('DAV1'!C52=\"\",\"\",'DAV1'!C52)","v":""},1,1,1,1,1,1,1,1,"GELİŞTİRİLMELİ"]
[{"$f":"IF('DAV1'!A53=\"\",\"\",'DAV1'!A53)","v":""},{"$f":"IF('DAV1'!B53=\"\",\"\",'DAV1'!B53)","v":""},{"$f":"IF('DAV1'!C53=\"\",\"\",'DAV1'!C53)","v":""},1,1,1,1,1,1,1,1,"GELİŞTİRİLMELİ"]
[{"$f":"IF('DAV1'!A54=\"\",\"\",'DAV1'!A54)","v":""},{"$f":"IF('DAV1'!B54=\"\",\"\",'DAV1'!B54)","v":""},{"$f":"IF('DAV1'!C54=\"\",\"\",'DAV1'!C54)","v":""},1,1,1,1,1,1,1,1,"GELİŞTİRİLMELİ"]
[{"$f":"IF('DAV1'!A55=\"\",\"\",'DAV1'!A55)","v":""},{"$f":"IF('DAV1'!B55=\"\",\"\",'DAV1'!B55)","v":""},{"$f":"IF('DAV1'!C55=\"\",\"\",'DAV1'!C55)","v":""},1,1,1,1,1,1,1,1,"GELİŞTİRİLMELİ"]
[{"$f":"IF('DAV1'!A56=\"\",\"\",'DAV1'!A56)","v":""},{"$f":"IF('DAV1'!B56=\"\",\"\",'DAV1'!B56)","v":""},{"$f":"IF('DAV1'!C56=\"\",\"\",'DAV1'!C56)","v":""},1,1,1,1,1,1,1,1,"GELİŞTİRİLMELİ"]
[{"$f":"IF('DAV1'!A57=\"\",\"\",'DAV1'!A57)","v":""},{"$f":"IF('DAV1'!B57=\"\",\"\",'DAV1'!B57)","v":""},{"$f":"IF('DAV1'!C57=\"\",\"\",'DAV1'!C57)","v":""},1,1,1,1,1,1,1,1,"GELİŞTİRİLMELİ"]
[{"$f":"IF('DAV1'!A58=\"\",\"\",'DAV1'!A58)","v":""},{"$f":"IF('DAV1'!B58=\"\",\"\",'DAV1'!B58)","v":""},{"$f":"IF('DAV1'!C58=\"\",\"\",'DAV1'!C58)","v":""},1,1,1,1,1,1,1,1,"GELİŞTİRİLMELİ"]
[{"$f":"IF('DAV1'!A59=\"\",\"\",'DAV1'!A59)","v":""},{"$f":"IF('DAV1'!B59=\"\",\"\",'DAV1'!B59)","v":""},{"$f":"IF('DAV1'!C59=\"\",\"\",'DAV1'!C59)","v":""},1,1,1,1,1,1,1,1,"GELİŞTİRİLMELİ"]
[{"$f":"IF('DAV1'!A60=\"\",\"\",'DAV1'!A60)","v":""},{"$f":"IF('DAV1'!B60=\"\",\"\",'DAV1'!B60)","v":""},{"$f":"IF('DAV1'!C60=\"\",\"\",'DAV1'!C60)","v":""},1,1,1,1,1,1,1,1,"GELİŞTİRİLMELİ"]
[{"$f":"IF('DAV1'!A61=\"\",\"\",'DAV1'!A61)","v":""},{"$f":"IF('DAV1'!B61=\"\",\"\",'DAV1'!B61)","v":""},{"$f":"IF('DAV1'!C61=\"\",\"\",'DAV1'!C61)","v":""},1,1,1,1,1,1,1,1,"GELİŞTİRİLMELİ"]
[{"$f":"IF('DAV1'!A62=\"\",\"\",'DAV1'!A62)","v":""},{"$f":"IF('DAV1'!B62=\"\",\"\",'DAV1'!B62)","v":""},{"$f":"IF('DAV1'!C62=\"\",\"\",'DAV1'!C62)","v":""},1,1,1,1,1,1,1,1,"GELİŞTİRİLMELİ"]
[{"$f":"IF('DAV1'!A63=\"\",\"\",'DAV1'!A63)","v":""},{"$f":"IF('DAV1'!B63=\"\",\"\",'DAV1'!B63)","v":""},{"$f":"IF('DAV1'!C63=\"\",\"\",'DAV1'!C63)","v":""},1,1,1,1,1,1,1,1,"GELİŞTİRİLMELİ"]
[{"$f":"IF('DAV1'!A64=\"\",\"\",'DAV1'!A64)","v":""},{"$f":"IF('DAV1'!B64=\"\",\"\",'DAV1'!B64)","v":""},{"$f":"IF('DAV1'!C64=\"\",\"\",'DAV1'!C64)","v":""},1,1,1,1,1,1,1,1,"GELİŞTİRİLMELİ"]
[{"$f":"IF('DAV1'!A65=\"\",\"\",'DAV1'!A65)","v":""},{"$f":"IF('DAV1'!B65=\"\",\"\",'DAV1'!B65)","v":""},{"$f":"IF('DAV1'!C65=\"\",\"\",'DAV1'!C65)","v":""},1,1,1,1,1,1,1,1,"GELİŞTİRİLMELİ"]
[{"$f":"IF('DAV1'!A66=\"\",\"\",'DAV1'!A66)","v":""},{"$f":"IF('DAV1'!B66=\"\",\"\",'DAV1'!B66)","v":""},{"$f":"IF('DAV1'!C66=\"\",\"\",'DAV1'!C66)","v":""},1,1,1,1,1,1,1,1,"GELİŞTİRİLMELİ"]
[{"$f":"IF('DAV1'!A67=\"\",\"\",'DAV1'!A67)","v":""},{"$f":"IF('DAV1'!B67=\"\",\"\",'DAV1'!B67)","v":""},{"$f":"IF('DAV1'!C67=\"\",\"\",'DAV1'!C67)","v":""},1,1,1,1,1,1,1,{"$f":"AVERAGE(D67:J67)","v":1},"GELİŞTİRİLMELİ"]
[{"$f":"IF('DAV1'!A68=\"\",\"\",'DAV1'!A68)","v":""},{"$f":"IF('DAV1'!B68=\"\",\"\",'DAV1'!B68)","v":""},{"$f":"IF('DAV1'!C68=\"\",\"\",'DAV1'!C68)","v":""},1,1,1,1,1,1,1,1,"GELİŞTİRİLMELİ"]
[{"$f":"IF('DAV1'!A69=\"\",\"\",'DAV1'!A69)","v":""},{"$f":"IF('DAV1'!B69=\"\",\"\",'DAV1'!B69)","v":""},{"$f":"IF('DAV1'!C69=\"\",\"\",'DAV1'!C69)","v":""},1,1,1,1,1,1,1,1,"GELİŞTİRİLMELİ"]
[{"$f":"IF('DAV1'!A70=\"\",\"\",'DAV1'!A70)","v":""},{"$f":"IF('DAV1'!B70=\"\",\"\",'DAV1'!B70)","v":""},{"$f":"IF('DAV1'!C70=\"\",\"\",'DAV1'!C70)","v":""},1,1,1,1,1,1,1,1,"GELİŞTİRİLMELİ"]
[{"$f":"IF('DAV1'!A71=\"\",\"\",'DAV1'!A71)","v":""},{"$f":"IF('DAV1'!B71=\"\",\"\",'DAV1'!B71)","v":""},{"$f":"IF('DAV1'!C71=\"\",\"\",'DAV1'!C71)","v":""},1,1,1,1,1,1,1,1,"GELİŞTİRİLMELİ"]
[{"$f":"IF('DAV1'!A72=\"\",\"\",'DAV1'!A72)","v":""},{"$f":"IF('DAV1'!B72=\"\",\"\",'DAV1'!B72)","v":""},{"$f":"IF('DAV1'!C72=\"\",\"\",'DAV1'!C72)","v":""},1,1,1,1,1,1,1,1,"GELİŞTİRİLMELİ"]
[{"$f":"IF('DAV1'!A73=\"\",\"\",'DAV1'!A73)","v":""},{"$f":"IF('DAV1'!B73=\"\",\"\",'DAV1'!B73)","v":""},{"$f":"IF('DAV1'!C73=\"\",\"\",'DAV1'!C73)","v":""},1,1,1,1,1,1,1,1,"GELİŞTİRİLMELİ"]
[{"$f":"IF('DAV1'!A74=\"\",\"\",'DAV1'!A74)","v":""},{"$f":"IF('DAV1'!B74=\"\",\"\",'DAV1'!B74)","v":""},{"$f":"IF('DAV1'!C74=\"\",\"\",'DAV1'!C74)","v":""},1,1,1,1,1,1,1,1,"GELİŞTİRİLMELİ"]
[{"$f":"IF('DAV1'!A75=\"\",\"\",'DAV1'!A75)","v":""},{"$f":"IF('DAV1'!B75=\"\",\"\",'DAV1'!B75)","v":""},{"$f":"IF('DAV1'!C75=\"\",\"\",'DAV1'!C75)","v":""},1,1,1,1,1,1,1,1,"GELİŞTİRİLMELİ"]
[{"$f":"IF('DAV1'!A76=\"\",\"\",'DAV1'!A76)","v":""},{"$f":"IF('DAV1'!B76=\"\",\"\",'DAV1'!B76)","v":""},{"$f":"IF('DAV1'!C76=\"\",\"\",'DAV1'!C76)","v":""},1,1,1,1,1,1,1,1,"GELİŞTİRİLMELİ"]
[{"$f":"IF('DAV1'!A77=\"\",\"\",'DAV1'!A77)","v":""},{"$f":"IF('DAV1'!B77=\"\",\"\",'DAV1'!B77)","v":""},{"$f":"IF('DAV1'!C77=\"\",\"\",'DAV1'!C77)","v":""},1,1,1,1,1,1,1,1,"GELİŞTİRİLMELİ"]
[{"$f":"IF('DAV1'!A78=\"\",\"\",'DAV1'!A78)","v":""},{"$f":"IF('DAV1'!B78=\"\",\"\",'DAV1'!B78)","v":""},{"$f":"IF('DAV1'!C78=\"\",\"\",'DAV1'!C78)","v":""},1,1,1,1,1,1,1,1,"GELİŞTİRİLMELİ"]
[{"$f":"IF('DAV1'!A79=\"\",\"\",'DAV1'!A79)","v":""},{"$f":"IF('DAV1'!B79=\"\",\"\",'DAV1'!B79)","v":""},{"$f":"IF('DAV1'!C79=\"\",\"\",'DAV1'!C79)","v":""},1,1,1,1,1,1,1,1,"GELİŞTİRİLMELİ"]
[{"$f":"IF('DAV1'!A80=\"\",\"\",'DAV1'!A80)","v":""},{"$f":"IF('DAV1'!B80=\"\",\"\",'DAV1'!B80)","v":""},{"$f":"IF('DAV1'!C80=\"\",\"\",'DAV1'!C80)","v":""},1,1,1,1,1,1,1,1,"GELİŞTİRİLMELİ"]
[{"$f":"IF('DAV1'!A81=\"\",\"\",'DAV1'!A81)","v":""},{"$f":"IF('DAV1'!B81=\"\",\"\",'DAV1'!B81)","v":""},{"$f":"IF('DAV1'!C81=\"\",\"\",'DAV1'!C81)","v":""},1,1,1,1,1,1,1,1,"GELİŞTİRİLMELİ"]
[{"$f":"IF('DAV1'!A82=\"\",\"\",'DAV1'!A82)","v":""},{"$f":"IF('DAV1'!B82=\"\",\"\",'DAV1'!B82)","v":""},{"$f":"IF('DAV1'!C82=\"\",\"\",'DAV1'!C82)","v":""},1,1,1,1,1,1,1,1,"GELİŞTİRİLMELİ"]
[{"$f":"IF('DAV1'!A83=\"\",\"\",'DAV1'!A83)","v":""},{"$f":"IF('DAV1'!B83=\"\",\"\",'DAV1'!B83)","v":""},{"$f":"IF('DAV1'!C83=\"\",\"\",'DAV1'!C83)","v":""},1,1,1,1,1,1,1,1,"GELİŞTİRİLMELİ"]
[{"$f":"IF('DAV1'!A84=\"\",\"\",'DAV1'!A84)","v":""},{"$f":"IF('DAV1'!B84=\"\",\"\",'DAV1'!B84)","v":""},{"$f":"IF('DAV1'!C84=\"\",\"\",'DAV1'!C84)","v":""},1,1,1,1,1,1,1,1,"GELİŞTİRİLMELİ"]
[{"$f":"IF('DAV1'!A85=\"\",\"\",'DAV1'!A85)","v":""},{"$f":"IF('DAV1'!B85=\"\",\"\",'DAV1'!B85)","v":""},{"$f":"IF('DAV1'!C85=\"\",\"\",'DAV1'!C85)","v":""},1,1,1,1,1,1,1,1,"GELİŞTİRİLMELİ"]
[{"$f":"IF('DAV1'!A86=\"\",\"\",'DAV1'!A86)","v":""},{"$f":"IF('DAV1'!B86=\"\",\"\",'DAV1'!B86)","v":""},{"$f":"IF('DAV1'!C86=\"\",\"\",'DAV1'!C86)","v":""},1,1,1,1,1,1,1,1,"GELİŞTİRİLMELİ"]
[{"$f":"IF('DAV1'!A87=\"\",\"\",'DAV1'!A87)","v":""},{"$f":"IF('DAV1'!B87=\"\",\"\",'DAV1'!B87)","v":""},{"$f":"IF('DAV1'!C87=\"\",\"\",'DAV1'!C87)","v":""},1,1,1,1,1,1,1,1,"GELİŞTİRİLMELİ"]
[{"$f":"IF('DAV1'!A88=\"\",\"\",'DAV1'!A88)","v":""},{"$f":"IF('DAV1'!B88=\"\",\"\",'DAV1'!B88)","v":""},{"$f":"IF('DAV1'!C88=\"\",\"\",'DAV1'!C88)","v":""},1,1,1,1,1,1,1,1,"GELİŞTİRİLMELİ"]
[{"$f":"IF('DAV1'!A89=\"\",\"\",'DAV1'!A89)","v":""},{"$f":"IF('DAV1'!B89=\"\",\"\",'DAV1'!B89)","v":""},{"$f":"IF('DAV1'!C89=\"\",\"\",'DAV1'!C89)","v":""},1,1,1,1,1,1,1,1,"GELİŞTİRİLMELİ"]
[{"$f":"IF('DAV1'!A90=\"\",\"\",'DAV1'!A90)","v":""},{"$f":"IF('DAV1'!B90=\"\",\"\",'DAV1'!B90)","v":""},{"$f":"IF('DAV1'!C90=\"\",\"\",'DAV1'!C90)","v":""},1,1,1,1,1,1,1,1,"GELİŞTİRİLMELİ"]
[{"$f":"IF('DAV1'!A91=\"\",\"\",'DAV1'!A91)","v":""},{"$f":"IF('DAV1'!B91=\"\",\"\",'DAV1'!B91)","v":""},{"$f":"IF('DAV1'!C91=\"\",\"\",'DAV1'!C91)","v":""},1,1,1,1,1,1,1,1,"GELİŞTİRİLMELİ"]
[{"$f":"IF('DAV1'!A92=\"\",\"\",'DAV1'!A92)","v":""},{"$f":"IF('DAV1'!B92=\"\",\"\",'DAV1'!B92)","v":""},{"$f":"IF('DAV1'!C92=\"\",\"\",'DAV1'!C92)","v":""},1,1,1,1,1,1,1,1,"GELİŞTİRİLMELİ"]
[{"$f":"IF('DAV1'!A93=\"\",\"\",'DAV1'!A93)","v":""},{"$f":"IF('DAV1'!B93=\"\",\"\",'DAV1'!B93)","v":""},{"$f":"IF('DAV1'!C93=\"\",\"\",'DAV1'!C93)","v":""},1,1,1,1,1,1,1,1,"GELİŞTİRİLMELİ"]
[{"$f":"IF('DAV1'!A94=\"\",\"\",'DAV1'!A94)","v":""},{"$f":"IF('DAV1'!B94=\"\",\"\",'DAV1'!B94)","v":""},{"$f":"IF('DAV1'!C94=\"\",\"\",'DAV1'!C94)","v":""},1,1,1,1,1,1,1,1,"GELİŞTİRİLMELİ"]
[{"$f":"IF('DAV1'!A95=\"\",\"\",'DAV1'!A95)","v":""},{"$f":"IF('DAV1'!B95=\"\",\"\",'DAV1'!B95)","v":""},{"$f":"IF('DAV1'!C95=\"\",\"\",'DAV1'!C95)","v":""},1,1,1,1,1,1,1,1,"GELİŞTİRİLMELİ"]
[{"$f":"IF('DAV1'!A96=\"\",\"\",'DAV1'!A96)","v":""},{"$f":"IF('DAV1'!B96=\"\",\"\",'DAV1'!B96)","v":""},{"$f":"IF('DAV1'!C96=\"\",\"\",'DAV1'!C96)","v":""},1,1,1,1,1,1,1,1,"GELİŞTİRİLMELİ"]
[{"$f":"IF('DAV1'!A97=\"\",\"\",'DAV1'!A97)","v":""},{"$f":"IF('DAV1'!B97=\"\",\"\",'DAV1'!B97)","v":""},{"$f":"IF('DAV1'!C97=\"\",\"\",'DAV1'!C97)","v":""},1,1,1,1,1,1,1,1,"GELİŞTİRİLMELİ"]
[{"$f":"IF('DAV1'!A98=\"\",\"\",'DAV1'!A98)","v":""},{"$f":"IF('DAV1'!B98=\"\",\"\",'DAV1'!B98)","v":""},{"$f":"IF('DAV1'!C98=\"\",\"\",'DAV1'!C98)","v":""},1,1,1,1,1,1,1,1,"GELİŞTİRİLMELİ"]
[{"$f":"IF('DAV1'!A99=\"\",\"\",'DAV1'!A99)","v":""},{"$f":"IF('DAV1'!B99=\"\",\"\",'DAV1'!B99)","v":""},{"$f":"IF('DAV1'!C99=\"\",\"\",'DAV1'!C99)","v":""},1,1,1,1,1,1,1,{"$f":"AVERAGE(D99:J99)","v":1},{"$f":"IF(K99=\"\",\"\",(IF(K99>=2.5,\"ÇOK İYİ\",IF(K99>=1.5,\"İYİ\",IF(K99>=1,\"GELİŞTİRİLMELİ\")))))","v":"GELİŞTİRİLMELİ"}]
[{"$f":"IF('DAV1'!A100=\"\",\"\",'DAV1'!A100)","v":""},{"$f":"IF('DAV1'!B100=\"\",\"\",'DAV1'!B100)","v":""},{"$f":"IF('DAV1'!C100=\"\",\"\",'DAV1'!C100)","v":""},1,1,1,1,1,1,1,1,"GELİŞTİRİLMELİ"]
[{"$f":"IF('DAV1'!A101=\"\",\"\",'DAV1'!A101)","v":""},{"$f":"IF('DAV1'!B101=\"\",\"\",'DAV1'!B101)","v":""},{"$f":"IF('DAV1'!C101=\"\",\"\",'DAV1'!C101)","v":""},1,1,1,1,1,1,1,1,"GELİŞTİRİLMELİ"]
[{"$f":"IF('DAV1'!A102=\"\",\"\",'DAV1'!A102)","v":""},{"$f":"IF('DAV1'!B102=\"\",\"\",'DAV1'!B102)","v":""},{"$f":"IF('DAV1'!C102=\"\",\"\",'DAV1'!C102)","v":""},1,1,1,1,1,1,1,1,"GELİŞTİRİLMELİ"]
[]
[1,1,1,1,1,1,1,1,1,1,1,1,1,1,1,1,1,1,1,1,1,1,1,1,1,1,1,1,1,1,1,1,1,1,1,1,1,1,1,1,1,1,1,1,1,1,1,1,1,1,1,1,1,1,1,1,1,1,1,1,1,1,1,1,1,1,1,1,1,1,1,1,1,1,1,1,1,1,1,1,1,1,1,1,1,1,1,1,1,1,1,1,1,1,1,1,1,1,1,1]
[2,2,2,2,2,2,2,2,2,2,2,2,2,2,2,2,2,2,2,2,2,2,2,2,2,2,2,2,2,2,2,2,2,2,2,2,2,2,2,2,2,2,2,2,2,2,2,2,2,2,2,2,2,2,2,2,2,2,2,2,2,2,2,2,2,2,2,2,2,2,2,2,2,2,2,2,2,2,2,2,2,2,2,2,2,2,2,2,2,2,2,2,2,2,2,2,2,2,2,2]
[3,3,3,3,3,3,3,3,3,3,3,3,3,3,3,3,3,3,3,3,3,3,3,3,3,3,3,3,3,3,3,3,3,3,3,3,3,3,3,3,3,3,3,3,3,3,3,3,3,3,3,3,3,3,3,3,3,3,3,3,3,3,3,3,3,3,3,3,3,3,3,3,3,3,3,3,3,3,3,3,3,3,3,3,3,3,3,3,3,3,3,3,3,3,3,3,3,3,3,3]
[4,4,4,4,4,4,4,4,4,4,4,4,4,4,4,4,4,4,4,4,4,4,4,4,4,4,4,4,4,4,4,4,4,4,4,4,4,4,4,4,4,4,4,4,4,4,4,4,4,4,4,4,4,4,4,4,4,4,4,4,4,4,4,4,4,4,4,4,4,4,4,4,4,4,4,4,4,4,4,4,4,4,4,4,4,4,4,4,4,4,4,4,4,4,4,4,4,4,4,4]

{"sheet":"GS2.2","index":13,"n_rows":107,"n_cols":100,"rows_kept":107,"cut":false,"hidden":false,"merged":[[0,0,0,2],[0,12,1,12],[0,13,1,13],[1,3,1,11]]}
["GÖRSEL SANATLAR\n2. DÖNEM",null,null,"G.1.1.7. Görsel sanat çalışmasında büyüklük-küçüklük ilişkilerini kullanır.","G.1.1.8. Çevresindeki objeleri ve figürleri gözlemleyerek çizimlerini yapar.","G.1.1.9. Üç boyutlu çalışma oluşturur.","G.1.1.10. Görsel sanat çalışmasını oluştururken sanat elemanlarını kullanır.","G.1.2.1. Sanatın, kültürün bir parçası olduğunu fark eder.","G.1.2.2. Müze, sanat galerisi, sanatçı atölyesi, ören yeri vb. ile ilgili izlenimlerini söyler.","G.1.3.1. Yapay objelerle doğal objeleri ayırt eder.","G.1.3.2. Sanat eserinin biçimsel özelliklerini söyler.","G.1.3.3. Sanat eserleri arasındaki farklılıkları açıklar.","ORTALAMA","DEĞERLENDİRME SONUCU"]
["SIRA","OKUL NO","ADI SOYADI","GÖRSEL İLETİŞİM VE BİÇİMLENDİRME - KÜLTÜREL MİRAS - SANAT ELEŞTİRİSİ VE ESTETİK"]
[{"$f":"IF('DAV1'!A3=\"\",\"\",'DAV1'!A3)","v":1},{"$f":"IF('DAV1'!B3=\"\",\"\",'DAV1'!B3)","v":11},{"$f":"IF('DAV1'!C3=\"\",\"\",'DAV1'!C3)","v":"KAYRA ÇINAR ERGÜN"},1,1,1,1,1,1,1,1,1,{"$f":"AVERAGE(D3:L3)","v":1},{"$f":"IF(M3=\"\",\"\",(IF(M3>=2.5,\"ÇOK İYİ\",IF(M3>=1.5,\"İYİ\",IF(M3>=1,\"GELİŞTİRİLMELİ\")))))","v":"GELİŞTİRİLMELİ"}]
[{"$f":"IF('DAV1'!A4=\"\",\"\",'DAV1'!A4)","v":2},{"$f":"IF('DAV1'!B4=\"\",\"\",'DAV1'!B4)","v":35},{"$f":"IF('DAV1'!C4=\"\",\"\",'DAV1'!C4)","v":"FURKAN SOLMAZ"},1,1,1,1,1,1,1,1,1,1,"GELİŞTİRİLMELİ"]
[{"$f":"IF('DAV1'!A5=\"\",\"\",'DAV1'!A5)","v":3},{"$f":"IF('DAV1'!B5=\"\",\"\",'DAV1'!B5)","v":53},{"$f":"IF('DAV1'!C5=\"\",\"\",'DAV1'!C5)","v":"İLKNUR MUMCU"},1,1,1,1,1,1,1,1,1,1,"GELİŞTİRİLMELİ"]
[{"$f":"IF('DAV1'!A6=\"\",\"\",'DAV1'!A6)","v":4},{"$f":"IF('DAV1'!B6=\"\",\"\",'DAV1'!B6)","v":83},{"$f":"IF('DAV1'!C6=\"\",\"\",'DAV1'!C6)","v":"MUHAMMET ALİ YILDIRIM"},1,1,1,1,1,1,1,1,1,1,"GELİŞTİRİLMELİ"]
[{"$f":"IF('DAV1'!A7=\"\",\"\",'DAV1'!A7)","v":5},{"$f":"IF('DAV1'!B7=\"\",\"\",'DAV1'!B7)","v":93},{"$f":"IF('DAV1'!C7=\"\",\"\",'DAV1'!C7)","v":"ERTUĞRUL GAZİ NAMLI"},1,1,1,1,1,1,1,1,1,1,"GELİŞTİRİLMELİ"]
[{"$f":"IF('DAV1'!A8=\"\",\"\",'DAV1'!A8)","v":6},{"$f":"IF('DAV1'!B8=\"\",\"\",'DAV1'!B8)","v":100},{"$f":"IF('DAV1'!C8=\"\",\"\",'DAV1'!C8)","v":"ECEM EFE"},1,1,1,1,1,1,1,1,1,1,"GELİŞTİRİLMELİ"]
[{"$f":"IF('DAV1'!A9=\"\",\"\",'DAV1'!A9)","v":7},{"$f":"IF('DAV1'!B9=\"\",\"\",'DAV1'!B9)","v":105},{"$f":"IF('DAV1'!C9=\"\",\"\",'DAV1'!C9)","v":"SELİM ZEKERİYA ÖZDEMİR"},1,1,1,1,1,1,1,1,1,1,"GELİŞTİRİLMELİ"]
[{"$f":"IF('DAV1'!A10=\"\",\"\",'DAV1'!A10)","v":8},{"$f":"IF('DAV1'!B10=\"\",\"\",'DAV1'!B10)","v":108},{"$f":"IF('DAV1'!C10=\"\",\"\",'DAV1'!C10)","v":"AREN KARAKAŞ"},1,1,1,1,1,1,1,1,1,1,"GELİŞTİRİLMELİ"]
[{"$f":"IF('DAV1'!A11=\"\",\"\",'DAV1'!A11)","v":9},{"$f":"IF('DAV1'!B11=\"\",\"\",'DAV1'!B11)","v":111},{"$f":"IF('DAV1'!C11=\"\",\"\",'DAV1'!C11)","v":"ZEHRA ŞAHİNOĞLU"},1,1,1,1,1,1,1,1,1,1,"GELİŞTİRİLMELİ"]
[{"$f":"IF('DAV1'!A12=\"\",\"\",'DAV1'!A12)","v":10},{"$f":"IF('DAV1'!B12=\"\",\"\",'DAV1'!B12)","v":113},{"$f":"IF('DAV1'!C12=\"\",\"\",'DAV1'!C12)","v":"YUSUF ALİ TÜNÇ"},1,1,1,1,1,1,1,1,1,1,"GELİŞTİRİLMELİ"]
[{"$f":"IF('DAV1'!A13=\"\",\"\",'DAV1'!A13)","v":11},{"$f":"IF('DAV1'!B13=\"\",\"\",'DAV1'!B13)","v":161},{"$f":"IF('DAV1'!C13=\"\",\"\",'DAV1'!C13)","v":"HÜSEYİN CELAYİR"},1,1,1,1,1,1,1,1,1,1,"GELİŞTİRİLMELİ"]
[{"$f":"IF('DAV1'!A14=\"\",\"\",'DAV1'!A14)","v":12},{"$f":"IF('DAV1'!B14=\"\",\"\",'DAV1'!B14)","v":177},{"$f":"IF('DAV1'!C14=\"\",\"\",'DAV1'!C14)","v":"YİĞİT EFE YEŞİLDAL"},1,1,1,1,1,1,1,1,1,1,"GELİŞTİRİLMELİ"]
[{"$f":"IF('DAV1'!A15=\"\",\"\",'DAV1'!A15)","v":13},{"$f":"IF('DAV1'!B15=\"\",\"\",'DAV1'!B15)","v":187},{"$f":"IF('DAV1'!C15=\"\",\"\",'DAV1'!C15)","v":"HALEF TAHA ATEŞ"},1,1,1,1,1,1,1,1,1,1,"GELİŞTİRİLMELİ"]
[{"$f":"IF('DAV1'!A16=\"\",\"\",'DAV1'!A16)","v":14},{"$f":"IF('DAV1'!B16=\"\",\"\",'DAV1'!B16)","v":188},{"$f":"IF('DAV1'!C16=\"\",\"\",'DAV1'!C16)","v":"EMİRHAN MERTOĞLU"},1,1,1,1,1,1,1,1,1,1,"GELİŞTİRİLMELİ"]
[{"$f":"IF('DAV1'!A17=\"\",\"\",'DAV1'!A17)","v":15},{"$f":"IF('DAV1'!B17=\"\",\"\",'DAV1'!B17)","v":189},{"$f":"IF('DAV1'!C17=\"\",\"\",'DAV1'!C17)","v":"EMİNE GÜVEN"},1,1,1,1,1,1,1,1,1,1,"GELİŞTİRİLMELİ"]
[{"$f":"IF('DAV1'!A18=\"\",\"\",'DAV1'!A18)","v":16},{"$f":"IF('DAV1'!B18=\"\",\"\",'DAV1'!B18)","v":213},{"$f":"IF('DAV1'!C18=\"\",\"\",'DAV1'!C18)","v":"YAĞMUR KILIÇ"},1,1,1,1,1,1,1,1,1,1,"GELİŞTİRİLMELİ"]
[{"$f":"IF('DAV1'!A19=\"\",\"\",'DAV1'!A19)","v":17},{"$f":"IF('DAV1'!B19=\"\",\"\",'DAV1'!B19)","v":214},{"$f":"IF('DAV1'!C19=\"\",\"\",'DAV1'!C19)","v":"ERDAL GÜLATAR"},1,1,1,1,1,1,1,1,1,1,"GELİŞTİRİLMELİ"]
[{"$f":"IF('DAV1'!A20=\"\",\"\",'DAV1'!A20)","v":18},{"$f":"IF('DAV1'!B20=\"\",\"\",'DAV1'!B20)","v":216},{"$f":"IF('DAV1'!C20=\"\",\"\",'DAV1'!C20)","v":"GAMZE ACAR"},1,1,1,1,1,1,1,1,1,1,"GELİŞTİRİLMELİ"]
[{"$f":"IF('DAV1'!A21=\"\",\"\",'DAV1'!A21)","v":19},{"$f":"IF('DAV1'!B21=\"\",\"\",'DAV1'!B21)","v":222},{"$f":"IF('DAV1'!C21=\"\",\"\",'DAV1'!C21)","v":"HİRANUR DOĞANDEMİR"},1,1,1,1,1,1,1,1,1,1,"GELİŞTİRİLMELİ"]
[{"$f":"IF('DAV1'!A22=\"\",\"\",'DAV1'!A22)","v":20},{"$f":"IF('DAV1'!B22=\"\",\"\",'DAV1'!B22)","v":224},{"$f":"IF('DAV1'!C22=\"\",\"\",'DAV1'!C22)","v":"TALHA YILMAZ"},1,1,1,1,1,1,1,1,1,1,"GELİŞTİRİLMELİ"]
[{"$f":"IF('DAV1'!A23=\"\",\"\",'DAV1'!A23)","v":21},{"$f":"IF('DAV1'!B23=\"\",\"\",'DAV1'!B23)","v":225},{"$f":"IF('DAV1'!C23=\"\",\"\",'DAV1'!C23)","v":"YUSUF EMİR DAĞDÖGEN"},1,1,1,1,1,1,1,1,1,1,"GELİŞTİRİLMELİ"]
[{"$f":"IF('DAV1'!A24=\"\",\"\",'DAV1'!A24)","v":22},{"$f":"IF('DAV1'!B24=\"\",\"\",'DAV1'!B24)","v":226},{"$f":"IF('DAV1'!C24=\"\",\"\",'DAV1'!C24)","v":"İMREN CANPOLAT"},1,1,1,1,1,1,1,1,1,1,"GELİŞTİRİLMELİ"]
[{"$f":"IF('DAV1'!A25=\"\",\"\",'DAV1'!A25)","v":23},{"$f":"IF('DAV1'!B25=\"\",\"\",'DAV1'!B25)","v":227},{"$f":"IF('DAV1'!C25=\"\",\"\",'DAV1'!C25)","v":"ZEYNEP CANPOLAT"},1,1,1,1,1,1,1,1,1,1,"GELİŞTİRİLMELİ"]
[{"$f":"IF('DAV1'!A26=\"\",\"\",'DAV1'!A26)","v":24},{"$f":"IF('DAV1'!B26=\"\",\"\",'DAV1'!B26)","v":229},{"$f":"IF('DAV1'!C26=\"\",\"\",'DAV1'!C26)","v":"MERYEM PARMAK"},1,1,1,1,1,1,1,1,1,1,"GELİŞTİRİLMELİ"]
[{"$f":"IF('DAV1'!A27=\"\",\"\",'DAV1'!A27)","v":25},{"$f":"IF('DAV1'!B27=\"\",\"\",'DAV1'!B27)","v":237},{"$f":"IF('DAV1'!C27=\"\",\"\",'DAV1'!C27)","v":"ZEYNEP MİRAY BOYRAZ"},1,1,1,1,1,1,1,1,1,1,"GELİŞTİRİLMELİ"]
[{"$f":"IF('DAV1'!A28=\"\",\"\",'DAV1'!A28)","v":26},{"$f":"IF('DAV1'!B28=\"\",\"\",'DAV1'!B28)","v":244},{"$f":"IF('DAV1'!C28=\"\",\"\",'DAV1'!C28)","v":"TAMER ŞEKERCİLEROĞLU"},1,1,1,1,1,1,1,1,1,1,"GELİŞTİRİLMELİ"]
[{"$f":"IF('DAV1'!A29=\"\",\"\",'DAV1'!A29)","v":27},{"$f":"IF('DAV1'!B29=\"\",\"\",'DAV1'!B29)","v":263},{"$f":"IF('DAV1'!C29=\"\",\"\",'DAV1'!C29)","v":"MUHAMMED YUSUF YILMAZ"},1,1,1,1,1,1,1,1,1,1,"GELİŞTİRİLMELİ"]
[{"$f":"IF('DAV1'!A30=\"\",\"\",'DAV1'!A30)","v":28},{"$f":"IF('DAV1'!B30=\"\",\"\",'DAV1'!B30)","v":264},{"$f":"IF('DAV1'!C30=\"\",\"\",'DAV1'!C30)","v":"OĞUZHAN GÜRGÜZE"},1,1,1,1,1,1,1,1,1,1,"GELİŞTİRİLMELİ"]
[{"$f":"IF('DAV1'!A31=\"\",\"\",'DAV1'!A31)","v":29},{"$f":"IF('DAV1'!B31=\"\",\"\",'DAV1'!B31)","v":279},{"$f":"IF('DAV1'!C31=\"\",\"\",'DAV1'!C31)","v":"MİHRİMA EKİCİ"},1,1,1,1,1,1,1,1,1,1,"GELİŞTİRİLMELİ"]
[{"$f":"IF('DAV1'!A32=\"\",\"\",'DAV1'!A32)","v":30},{"$f":"IF('DAV1'!B32=\"\",\"\",'DAV1'!B32)","v":290},{"$f":"IF('DAV1'!C32=\"\",\"\",'DAV1'!C32)","v":"NİSA NUR YILDIZ"},1,1,1,1,1,1,1,1,1,1,"GELİŞTİRİLMELİ"]
[{"$f":"IF('DAV1'!A33=\"\",\"\",'DAV1'!A33)","v":31},{"$f":"IF('DAV1'!B33=\"\",\"\",'DAV1'!B33)","v":293},{"$f":"IF('DAV1'!C33=\"\",\"\",'DAV1'!C33)","v":"MEHMET ALATAŞ"},1,1,1,1,1,1,1,1,1,1,"GELİŞTİRİLMELİ"]
[{"$f":"IF('DAV1'!A34=\"\",\"\",'DAV1'!A34)","v":32},{"$f":"IF('DAV1'!B34=\"\",\"\",'DAV1'!B34)","v":451},{"$f":"IF('DAV1'!C34=\"\",\"\",'DAV1'!C34)","v":"İKRA YILDIRIM"},1,1,1,1,1,1,1,1,1,1,"GELİŞTİRİLMELİ"]
[{"$f":"IF('DAV1'!A35=\"\",\"\",'DAV1'!A35)","v":33},{"$f":"IF('DAV1'!B35=\"\",\"\",'DAV1'!B35)","v":616},{"$f":"IF('DAV1'!C35=\"\",\"\",'DAV1'!C35)","v":"EDA TURAL"},1,1,1,1,1,1,1,1,1,{"$f":"AVERAGE(D35:L35)","v":1},"GELİŞTİRİLMELİ"]
[{"$f":"IF('DAV1'!A36=\"\",\"\",'DAV1'!A36)","v":34},{"$f":"IF('DAV1'!B36=\"\",\"\",'DAV1'!B36)","v":892},{"$f":"IF('DAV1'!C36=\"\",\"\",'DAV1'!C36)","v":"ALMA ALRAMADAN"},1,1,1,1,1,1,1,1,1,1,"GELİŞTİRİLMELİ"]
[{"$f":"IF('DAV1'!A37=\"\",\"\",'DAV1'!A37)","v":35},{"$f":"IF('DAV1'!B37=\"\",\"\",'DAV1'!B37)","v":1000},{"$f":"IF('DAV1'!C37=\"\",\"\",'DAV1'!C37)","v":"TURGUT POLAT"},1,1,1,1,1,1,1,1,1,1,{"$f":"IF(M37=\"\",\"\",(IF(M37>=2.5,\"ÇOK İYİ\",IF(M37>=1.5,\"İYİ\",IF(M37>=1,\"GELİŞTİRİLMELİ\")))))","v":"GELİŞTİRİLMELİ"}]
[{"$f":"IF('DAV1'!A38=\"\",\"\",'DAV1'!A38)","v":""},{"$f":"IF('DAV1'!B38=\"\",\"\",'DAV1'!B38)","v":""},{"$f":"IF('DAV1'!C38=\"\",\"\",'DAV1'!C38)","v":""},1,1,1,1,1,1,1,1,1,1,"GELİŞTİRİLMELİ"]
[{"$f":"IF('DAV1'!A39=\"\",\"\",'DAV1'!A39)","v":""},{"$f":"IF('DAV1'!B39=\"\",\"\",'DAV1'!B39)","v":""},{"$f":"IF('DAV1'!C39=\"\",\"\",'DAV1'!C39)","v":""},1,1,1,1,1,1,1,1,1,1,"GELİŞTİRİLMELİ"]
[{"$f":"IF('DAV1'!A40=\"\",\"\",'DAV1'!A40)","v":""},{"$f":"IF('DAV1'!B40=\"\",\"\",'DAV1'!B40)","v":""},{"$f":"IF('DAV1'!C40=\"\",\"\",'DAV1'!C40)","v":""},1,1,1,1,1,1,1,1,1,1,"GELİŞTİRİLMELİ"]
[{"$f":"IF('DAV1'!A41=\"\",\"\",'DAV1'!A41)","v":""},{"$f":"IF('DAV1'!B41=\"\",\"\",'DAV1'!B41)","v":""},{"$f":"IF('DAV1'!C41=\"\",\"\",'DAV1'!C41)","v":""},1,1,1,1,1,1,1,1,1,1,"GELİŞTİRİLMELİ"]
[{"$f":"IF('DAV1'!A42=\"\",\"\",'DAV1'!A42)","v":""},{"$f":"IF('DAV1'!B42=\"\",\"\",'DAV1'!B42)","v":""},{"$f":"IF('DAV1'!C42=\"\",\"\",'DAV1'!C42)","v":""},1,1,1,1,1,1,1,1,1,1,"GELİŞTİRİLMELİ"]
[{"$f":"IF('DAV1'!A43=\"\",\"\",'DAV1'!A43)","v":""},{"$f":"IF('DAV1'!B43=\"\",\"\",'DAV1'!B43)","v":""},{"$f":"IF('DAV1'!C43=\"\",\"\",'DAV1'!C43)","v":""},1,1,1,1,1,1,1,1,1,1,"GELİŞTİRİLMELİ"]
[{"$f":"IF('DAV1'!A44=\"\",\"\",'DAV1'!A44)","v":""},{"$f":"IF('DAV1'!B44=\"\",\"\",'DAV1'!B44)","v":""},{"$f":"IF('DAV1'!C44=\"\",\"\",'DAV1'!C44)","v":""},1,1,1,1,1,1,1,1,1,1,"GELİŞTİRİLMELİ"]
[{"$f":"IF('DAV1'!A45=\"\",\"\",'DAV1'!A45)","v":""},{"$f":"IF('DAV1'!B45=\"\",\"\",'DAV1'!B45)","v":""},{"$f":"IF('DAV1'!C45=\"\",\"\",'DAV1'!C45)","v":""},1,1,1,1,1,1,1,1,1,1,"GELİŞTİRİLMELİ"]
[{"$f":"IF('DAV1'!A46=\"\",\"\",'DAV1'!A46)","v":""},{"$f":"IF('DAV1'!B46=\"\",\"\",'DAV1'!B46)","v":""},{"$f":"IF('DAV1'!C46=\"\",\"\",'DAV1'!C46)","v":""},1,1,1,1,1,1,1,1,1,1,"GELİŞTİRİLMELİ"]
[{"$f":"IF('DAV1'!A47=\"\",\"\",'DAV1'!A47)","v":""},{"$f":"IF('DAV1'!B47=\"\",\"\",'DAV1'!B47)","v":""},{"$f":"IF('DAV1'!C47=\"\",\"\",'DAV1'!C47)","v":""},1,1,1,1,1,1,1,1,1,1,"GELİŞTİRİLMELİ"]
[{"$f":"IF('DAV1'!A48=\"\",\"\",'DAV1'!A48)","v":""},{"$f":"IF('DAV1'!B48=\"\",\"\",'DAV1'!B48)","v":""},{"$f":"IF('DAV1'!C48=\"\",\"\",'DAV1'!C48)","v":""},1,1,1,1,1,1,1,1,1,1,"GELİŞTİRİLMELİ"]
[{"$f":"IF('DAV1'!A49=\"\",\"\",'DAV1'!A49)","v":""},{"$f":"IF('DAV1'!B49=\"\",\"\",'DAV1'!B49)","v":""},{"$f":"IF('DAV1'!C49=\"\",\"\",'DAV1'!C49)","v":""},1,1,1,1,1,1,1,1,1,1,"GELİŞTİRİLMELİ"]
[{"$f":"IF('DAV1'!A50=\"\",\"\",'DAV1'!A50)","v":""},{"$f":"IF('DAV1'!B50=\"\",\"\",'DAV1'!B50)","v":""},{"$f":"IF('DAV1'!C50=\"\",\"\",'DAV1'!C50)","v":""},1,1,1,1,1,1,1,1,1,1,"GELİŞTİRİLMELİ"]
[{"$f":"IF('DAV1'!A51=\"\",\"\",'DAV1'!A51)","v":""},{"$f":"IF('DAV1'!B51=\"\",\"\",'DAV1'!B51)","v":""},{"$f":"IF('DAV1'!C51=\"\",\"\",'DAV1'!C51)","v":""},1,1,1,1,1,1,1,1,1,1,"GELİŞTİRİLMELİ"]
[{"$f":"IF('DAV1'!A52=\"\",\"\",'DAV1'!A52)","v":""},{"$f":"IF('DAV1'!B52=\"\",\"\",'DAV1'!B52)","v":""},{"$f":"IF('DAV1'!C52=\"\",\"\",'DAV1'!C52)","v":""},1,1,1,1,1,1,1,1,1,1,"GELİŞTİRİLMELİ"]
[{"$f":"IF('DAV1'!A53=\"\",\"\",'DAV1'!A53)","v":""},{"$f":"IF('DAV1'!B53=\"\",\"\",'DAV1'!B53)","v":""},{"$f":"IF('DAV1'!C53=\"\",\"\",'DAV1'!C53)","v":""},1,1,1,1,1,1,1,1,1,1,"GELİŞTİRİLMELİ"]
[{"$f":"IF('DAV1'!A54=\"\",\"\",'DAV1'!A54)","v":""},{"$f":"IF('DAV1'!B54=\"\",\"\",'DAV1'!B54)","v":""},{"$f":"IF('DAV1'!C54=\"\",\"\",'DAV1'!C54)","v":""},1,1,1,1,1,1,1,1,1,1,"GELİŞTİRİLMELİ"]
[{"$f":"IF('DAV1'!A55=\"\",\"\",'DAV1'!A55)","v":""},{"$f":"IF('DAV1'!B55=\"\",\"\",'DAV1'!B55)","v":""},{"$f":"IF('DAV1'!C55=\"\",\"\",'DAV1'!C55)","v":""},1,1,1,1,1,1,1,1,1,1,"GELİŞTİRİLMELİ"]
[{"$f":"IF('DAV1'!A56=\"\",\"\",'DAV1'!A56)","v":""},{"$f":"IF('DAV1'!B56=\"\",\"\",'DAV1'!B56)","v":""},{"$f":"IF('DAV1'!C56=\"\",\"\",'DAV1'!C56)","v":""},1,1,1,1,1,1,1,1,1,1,"GELİŞTİRİLMELİ"]
[{"$f":"IF('DAV1'!A57=\"\",\"\",'DAV1'!A57)","v":""},{"$f":"IF('DAV1'!B57=\"\",\"\",'DAV1'!B57)","v":""},{"$f":"IF('DAV1'!C57=\"\",\"\",'DAV1'!C57)","v":""},1,1,1,1,1,1,1,1,1,1,"GELİŞTİRİLMELİ"]
[{"$f":"IF('DAV1'!A58=\"\",\"\",'DAV1'!A58)","v":""},{"$f":"IF('DAV1'!B58=\"\",\"\",'DAV1'!B58)","v":""},{"$f":"IF('DAV1'!C58=\"\",\"\",'DAV1'!C58)","v":""},1,1,1,1,1,1,1,1,1,1,"GELİŞTİRİLMELİ"]
[{"$f":"IF('DAV1'!A59=\"\",\"\",'DAV1'!A59)","v":""},{"$f":"IF('DAV1'!B59=\"\",\"\",'DAV1'!B59)","v":""},{"$f":"IF('DAV1'!C59=\"\",\"\",'DAV1'!C59)","v":""},1,1,1,1,1,1,1,1,1,1,"GELİŞTİRİLMELİ"]
[{"$f":"IF('DAV1'!A60=\"\",\"\",'DAV1'!A60)","v":""},{"$f":"IF('DAV1'!B60=\"\",\"\",'DAV1'!B60)","v":""},{"$f":"IF('DAV1'!C60=\"\",\"\",'DAV1'!C60)","v":""},1,1,1,1,1,1,1,1,1,1,"GELİŞTİRİLMELİ"]
[{"$f":"IF('DAV1'!A61=\"\",\"\",'DAV1'!A61)","v":""},{"$f":"IF('DAV1'!B61=\"\",\"\",'DAV1'!B61)","v":""},{"$f":"IF('DAV1'!C61=\"\",\"\",'DAV1'!C61)","v":""},1,1,1,1,1,1,1,1,1,1,"GELİŞTİRİLMELİ"]
[{"$f":"IF('DAV1'!A62=\"\",\"\",'DAV1'!A62)","v":""},{"$f":"IF('DAV1'!B62=\"\",\"\",'DAV1'!B62)","v":""},{"$f":"IF('DAV1'!C62=\"\",\"\",'DAV1'!C62)","v":""},1,1,1,1,1,1,1,1,1,1,"GELİŞTİRİLMELİ"]
[{"$f":"IF('DAV1'!A63=\"\",\"\",'DAV1'!A63)","v":""},{"$f":"IF('DAV1'!B63=\"\",\"\",'DAV1'!B63)","v":""},{"$f":"IF('DAV1'!C63=\"\",\"\",'DAV1'!C63)","v":""},1,1,1,1,1,1,1,1,1,1,"GELİŞTİRİLMELİ"]
[{"$f":"IF('DAV1'!A64=\"\",\"\",'DAV1'!A64)","v":""},{"$f":"IF('DAV1'!B64=\"\",\"\",'DAV1'!B64)","v":""},{"$f":"IF('DAV1'!C64=\"\",\"\",'DAV1'!C64)","v":""},1,1,1,1,1,1,1,1,1,1,"GELİŞTİRİLMELİ"]
[{"$f":"IF('DAV1'!A65=\"\",\"\",'DAV1'!A65)","v":""},{"$f":"IF('DAV1'!B65=\"\",\"\",'DAV1'!B65)","v":""},{"$f":"IF('DAV1'!C65=\"\",\"\",'DAV1'!C65)","v":""},1,1,1,1,1,1,1,1,1,1,"GELİŞTİRİLMELİ"]
[{"$f":"IF('DAV1'!A66=\"\",\"\",'DAV1'!A66)","v":""},{"$f":"IF('DAV1'!B66=\"\",\"\",'DAV1'!B66)","v":""},{"$f":"IF('DAV1'!C66=\"\",\"\",'DAV1'!C66)","v":""},1,1,1,1,1,1,1,1,1,1,"GELİŞTİRİLMELİ"]
[{"$f":"IF('DAV1'!A67=\"\",\"\",'DAV1'!A67)","v":""},{"$f":"IF('DAV1'!B67=\"\",\"\",'DAV1'!B67)","v":""},{"$f":"IF('DAV1'!C67=\"\",\"\",'DAV1'!C67)","v":""},1,1,1,1,1,1,1,1,1,{"$f":"AVERAGE(D67:L67)","v":1},"GELİŞTİRİLMELİ"]
[{"$f":"IF('DAV1'!A68=\"\",\"\",'DAV1'!A68)","v":""},{"$f":"IF('DAV1'!B68=\"\",\"\",'DAV1'!B68)","v":""},{"$f":"IF('DAV1'!C68=\"\",\"\",'DAV1'!C68)","v":""},1,1,1,1,1,1,1,1,1,1,"GELİŞTİRİLMELİ"]
[{"$f":"IF('DAV1'!A69=\"\",\"\",'DAV1'!A69)","v":""},{"$f":"IF('DAV1'!B69=\"\",\"\",'DAV1'!B69)","v":""},{"$f":"IF('DAV1'!C69=\"\",\"\",'DAV1'!C69)","v":""},1,1,1,1,1,1,1,1,1,1,"GELİŞTİRİLMELİ"]
[{"$f":"IF('DAV1'!A70=\"\",\"\",'DAV1'!A70)","v":""},{"$f":"IF('DAV1'!B70=\"\",\"\",'DAV1'!B70)","v":""},{"$f":"IF('DAV1'!C70=\"\",\"\",'DAV1'!C70)","v":""},1,1,1,1,1,1,1,1,1,1,"GELİŞTİRİLMELİ"]
[{"$f":"IF('DAV1'!A71=\"\",\"\",'DAV1'!A71)","v":""},{"$f":"IF('DAV1'!B71=\"\",\"\",'DAV1'!B71)","v":""},{"$f":"IF('DAV1'!C71=\"\",\"\",'DAV1'!C71)","v":""},1,1,1,1,1,1,1,1,1,1,"GELİŞTİRİLMELİ"]
[{"$f":"IF('DAV1'!A72=\"\",\"\",'DAV1'!A72)","v":""},{"$f":"IF('DAV1'!B72=\"\",\"\",'DAV1'!B72)","v":""},{"$f":"IF('DAV1'!C72=\"\",\"\",'DAV1'!C72)","v":""},1,1,1,1,1,1,1,1,1,1,"GELİŞTİRİLMELİ"]
[{"$f":"IF('DAV1'!A73=\"\",\"\",'DAV1'!A73)","v":""},{"$f":"IF('DAV1'!B73=\"\",\"\",'DAV1'!B73)","v":""},{"$f":"IF('DAV1'!C73=\"\",\"\",'DAV1'!C73)","v":""},1,1,1,1,1,1,1,1,1,1,"GELİŞTİRİLMELİ"]
[{"$f":"IF('DAV1'!A74=\"\",\"\",'DAV1'!A74)","v":""},{"$f":"IF('DAV1'!B74=\"\",\"\",'DAV1'!B74)","v":""},{"$f":"IF('DAV1'!C74=\"\",\"\",'DAV1'!C74)","v":""},1,1,1,1,1,1,1,1,1,1,"GELİŞTİRİLMELİ"]
[{"$f":"IF('DAV1'!A75=\"\",\"\",'DAV1'!A75)","v":""},{"$f":"IF('DAV1'!B75=\"\",\"\",'DAV1'!B75)","v":""},{"$f":"IF('DAV1'!C75=\"\",\"\",'DAV1'!C75)","v":""},1,1,1,1,1,1,1,1,1,1,"GELİŞTİRİLMELİ"]
[{"$f":"IF('DAV1'!A76=\"\",\"\",'DAV1'!A76)","v":""},{"$f":"IF('DAV1'!B76=\"\",\"\",'DAV1'!B76)","v":""},{"$f":"IF('DAV1'!C76=\"\",\"\",'DAV1'!C76)","v":""},1,1,1,1,1,1,1,1,1,1,"GELİŞTİRİLMELİ"]
[{"$f":"IF('DAV1'!A77=\"\",\"\",'DAV1'!A77)","v":""},{"$f":"IF('DAV1'!B77=\"\",\"\",'DAV1'!B77)","v":""},{"$f":"IF('DAV1'!C77=\"\",\"\",'DAV1'!C77)","v":""},1,1,1,1,1,1,1,1,1,1,"GELİŞTİRİLMELİ"]
[{"$f":"IF('DAV1'!A78=\"\",\"\",'DAV1'!A78)","v":""},{"$f":"IF('DAV1'!B78=\"\",\"\",'DAV1'!B78)","v":""},{"$f":"IF('DAV1'!C78=\"\",\"\",'DAV1'!C78)","v":""},1,1,1,1,1,1,1,1,1,1,"GELİŞTİRİLMELİ"]
[{"$f":"IF('DAV1'!A79=\"\",\"\",'DAV1'!A79)","v":""},{"$f":"IF('DAV1'!B79=\"\",\"\",'DAV1'!B79)","v":""},{"$f":"IF('DAV1'!C79=\"\",\"\",'DAV1'!C79)","v":""},1,1,1,1,1,1,1,1,1,1,"GELİŞTİRİLMELİ"]
[{"$f":"IF('DAV1'!A80=\"\",\"\",'DAV1'!A80)","v":""},{"$f":"IF('DAV1'!B80=\"\",\"\",'DAV1'!B80)","v":""},{"$f":"IF('DAV1'!C80=\"\",\"\",'DAV1'!C80)","v":""},1,1,1,1,1,1,1,1,1,1,"GELİŞTİRİLMELİ"]
[{"$f":"IF('DAV1'!A81=\"\",\"\",'DAV1'!A81)","v":""},{"$f":"IF('DAV1'!B81=\"\",\"\",'DAV1'!B81)","v":""},{"$f":"IF('DAV1'!C81=\"\",\"\",'DAV1'!C81)","v":""},1,1,1,1,1,1,1,1,1,1,"GELİŞTİRİLMELİ"]
[{"$f":"IF('DAV1'!A82=\"\",\"\",'DAV1'!A82)","v":""},{"$f":"IF('DAV1'!B82=\"\",\"\",'DAV1'!B82)","v":""},{"$f":"IF('DAV1'!C82=\"\",\"\",'DAV1'!C82)","v":""},1,1,1,1,1,1,1,1,1,1,"GELİŞTİRİLMELİ"]
[{"$f":"IF('DAV1'!A83=\"\",\"\",'DAV1'!A83)","v":""},{"$f":"IF('DAV1'!B83=\"\",\"\",'DAV1'!B83)","v":""},{"$f":"IF('DAV1'!C83=\"\",\"\",'DAV1'!C83)","v":""},1,1,1,1,1,1,1,1,1,1,"GELİŞTİRİLMELİ"]
[{"$f":"IF('DAV1'!A84=\"\",\"\",'DAV1'!A84)","v":""},{"$f":"IF('DAV1'!B84=\"\",\"\",'DAV1'!B84)","v":""},{"$f":"IF('DAV1'!C84=\"\",\"\",'DAV1'!C84)","v":""},1,1,1,1,1,1,1,1,1,1,"GELİŞTİRİLMELİ"]
[{"$f":"IF('DAV1'!A85=\"\",\"\",'DAV1'!A85)","v":""},{"$f":"IF('DAV1'!B85=\"\",\"\",'DAV1'!B85)","v":""},{"$f":"IF('DAV1'!C85=\"\",\"\",'DAV1'!C85)","v":""},1,1,1,1,1,1,1,1,1,1,"GELİŞTİRİLMELİ"]
[{"$f":"IF('DAV1'!A86=\"\",\"\",'DAV1'!A86)","v":""},{"$f":"IF('DAV1'!B86=\"\",\"\",'DAV1'!B86)","v":""},{"$f":"IF('DAV1'!C86=\"\",\"\",'DAV1'!C86)","v":""},1,1,1,1,1,1,1,1,1,1,"GELİŞTİRİLMELİ"]
[{"$f":"IF('DAV1'!A87=\"\",\"\",'DAV1'!A87)","v":""},{"$f":"IF('DAV1'!B87=\"\",\"\",'DAV1'!B87)","v":""},{"$f":"IF('DAV1'!C87=\"\",\"\",'DAV1'!C87)","v":""},1,1,1,1,1,1,1,1,1,1,"GELİŞTİRİLMELİ"]
[{"$f":"IF('DAV1'!A88=\"\",\"\",'DAV1'!A88)","v":""},{"$f":"IF('DAV1'!B88=\"\",\"\",'DAV1'!B88)","v":""},{"$f":"IF('DAV1'!C88=\"\",\"\",'DAV1'!C88)","v":""},1,1,1,1,1,1,1,1,1,1,"GELİŞTİRİLMELİ"]
[{"$f":"IF('DAV1'!A89=\"\",\"\",'DAV1'!A89)","v":""},{"$f":"IF('DAV1'!B89=\"\",\"\",'DAV1'!B89)","v":""},{"$f":"IF('DAV1'!C89=\"\",\"\",'DAV1'!C89)","v":""},1,1,1,1,1,1,1,1,1,1,"GELİŞTİRİLMELİ"]
[{"$f":"IF('DAV1'!A90=\"\",\"\",'DAV1'!A90)","v":""},{"$f":"IF('DAV1'!B90=\"\",\"\",'DAV1'!B90)","v":""},{"$f":"IF('DAV1'!C90=\"\",\"\",'DAV1'!C90)","v":""},1,1,1,1,1,1,1,1,1,1,"GELİŞTİRİLMELİ"]
[{"$f":"IF('DAV1'!A91=\"\",\"\",'DAV1'!A91)","v":""},{"$f":"IF('DAV1'!B91=\"\",\"\",'DAV1'!B91)","v":""},{"$f":"IF('DAV1'!C91=\"\",\"\",'DAV1'!C91)","v":""},1,1,1,1,1,1,1,1,1,1,"GELİŞTİRİLMELİ"]
[{"$f":"IF('DAV1'!A92=\"\",\"\",'DAV1'!A92)","v":""},{"$f":"IF('DAV1'!B92=\"\",\"\",'DAV1'!B92)","v":""},{"$f":"IF('DAV1'!C92=\"\",\"\",'DAV1'!C92)","v":""},1,1,1,1,1,1,1,1,1,1,"GELİŞTİRİLMELİ"]
[{"$f":"IF('DAV1'!A93=\"\",\"\",'DAV1'!A93)","v":""},{"$f":"IF('DAV1'!B93=\"\",\"\",'DAV1'!B93)","v":""},{"$f":"IF('DAV1'!C93=\"\",\"\",'DAV1'!C93)","v":""},1,1,1,1,1,1,1,1,1,1,"GELİŞTİRİLMELİ"]
[{"$f":"IF('DAV1'!A94=\"\",\"\",'DAV1'!A94)","v":""},{"$f":"IF('DAV1'!B94=\"\",\"\",'DAV1'!B94)","v":""},{"$f":"IF('DAV1'!C94=\"\",\"\",'DAV1'!C94)","v":""},1,1,1,1,1,1,1,1,1,1,"GELİŞTİRİLMELİ"]
[{"$f":"IF('DAV1'!A95=\"\",\"\",'DAV1'!A95)","v":""},{"$f":"IF('DAV1'!B95=\"\",\"\",'DAV1'!B95)","v":""},{"$f":"IF('DAV1'!C95=\"\",\"\",'DAV1'!C95)","v":""},1,1,1,1,1,1,1,1,1,1,"GELİŞTİRİLMELİ"]
[{"$f":"IF('DAV1'!A96=\"\",\"\",'DAV1'!A96)","v":""},{"$f":"IF('DAV1'!B96=\"\",\"\",'DAV1'!B96)","v":""},{"$f":"IF('DAV1'!C96=\"\",\"\",'DAV1'!C96)","v":""},1,1,1,1,1,1,1,1,1,1,"GELİŞTİRİLMELİ"]
[{"$f":"IF('DAV1'!A97=\"\",\"\",'DAV1'!A97)","v":""},{"$f":"IF('DAV1'!B97=\"\",\"\",'DAV1'!B97)","v":""},{"$f":"IF('DAV1'!C97=\"\",\"\",'DAV1'!C97)","v":""},1,1,1,1,1,1,1,1,1,1,"GELİŞTİRİLMELİ"]
[{"$f":"IF('DAV1'!A98=\"\",\"\",'DAV1'!A98)","v":""},{"$f":"IF('DAV1'!B98=\"\",\"\",'DAV1'!B98)","v":""},{"$f":"IF('DAV1'!C98=\"\",\"\",'DAV1'!C98)","v":""},1,1,1,1,1,1,1,1,1,1,"GELİŞTİRİLMELİ"]
[{"$f":"IF('DAV1'!A99=\"\",\"\",'DAV1'!A99)","v":""},{"$f":"IF('DAV1'!B99=\"\",\"\",'DAV1'!B99)","v":""},{"$f":"IF('DAV1'!C99=\"\",\"\",'DAV1'!C99)","v":""},1,1,1,1,1,1,1,1,1,{"$f":"AVERAGE(D99:L99)","v":1},"GELİŞTİRİLMELİ"]
[{"$f":"IF('DAV1'!A100=\"\",\"\",'DAV1'!A100)","v":""},{"$f":"IF('DAV1'!B100=\"\",\"\",'DAV1'!B100)","v":""},{"$f":"IF('DAV1'!C100=\"\",\"\",'DAV1'!C100)","v":""},1,1,1,1,1,1,1,1,1,1,"GELİŞTİRİLMELİ"]
[{"$f":"IF('DAV1'!A101=\"\",\"\",'DAV1'!A101)","v":""},{"$f":"IF('DAV1'!B101=\"\",\"\",'DAV1'!B101)","v":""},{"$f":"IF('DAV1'!C101=\"\",\"\",'DAV1'!C101)","v":""},1,1,1,1,1,1,1,1,1,1,{"$f":"IF(M101=\"\",\"\",(IF(M101>=2.5,\"ÇOK İYİ\",IF(M101>=1.5,\"İYİ\",IF(M101>=1,\"GELİŞTİRİLMELİ\")))))","v":"GELİŞTİRİLMELİ"}]
[{"$f":"IF('DAV1'!A102=\"\",\"\",'DAV1'!A102)","v":""},{"$f":"IF('DAV1'!B102=\"\",\"\",'DAV1'!B102)","v":""},{"$f":"IF('DAV1'!C102=\"\",\"\",'DAV1'!C102)","v":""},1,1,1,1,1,1,1,1,1,1,"GELİŞTİRİLMELİ"]
[]
[1,1,1,1,1,1,1,1,1,1,1,1,1,1,1,1,1,1,1,1,1,1,1,1,1,1,1,1,1,1,1,1,1,1,1,1,1,1,1,1,1,1,1,1,1,1,1,1,1,1,1,1,1,1,1,1,1,1,1,1,1,1,1,1,1,1,1,1,1,1,1,1,1,1,1,1,1,1,1,1,1,1,1,1,1,1,1,1,1,1,1,1,1,1,1,1,1,1,1,1]
[2,2,2,2,2,2,2,2,2,2,2,2,2,2,2,2,2,2,2,2,2,2,2,2,2,2,2,2,2,2,2,2,2,2,2,2,2,2,2,2,2,2,2,2,2,2,2,2,2,2,2,2,2,2,2,2,2,2,2,2,2,2,2,2,2,2,2,2,2,2,2,2,2,2,2,2,2,2,2,2,2,2,2,2,2,2,2,2,2,2,2,2,2,2,2,2,2,2,2,2]
[3,3,3,3,3,3,3,3,3,3,3,3,3,3,3,3,3,3,3,3,3,3,3,3,3,3,3,3,3,3,3,3,3,3,3,3,3,3,3,3,3,3,3,3,3,3,3,3,3,3,3,3,3,3,3,3,3,3,3,3,3,3,3,3,3,3,3,3,3,3,3,3,3,3,3,3,3,3,3,3,3,3,3,3,3,3,3,3,3,3,3,3,3,3,3,3,3,3,3,3]
[4,4,4,4,4,4,4,4,4,4,4,4,4,4,4,4,4,4,4,4,4,4,4,4,4,4,4,4,4,4,4,4,4,4,4,4,4,4,4,4,4,4,4,4,4,4,4,4,4,4,4,4,4,4,4,4,4,4,4,4,4,4,4,4,4,4,4,4,4,4,4,4,4,4,4,4,4,4,4,4,4,4,4,4,4,4,4,4,4,4,4,4,4,4,4,4,4,4,4,4]

{"sheet":"MZK2.1","index":14,"n_rows":107,"n_cols":100,"rows_kept":107,"cut":false,"hidden":false,"merged":[[0,0,0,2],[0,15,1,15],[0,16,1,16],[1,3,1,14]]}
["MÜZİK\n1. DÖNEM",null,null,"Mü.1.A.1. Ortama uygun müzik dinleme ve yapma kurallarını uygular.","Mü.1.A.2. İstiklâl Marşı’nı saygıyla dinler","Mü.1.A.3. Çevresindeki ses kaynaklarını ayırt eder.","Mü.1.A.4 Çevresinde duyduğu sesleri taklit eder.","Mü.1.D.5. Atatürk ile ilgili müzikleri tanır.","Mü.1.A.6. Düzenli ve düzensiz sesleri birbirinden ayırt eder.","Mü.1.A.7. Ses ve nefes çalışmaları yapar.","Mü.1.A.8. Öğrendiği müzikleri birlikte seslendirir.","Mü.1.A.9. Vücudunu ritim çalgısı gibi kullanır.","Mü.1.A.10. Belirli gün ve haftalarla ilgili müzik etkinliklerine katılır.","Mü.1.A.11. Atatürk ile ilgili müzik etkinliklerine katılır.","Mü.1.A.12. Müzik çalışmalarını sergiler.","ORTALAMA","DEĞERLENDİRME SONUCU"]
["SIRA","OKUL NO","ADI SOYADI"]
[{"$f":"IF('DAV1'!A3=\"\",\"\",'DAV1'!A3)","v":1},{"$f":"IF('DAV1'!B3=\"\",\"\",'DAV1'!B3)","v":11},{"$f":"IF('DAV1'!C3=\"\",\"\",'DAV1'!C3)","v":"KAYRA ÇINAR ERGÜN"},1,1,1,1,1,1,1,1,1,1,1,1,{"$f":"AVERAGE(D3:O3)","v":1},{"$f":"IF(P3=\"\",\"\",(IF(P3>=2.5,\"ÇOK İYİ\",IF(P3>=1.5,\"İYİ\",IF(P3>=1,\"GELİŞTİRİLMELİ\")))))","v":"GELİŞTİRİLMELİ"}]
[{"$f":"IF('DAV1'!A4=\"\",\"\",'DAV1'!A4)","v":2},{"$f":"IF('DAV1'!B4=\"\",\"\",'DAV1'!B4)","v":35},{"$f":"IF('DAV1'!C4=\"\",\"\",'DAV1'!C4)","v":"FURKAN SOLMAZ"},1,1,1,1,1,1,1,1,1,1,1,1,1,"GELİŞTİRİLMELİ"]
[{"$f":"IF('DAV1'!A5=\"\",\"\",'DAV1'!A5)","v":3},{"$f":"IF('DAV1'!B5=\"\",\"\",'DAV1'!B5)","v":53},{"$f":"IF('DAV1'!C5=\"\",\"\",'DAV1'!C5)","v":"İLKNUR MUMCU"},1,1,1,1,1,1,1,1,1,1,1,1,1,"GELİŞTİRİLMELİ"]
[{"$f":"IF('DAV1'!A6=\"\",\"\",'DAV1'!A6)","v":4},{"$f":"IF('DAV1'!B6=\"\",\"\",'DAV1'!B6)","v":83},{"$f":"IF('DAV1'!C6=\"\",\"\",'DAV1'!C6)","v":"MUHAMMET ALİ YILDIRIM"},1,1,1,1,1,1,1,1,1,1,1,1,1,"GELİŞTİRİLMELİ"]
[{"$f":"IF('DAV1'!A7=\"\",\"\",'DAV1'!A7)","v":5},{"$f":"IF('DAV1'!B7=\"\",\"\",'DAV1'!B7)","v":93},{"$f":"IF('DAV1'!C7=\"\",\"\",'DAV1'!C7)","v":"ERTUĞRUL GAZİ NAMLI"},1,1,1,1,1,1,1,1,1,1,1,1,1,"GELİŞTİRİLMELİ"]
[{"$f":"IF('DAV1'!A8=\"\",\"\",'DAV1'!A8)","v":6},{"$f":"IF('DAV1'!B8=\"\",\"\",'DAV1'!B8)","v":100},{"$f":"IF('DAV1'!C8=\"\",\"\",'DAV1'!C8)","v":"ECEM EFE"},1,1,1,1,1,1,1,1,1,1,1,1,1,"GELİŞTİRİLMELİ"]
[{"$f":"IF('DAV1'!A9=\"\",\"\",'DAV1'!A9)","v":7},{"$f":"IF('DAV1'!B9=\"\",\"\",'DAV1'!B9)","v":105},{"$f":"IF('DAV1'!C9=\"\",\"\",'DAV1'!C9)","v":"SELİM ZEKERİYA ÖZDEMİR"},1,1,1,1,1,1,1,1,1,1,1,1,1,"GELİŞTİRİLMELİ"]
[{"$f":"IF('DAV1'!A10=\"\",\"\",'DAV1'!A10)","v":8},{"$f":"IF('DAV1'!B10=\"\",\"\",'DAV1'!B10)","v":108},{"$f":"IF('DAV1'!C10=\"\",\"\",'DAV1'!C10)","v":"AREN KARAKAŞ"},1,1,1,1,1,1,1,1,1,1,1,1,1,"GELİŞTİRİLMELİ"]
[{"$f":"IF('DAV1'!A11=\"\",\"\",'DAV1'!A11)","v":9},{"$f":"IF('DAV1'!B11=\"\",\"\",'DAV1'!B11)","v":111},{"$f":"IF('DAV1'!C11=\"\",\"\",'DAV1'!C11)","v":"ZEHRA ŞAHİNOĞLU"},1,1,1,1,1,1,1,1,1,1,1,1,1,"GELİŞTİRİLMELİ"]
[{"$f":"IF('DAV1'!A12=\"\",\"\",'DAV1'!A12)","v":10},{"$f":"IF('DAV1'!B12=\"\",\"\",'DAV1'!B12)","v":113},{"$f":"IF('DAV1'!C12=\"\",\"\",'DAV1'!C12)","v":"YUSUF ALİ TÜNÇ"},1,1,1,1,1,1,1,1,1,1,1,1,1,"GELİŞTİRİLMELİ"]
[{"$f":"IF('DAV1'!A13=\"\",\"\",'DAV1'!A13)","v":11},{"$f":"IF('DAV1'!B13=\"\",\"\",'DAV1'!B13)","v":161},{"$f":"IF('DAV1'!C13=\"\",\"\",'DAV1'!C13)","v":"HÜSEYİN CELAYİR"},1,1,1,1,1,1,1,1,1,1,1,1,1,"GELİŞTİRİLMELİ"]
[{"$f":"IF('DAV1'!A14=\"\",\"\",'DAV1'!A14)","v":12},{"$f":"IF('DAV1'!B14=\"\",\"\",'DAV1'!B14)","v":177},{"$f":"IF('DAV1'!C14=\"\",\"\",'DAV1'!C14)","v":"YİĞİT EFE YEŞİLDAL"},1,1,1,1,1,1,1,1,1,1,1,1,1,"GELİŞTİRİLMELİ"]
[{"$f":"IF('DAV1'!A15=\"\",\"\",'DAV1'!A15)","v":13},{"$f":"IF('DAV1'!B15=\"\",\"\",'DAV1'!B15)","v":187},{"$f":"IF('DAV1'!C15=\"\",\"\",'DAV1'!C15)","v":"HALEF TAHA ATEŞ"},1,1,1,1,1,1,1,1,1,1,1,1,1,"GELİŞTİRİLMELİ"]
[{"$f":"IF('DAV1'!A16=\"\",\"\",'DAV1'!A16)","v":14},{"$f":"IF('DAV1'!B16=\"\",\"\",'DAV1'!B16)","v":188},{"$f":"IF('DAV1'!C16=\"\",\"\",'DAV1'!C16)","v":"EMİRHAN MERTOĞLU"},1,1,1,1,1,1,1,1,1,1,1,1,1,"GELİŞTİRİLMELİ"]
[{"$f":"IF('DAV1'!A17=\"\",\"\",'DAV1'!A17)","v":15},{"$f":"IF('DAV1'!B17=\"\",\"\",'DAV1'!B17)","v":189},{"$f":"IF('DAV1'!C17=\"\",\"\",'DAV1'!C17)","v":"EMİNE GÜVEN"},1,1,1,1,1,1,1,1,1,1,1,1,1,"GELİŞTİRİLMELİ"]
[{"$f":"IF('DAV1'!A18=\"\",\"\",'DAV1'!A18)","v":16},{"$f":"IF('DAV1'!B18=\"\",\"\",'DAV1'!B18)","v":213},{"$f":"IF('DAV1'!C18=\"\",\"\",'DAV1'!C18)","v":"YAĞMUR KILIÇ"},1,1,1,1,1,1,1,1,1,1,1,1,1,"GELİŞTİRİLMELİ"]
[{"$f":"IF('DAV1'!A19=\"\",\"\",'DAV1'!A19)","v":17},{"$f":"IF('DAV1'!B19=\"\",\"\",'DAV1'!B19)","v":214},{"$f":"IF('DAV1'!C19=\"\",\"\",'DAV1'!C19)","v":"ERDAL GÜLATAR"},1,1,1,1,1,1,1,1,1,1,1,1,1,"GELİŞTİRİLMELİ"]
[{"$f":"IF('DAV1'!A20=\"\",\"\",'DAV1'!A20)","v":18},{"$f":"IF('DAV1'!B20=\"\",\"\",'DAV1'!B20)","v":216},{"$f":"IF('DAV1'!C20=\"\",\"\",'DAV1'!C20)","v":"GAMZE ACAR"},1,1,1,1,1,1,1,1,1,1,1,1,1,"GELİŞTİRİLMELİ"]
[{"$f":"IF('DAV1'!A21=\"\",\"\",'DAV1'!A21)","v":19},{"$f":"IF('DAV1'!B21=\"\",\"\",'DAV1'!B21)","v":222},{"$f":"IF('DAV1'!C21=\"\",\"\",'DAV1'!C21)","v":"HİRANUR DOĞANDEMİR"},1,1,1,1,1,1,1,1,1,1,1,1,1,"GELİŞTİRİLMELİ"]
[{"$f":"IF('DAV1'!A22=\"\",\"\",'DAV1'!A22)","v":20},{"$f":"IF('DAV1'!B22=\"\",\"\",'DAV1'!B22)","v":224},{"$f":"IF('DAV1'!C22=\"\",\"\",'DAV1'!C22)","v":"TALHA YILMAZ"},1,1,1,1,1,1,1,1,1,1,1,1,1,"GELİŞTİRİLMELİ"]
[{"$f":"IF('DAV1'!A23=\"\",\"\",'DAV1'!A23)","v":21},{"$f":"IF('DAV1'!B23=\"\",\"\",'DAV1'!B23)","v":225},{"$f":"IF('DAV1'!C23=\"\",\"\",'DAV1'!C23)","v":"YUSUF EMİR DAĞDÖGEN"},1,1,1,1,1,1,1,1,1,1,1,1,1,"GELİŞTİRİLMELİ"]
[{"$f":"IF('DAV1'!A24=\"\",\"\",'DAV1'!A24)","v":22},{"$f":"IF('DAV1'!B24=\"\",\"\",'DAV1'!B24)","v":226},{"$f":"IF('DAV1'!C24=\"\",\"\",'DAV1'!C24)","v":"İMREN CANPOLAT"},1,1,1,1,1,1,1,1,1,1,1,1,1,"GELİŞTİRİLMELİ"]
[{"$f":"IF('DAV1'!A25=\"\",\"\",'DAV1'!A25)","v":23},{"$f":"IF('DAV1'!B25=\"\",\"\",'DAV1'!B25)","v":227},{"$f":"IF('DAV1'!C25=\"\",\"\",'DAV1'!C25)","v":"ZEYNEP CANPOLAT"},1,1,1,1,1,1,1,1,1,1,1,1,1,"GELİŞTİRİLMELİ"]
[{"$f":"IF('DAV1'!A26=\"\",\"\",'DAV1'!A26)","v":24},{"$f":"IF('DAV1'!B26=\"\",\"\",'DAV1'!B26)","v":229},{"$f":"IF('DAV1'!C26=\"\",\"\",'DAV1'!C26)","v":"MERYEM PARMAK"},1,1,1,1,1,1,1,1,1,1,1,1,1,"GELİŞTİRİLMELİ"]
[{"$f":"IF('DAV1'!A27=\"\",\"\",'DAV1'!A27)","v":25},{"$f":"IF('DAV1'!B27=\"\",\"\",'DAV1'!B27)","v":237},{"$f":"IF('DAV1'!C27=\"\",\"\",'DAV1'!C27)","v":"ZEYNEP MİRAY BOYRAZ"},1,1,1,1,1,1,1,1,1,1,1,1,1,"GELİŞTİRİLMELİ"]
[{"$f":"IF('DAV1'!A28=\"\",\"\",'DAV1'!A28)","v":26},{"$f":"IF('DAV1'!B28=\"\",\"\",'DAV1'!B28)","v":244},{"$f":"IF('DAV1'!C28=\"\",\"\",'DAV1'!C28)","v":"TAMER ŞEKERCİLEROĞLU"},1,1,1,1,1,1,1,1,1,1,1,1,1,"GELİŞTİRİLMELİ"]
[{"$f":"IF('DAV1'!A29=\"\",\"\",'DAV1'!A29)","v":27},{"$f":"IF('DAV1'!B29=\"\",\"\",'DAV1'!B29)","v":263},{"$f":"IF('DAV1'!C29=\"\",\"\",'DAV1'!C29)","v":"MUHAMMED YUSUF YILMAZ"},1,1,1,1,1,1,1,1,1,1,1,1,1,"GELİŞTİRİLMELİ"]
[{"$f":"IF('DAV1'!A30=\"\",\"\",'DAV1'!A30)","v":28},{"$f":"IF('DAV1'!B30=\"\",\"\",'DAV1'!B30)","v":264},{"$f":"IF('DAV1'!C30=\"\",\"\",'DAV1'!C30)","v":"OĞUZHAN GÜRGÜZE"},1,1,1,1,1,1,1,1,1,1,1,1,1,"GELİŞTİRİLMELİ"]
[{"$f":"IF('DAV1'!A31=\"\",\"\",'DAV1'!A31)","v":29},{"$f":"IF('DAV1'!B31=\"\",\"\",'DAV1'!B31)","v":279},{"$f":"IF('DAV1'!C31=\"\",\"\",'DAV1'!C31)","v":"MİHRİMA EKİCİ"},1,1,1,1,1,1,1,1,1,1,1,1,1,"GELİŞTİRİLMELİ"]
[{"$f":"IF('DAV1'!A32=\"\",\"\",'DAV1'!A32)","v":30},{"$f":"IF('DAV1'!B32=\"\",\"\",'DAV1'!B32)","v":290},{"$f":"IF('DAV1'!C32=\"\",\"\",'DAV1'!C32)","v":"NİSA NUR YILDIZ"},1,1,1,1,1,1,1,1,1,1,1,1,1,"GELİŞTİRİLMELİ"]
[{"$f":"IF('DAV1'!A33=\"\",\"\",'DAV1'!A33)","v":31},{"$f":"IF('DAV1'!B33=\"\",\"\",'DAV1'!B33)","v":293},{"$f":"IF('DAV1'!C33=\"\",\"\",'DAV1'!C33)","v":"MEHMET ALATAŞ"},1,1,1,1,1,1,1,1,1,1,1,1,1,"GELİŞTİRİLMELİ"]
[{"$f":"IF('DAV1'!A34=\"\",\"\",'DAV1'!A34)","v":32},{"$f":"IF('DAV1'!B34=\"\",\"\",'DAV1'!B34)","v":451},{"$f":"IF('DAV1'!C34=\"\",\"\",'DAV1'!C34)","v":"İKRA YILDIRIM"},1,1,1,1,1,1,1,1,1,1,1,1,1,"GELİŞTİRİLMELİ"]
[{"$f":"IF('DAV1'!A35=\"\",\"\",'DAV1'!A35)","v":33},{"$f":"IF('DAV1'!B35=\"\",\"\",'DAV1'!B35)","v":616},{"$f":"IF('DAV1'!C35=\"\",\"\",'DAV1'!C35)","v":"EDA TURAL"},1,1,1,1,1,1,1,1,1,1,1,1,{"$f":"AVERAGE(D35:O35)","v":1},"GELİŞTİRİLMELİ"]
[{"$f":"IF('DAV1'!A36=\"\",\"\",'DAV1'!A36)","v":34},{"$f":"IF('DAV1'!B36=\"\",\"\",'DAV1'!B36)","v":892},{"$f":"IF('DAV1'!C36=\"\",\"\",'DAV1'!C36)","v":"ALMA ALRAMADAN"},1,1,1,1,1,1,1,1,1,1,1,1,1,"GELİŞTİRİLMELİ"]
[{"$f":"IF('DAV1'!A37=\"\",\"\",'DAV1'!A37)","v":35},{"$f":"IF('DAV1'!B37=\"\",\"\",'DAV1'!B37)","v":1000},{"$f":"IF('DAV1'!C37=\"\",\"\",'DAV1'!C37)","v":"TURGUT POLAT"},1,1,1,1,1,1,1,1,1,1,1,1,1,{"$f":"IF(P37=\"\",\"\",(IF(P37>=2.5,\"ÇOK İYİ\",IF(P37>=1.5,\"İYİ\",IF(P37>=1,\"GELİŞTİRİLMELİ\")))))","v":"GELİŞTİRİLMELİ"}]
[{"$f":"IF('DAV1'!A38=\"\",\"\",'DAV1'!A38)","v":""},{"$f":"IF('DAV1'!B38=\"\",\"\",'DAV1'!B38)","v":""},{"$f":"IF('DAV1'!C38=\"\",\"\",'DAV1'!C38)","v":""},1,1,1,1,1,1,1,1,1,1,1,1,1,"GELİŞTİRİLMELİ"]
[{"$f":"IF('DAV1'!A39=\"\",\"\",'DAV1'!A39)","v":""},{"$f":"IF('DAV1'!B39=\"\",\"\",'DAV1'!B39)","v":""},{"$f":"IF('DAV1'!C39=\"\",\"\",'DAV1'!C39)","v":""},1,1,1,1,1,1,1,1,1,1,1,1,1,"GELİŞTİRİLMELİ"]
[{"$f":"IF('DAV1'!A40=\"\",\"\",'DAV1'!A40)","v":""},{"$f":"IF('DAV1'!B40=\"\",\"\",'DAV1'!B40)","v":""},{"$f":"IF('DAV1'!C40=\"\",\"\",'DAV1'!C40)","v":""},1,1,1,1,1,1,1,1,1,1,1,1,1,"GELİŞTİRİLMELİ"]
[{"$f":"IF('DAV1'!A41=\"\",\"\",'DAV1'!A41)","v":""},{"$f":"IF('DAV1'!B41=\"\",\"\",'DAV1'!B41)","v":""},{"$f":"IF('DAV1'!C41=\"\",\"\",'DAV1'!C41)","v":""},1,1,1,1,1,1,1,1,1,1,1,1,1,"GELİŞTİRİLMELİ"]
[{"$f":"IF('DAV1'!A42=\"\",\"\",'DAV1'!A42)","v":""},{"$f":"IF('DAV1'!B42=\"\",\"\",'DAV1'!B42)","v":""},{"$f":"IF('DAV1'!C42=\"\",\"\",'DAV1'!C42)","v":""},1,1,1,1,1,1,1,1,1,1,1,1,1,"GELİŞTİRİLMELİ"]
[{"$f":"IF('DAV1'!A43=\"\",\"\",'DAV1'!A43)","v":""},{"$f":"IF('DAV1'!B43=\"\",\"\",'DAV1'!B43)","v":""},{"$f":"IF('DAV1'!C43=\"\",\"\",'DAV1'!C43)","v":""},1,1,1,1,1,1,1,1,1,1,1,1,1,"GELİŞTİRİLMELİ"]
[{"$f":"IF('DAV1'!A44=\"\",\"\",'DAV1'!A44)","v":""},{"$f":"IF('DAV1'!B44=\"\",\"\",'DAV1'!B44)","v":""},{"$f":"IF('DAV1'!C44=\"\",\"\",'DAV1'!C44)","v":""},1,1,1,1,1,1,1,1,1,1,1,1,1,"GELİŞTİRİLMELİ"]
[{"$f":"IF('DAV1'!A45=\"\",\"\",'DAV1'!A45)","v":""},{"$f":"IF('DAV1'!B45=\"\",\"\",'DAV1'!B45)","v":""},{"$f":"IF('DAV1'!C45=\"\",\"\",'DAV1'!C45)","v":""},1,1,1,1,1,1,1,1,1,1,1,1,1,"GELİŞTİRİLMELİ"]
[{"$f":"IF('DAV1'!A46=\"\",\"\",'DAV1'!A46)","v":""},{"$f":"IF('DAV1'!B46=\"\",\"\",'DAV1'!B46)","v":""},{"$f":"IF('DAV1'!C46=\"\",\"\",'DAV1'!C46)","v":""},1,1,1,1,1,1,1,1,1,1,1,1,1,"GELİŞTİRİLMELİ"]
[{"$f":"IF('DAV1'!A47=\"\",\"\",'DAV1'!A47)","v":""},{"$f":"IF('DAV1'!B47=\"\",\"\",'DAV1'!B47)","v":""},{"$f":"IF('DAV1'!C47=\"\",\"\",'DAV1'!C47)","v":""},1,1,1,1,1,1,1,1,1,1,1,1,1,"GELİŞTİRİLMELİ"]
[{"$f":"IF('DAV1'!A48=\"\",\"\",'DAV1'!A48)","v":""},{"$f":"IF('DAV1'!B48=\"\",\"\",'DAV1'!B48)","v":""},{"$f":"IF('DAV1'!C48=\"\",\"\",'DAV1'!C48)","v":""},1,1,1,1,1,1,1,1,1,1,1,1,1,"GELİŞTİRİLMELİ"]
[{"$f":"IF('DAV1'!A49=\"\",\"\",'DAV1'!A49)","v":""},{"$f":"IF('DAV1'!B49=\"\",\"\",'DAV1'!B49)","v":""},{"$f":"IF('DAV1'!C49=\"\",\"\",'DAV1'!C49)","v":""},1,1,1,1,1,1,1,1,1,1,1,1,1,"GELİŞTİRİLMELİ"]
[{"$f":"IF('DAV1'!A50=\"\",\"\",'DAV1'!A50)","v":""},{"$f":"IF('DAV1'!B50=\"\",\"\",'DAV1'!B50)","v":""},{"$f":"IF('DAV1'!C50=\"\",\"\",'DAV1'!C50)","v":""},1,1,1,1,1,1,1,1,1,1,1,1,1,"GELİŞTİRİLMELİ"]
[{"$f":"IF('DAV1'!A51=\"\",\"\",'DAV1'!A51)","v":""},{"$f":"IF('DAV1'!B51=\"\",\"\",'DAV1'!B51)","v":""},{"$f":"IF('DAV1'!C51=\"\",\"\",'DAV1'!C51)","v":""},1,1,1,1,1,1,1,1,1,1,1,1,1,"GELİŞTİRİLMELİ"]
[{"$f":"IF('DAV1'!A52=\"\",\"\",'DAV1'!A52)","v":""},{"$f":"IF('DAV1'!B52=\"\",\"\",'DAV1'!B52)","v":""},{"$f":"IF('DAV1'!C52=\"\",\"\",'DAV1'!C52)","v":""},1,1,1,1,1,1,1,1,1,1,1,1,1,"GELİŞTİRİLMELİ"]
[{"$f":"IF('DAV1'!A53=\"\",\"\",'DAV1'!A53)","v":""},{"$f":"IF('DAV1'!B53=\"\",\"\",'DAV1'!B53)","v":""},{"$f":"IF('DAV1'!C53=\"\",\"\",'DAV1'!C53)","v":""},1,1,1,1,1,1,1,1,1,1,1,1,1,"GELİŞTİRİLMELİ"]
[{"$f":"IF('DAV1'!A54=\"\",\"\",'DAV1'!A54)","v":""},{"$f":"IF('DAV1'!B54=\"\",\"\",'DAV1'!B54)","v":""},{"$f":"IF('DAV1'!C54=\"\",\"\",'DAV1'!C54)","v":""},1,1,1,1,1,1,1,1,1,1,1,1,1,"GELİŞTİRİLMELİ"]
[{"$f":"IF('DAV1'!A55=\"\",\"\",'DAV1'!A55)","v":""},{"$f":"IF('DAV1'!B55=\"\",\"\",'DAV1'!B55)","v":""},{"$f":"IF('DAV1'!C55=\"\",\"\",'DAV1'!C55)","v":""},1,1,1,1,1,1,1,1,1,1,1,1,1,"GELİŞTİRİLMELİ"]
[{"$f":"IF('DAV1'!A56=\"\",\"\",'DAV1'!A56)","v":""},{"$f":"IF('DAV1'!B56=\"\",\"\",'DAV1'!B56)","v":""},{"$f":"IF('DAV1'!C56=\"\",\"\",'DAV1'!C56)","v":""},1,1,1,1,1,1,1,1,1,1,1,1,1,"GELİŞTİRİLMELİ"]
[{"$f":"IF('DAV1'!A57=\"\",\"\",'DAV1'!A57)","v":""},{"$f":"IF('DAV1'!B57=\"\",\"\",'DAV1'!B57)","v":""},{"$f":"IF('DAV1'!C57=\"\",\"\",'DAV1'!C57)","v":""},1,1,1,1,1,1,1,1,1,1,1,1,1,"GELİŞTİRİLMELİ"]
[{"$f":"IF('DAV1'!A58=\"\",\"\",'DAV1'!A58)","v":""},{"$f":"IF('DAV1'!B58=\"\",\"\",'DAV1'!B58)","v":""},{"$f":"IF('DAV1'!C58=\"\",\"\",'DAV1'!C58)","v":""},1,1,1,1,1,1,1,1,1,1,1,1,1,"GELİŞTİRİLMELİ"]
[{"$f":"IF('DAV1'!A59=\"\",\"\",'DAV1'!A59)","v":""},{"$f":"IF('DAV1'!B59=\"\",\"\",'DAV1'!B59)","v":""},{"$f":"IF('DAV1'!C59=\"\",\"\",'DAV1'!C59)","v":""},1,1,1,1,1,1,1,1,1,1,1,1,1,"GELİŞTİRİLMELİ"]
[{"$f":"IF('DAV1'!A60=\"\",\"\",'DAV1'!A60)","v":""},{"$f":"IF('DAV1'!B60=\"\",\"\",'DAV1'!B60)","v":""},{"$f":"IF('DAV1'!C60=\"\",\"\",'DAV1'!C60)","v":""},1,1,1,1,1,1,1,1,1,1,1,1,1,"GELİŞTİRİLMELİ"]
[{"$f":"IF('DAV1'!A61=\"\",\"\",'DAV1'!A61)","v":""},{"$f":"IF('DAV1'!B61=\"\",\"\",'DAV1'!B61)","v":""},{"$f":"IF('DAV1'!C61=\"\",\"\",'DAV1'!C61)","v":""},1,1,1,1,1,1,1,1,1,1,1,1,1,"GELİŞTİRİLMELİ"]
[{"$f":"IF('DAV1'!A62=\"\",\"\",'DAV1'!A62)","v":""},{"$f":"IF('DAV1'!B62=\"\",\"\",'DAV1'!B62)","v":""},{"$f":"IF('DAV1'!C62=\"\",\"\",'DAV1'!C62)","v":""},1,1,1,1,1,1,1,1,1,1,1,1,1,"GELİŞTİRİLMELİ"]
[{"$f":"IF('DAV1'!A63=\"\",\"\",'DAV1'!A63)","v":""},{"$f":"IF('DAV1'!B63=\"\",\"\",'DAV1'!B63)","v":""},{"$f":"IF('DAV1'!C63=\"\",\"\",'DAV1'!C63)","v":""},1,1,1,1,1,1,1,1,1,1,1,1,1,"GELİŞTİRİLMELİ"]
[{"$f":"IF('DAV1'!A64=\"\",\"\",'DAV1'!A64)","v":""},{"$f":"IF('DAV1'!B64=\"\",\"\",'DAV1'!B64)","v":""},{"$f":"IF('DAV1'!C64=\"\",\"\",'DAV1'!C64)","v":""},1,1,1,1,1,1,1,1,1,1,1,1,1,"GELİŞTİRİLMELİ"]
[{"$f":"IF('DAV1'!A65=\"\",\"\",'DAV1'!A65)","v":""},{"$f":"IF('DAV1'!B65=\"\",\"\",'DAV1'!B65)","v":""},{"$f":"IF('DAV1'!C65=\"\",\"\",'DAV1'!C65)","v":""},1,1,1,1,1,1,1,1,1,1,1,1,1,"GELİŞTİRİLMELİ"]
[{"$f":"IF('DAV1'!A66=\"\",\"\",'DAV1'!A66)","v":""},{"$f":"IF('DAV1'!B66=\"\",\"\",'DAV1'!B66)","v":""},{"$f":"IF('DAV1'!C66=\"\",\"\",'DAV1'!C66)","v":""},1,1,1,1,1,1,1,1,1,1,1,1,1,"GELİŞTİRİLMELİ"]
[{"$f":"IF('DAV1'!A67=\"\",\"\",'DAV1'!A67)","v":""},{"$f":"IF('DAV1'!B67=\"\",\"\",'DAV1'!B67)","v":""},{"$f":"IF('DAV1'!C67=\"\",\"\",'DAV1'!C67)","v":""},1,1,1,1,1,1,1,1,1,1,1,1,{"$f":"AVERAGE(D67:O67)","v":1},"GELİŞTİRİLMELİ"]
[{"$f":"IF('DAV1'!A68=\"\",\"\",'DAV1'!A68)","v":""},{"$f":"IF('DAV1'!B68=\"\",\"\",'DAV1'!B68)","v":""},{"$f":"IF('DAV1'!C68=\"\",\"\",'DAV1'!C68)","v":""},1,1,1,1,1,1,1,1,1,1,1,1,1,"GELİŞTİRİLMELİ"]
[{"$f":"IF('DAV1'!A69=\"\",\"\",'DAV1'!A69)","v":""},{"$f":"IF('DAV1'!B69=\"\",\"\",'DAV1'!B69)","v":""},{"$f":"IF('DAV1'!C69=\"\",\"\",'DAV1'!C69)","v":""},1,1,1,1,1,1,1,1,1,1,1,1,1,"GELİŞTİRİLMELİ"]
[{"$f":"IF('DAV1'!A70=\"\",\"\",'DAV1'!A70)","v":""},{"$f":"IF('DAV1'!B70=\"\",\"\",'DAV1'!B70)","v":""},{"$f":"IF('DAV1'!C70=\"\",\"\",'DAV1'!C70)","v":""},1,1,1,1,1,1,1,1,1,1,1,1,1,"GELİŞTİRİLMELİ"]
[{"$f":"IF('DAV1'!A71=\"\",\"\",'DAV1'!A71)","v":""},{"$f":"IF('DAV1'!B71=\"\",\"\",'DAV1'!B71)","v":""},{"$f":"IF('DAV1'!C71=\"\",\"\",'DAV1'!C71)","v":""},1,1,1,1,1,1,1,1,1,1,1,1,1,"GELİŞTİRİLMELİ"]
[{"$f":"IF('DAV1'!A72=\"\",\"\",'DAV1'!A72)","v":""},{"$f":"IF('DAV1'!B72=\"\",\"\",'DAV1'!B72)","v":""},{"$f":"IF('DAV1'!C72=\"\",\"\",'DAV1'!C72)","v":""},1,1,1,1,1,1,1,1,1,1,1,1,1,"GELİŞTİRİLMELİ"]
[{"$f":"IF('DAV1'!A73=\"\",\"\",'DAV1'!A73)","v":""},{"$f":"IF('DAV1'!B73=\"\",\"\",'DAV1'!B73)","v":""},{"$f":"IF('DAV1'!C73=\"\",\"\",'DAV1'!C73)","v":""},1,1,1,1,1,1,1,1,1,1,1,1,1,"GELİŞTİRİLMELİ"]
[{"$f":"IF('DAV1'!A74=\"\",\"\",'DAV1'!A74)","v":""},{"$f":"IF('DAV1'!B74=\"\",\"\",'DAV1'!B74)","v":""},{"$f":"IF('DAV1'!C74=\"\",\"\",'DAV1'!C74)","v":""},1,1,1,1,1,1,1,1,1,1,1,1,1,"GELİŞTİRİLMELİ"]
[{"$f":"IF('DAV1'!A75=\"\",\"\",'DAV1'!A75)","v":""},{"$f":"IF('DAV1'!B75=\"\",\"\",'DAV1'!B75)","v":""},{"$f":"IF('DAV1'!C75=\"\",\"\",'DAV1'!C75)","v":""},1,1,1,1,1,1,1,1,1,1,1,1,1,"GELİŞTİRİLMELİ"]
[{"$f":"IF('DAV1'!A76=\"\",\"\",'DAV1'!A76)","v":""},{"$f":"IF('DAV1'!B76=\"\",\"\",'DAV1'!B76)","v":""},{"$f":"IF('DAV1'!C76=\"\",\"\",'DAV1'!C76)","v":""},1,1,1,1,1,1,1,1,1,1,1,1,1,"GELİŞTİRİLMELİ"]
[{"$f":"IF('DAV1'!A77=\"\",\"\",'DAV1'!A77)","v":""},{"$f":"IF('DAV1'!B77=\"\",\"\",'DAV1'!B77)","v":""},{"$f":"IF('DAV1'!C77=\"\",\"\",'DAV1'!C77)","v":""},1,1,1,1,1,1,1,1,1,1,1,1,1,"GELİŞTİRİLMELİ"]
[{"$f":"IF('DAV1'!A78=\"\",\"\",'DAV1'!A78)","v":""},{"$f":"IF('DAV1'!B78=\"\",\"\",'DAV1'!B78)","v":""},{"$f":"IF('DAV1'!C78=\"\",\"\",'DAV1'!C78)","v":""},1,1,1,1,1,1,1,1,1,1,1,1,1,"GELİŞTİRİLMELİ"]
[{"$f":"IF('DAV1'!A79=\"\",\"\",'DAV1'!A79)","v":""},{"$f":"IF('DAV1'!B79=\"\",\"\",'DAV1'!B79)","v":""},{"$f":"IF('DAV1'!C79=\"\",\"\",'DAV1'!C79)","v":""},1,1,1,1,1,1,1,1,1,1,1,1,1,"GELİŞTİRİLMELİ"]
[{"$f":"IF('DAV1'!A80=\"\",\"\",'DAV1'!A80)","v":""},{"$f":"IF('DAV1'!B80=\"\",\"\",'DAV1'!B80)","v":""},{"$f":"IF('DAV1'!C80=\"\",\"\",'DAV1'!C80)","v":""},1,1,1,1,1,1,1,1,1,1,1,1,1,"GELİŞTİRİLMELİ"]
[{"$f":"IF('DAV1'!A81=\"\",\"\",'DAV1'!A81)","v":""},{"$f":"IF('DAV1'!B81=\"\",\"\",'DAV1'!B81)","v":""},{"$f":"IF('DAV1'!C81=\"\",\"\",'DAV1'!C81)","v":""},1,1,1,1,1,1,1,1,1,1,1,1,1,"GELİŞTİRİLMELİ"]
[{"$f":"IF('DAV1'!A82=\"\",\"\",'DAV1'!A82)","v":""},{"$f":"IF('DAV1'!B82=\"\",\"\",'DAV1'!B82)","v":""},{"$f":"IF('DAV1'!C82=\"\",\"\",'DAV1'!C82)","v":""},1,1,1,1,1,1,1,1,1,1,1,1,1,"GELİŞTİRİLMELİ"]
[{"$f":"IF('DAV1'!A83=\"\",\"\",'DAV1'!A83)","v":""},{"$f":"IF('DAV1'!B83=\"\",\"\",'DAV1'!B83)","v":""},{"$f":"IF('DAV1'!C83=\"\",\"\",'DAV1'!C83)","v":""},1,1,1,1,1,1,1,1,1,1,1,1,1,"GELİŞTİRİLMELİ"]
[{"$f":"IF('DAV1'!A84=\"\",\"\",'DAV1'!A84)","v":""},{"$f":"IF('DAV1'!B84=\"\",\"\",'DAV1'!B84)","v":""},{"$f":"IF('DAV1'!C84=\"\",\"\",'DAV1'!C84)","v":""},1,1,1,1,1,1,1,1,1,1,1,1,1,"GELİŞTİRİLMELİ"]
[{"$f":"IF('DAV1'!A85=\"\",\"\",'DAV1'!A85)","v":""},{"$f":"IF('DAV1'!B85=\"\",\"\",'DAV1'!B85)","v":""},{"$f":"IF('DAV1'!C85=\"\",\"\",'DAV1'!C85)","v":""},1,1,1,1,1,1,1,1,1,1,1,1,1,"GELİŞTİRİLMELİ"]
[{"$f":"IF('DAV1'!A86=\"\",\"\",'DAV1'!A86)","v":""},{"$f":"IF('DAV1'!B86=\"\",\"\",'DAV1'!B86)","v":""},{"$f":"IF('DAV1'!C86=\"\",\"\",'DAV1'!C86)","v":""},1,1,1,1,1,1,1,1,1,1,1,1,1,"GELİŞTİRİLMELİ"]
[{"$f":"IF('DAV1'!A87=\"\",\"\",'DAV1'!A87)","v":""},{"$f":"IF('DAV1'!B87=\"\",\"\",'DAV1'!B87)","v":""},{"$f":"IF('DAV1'!C87=\"\",\"\",'DAV1'!C87)","v":""},1,1,1,1,1,1,1,1,1,1,1,1,1,"GELİŞTİRİLMELİ"]
[{"$f":"IF('DAV1'!A88=\"\",\"\",'DAV1'!A88)","v":""},{"$f":"IF('DAV1'!B88=\"\",\"\",'DAV1'!B88)","v":""},{"$f":"IF('DAV1'!C88=\"\",\"\",'DAV1'!C88)","v":""},1,1,1,1,1,1,1,1,1,1,1,1,1,"GELİŞTİRİLMELİ"]
[{"$f":"IF('DAV1'!A89=\"\",\"\",'DAV1'!A89)","v":""},{"$f":"IF('DAV1'!B89=\"\",\"\",'DAV1'!B89)","v":""},{"$f":"IF('DAV1'!C89=\"\",\"\",'DAV1'!C89)","v":""},1,1,1,1,1,1,1,1,1,1,1,1,1,"GELİŞTİRİLMELİ"]
[{"$f":"IF('DAV1'!A90=\"\",\"\",'DAV1'!A90)","v":""},{"$f":"IF('DAV1'!B90=\"\",\"\",'DAV1'!B90)","v":""},{"$f":"IF('DAV1'!C90=\"\",\"\",'DAV1'!C90)","v":""},1,1,1,1,1,1,1,1,1,1,1,1,1,"GELİŞTİRİLMELİ"]
[{"$f":"IF('DAV1'!A91=\"\",\"\",'DAV1'!A91)","v":""},{"$f":"IF('DAV1'!B91=\"\",\"\",'DAV1'!B91)","v":""},{"$f":"IF('DAV1'!C91=\"\",\"\",'DAV1'!C91)","v":""},1,1,1,1,1,1,1,1,1,1,1,1,1,"GELİŞTİRİLMELİ"]
[{"$f":"IF('DAV1'!A92=\"\",\"\",'DAV1'!A92)","v":""},{"$f":"IF('DAV1'!B92=\"\",\"\",'DAV1'!B92)","v":""},{"$f":"IF('DAV1'!C92=\"\",\"\",'DAV1'!C92)","v":""},1,1,1,1,1,1,1,1,1,1,1,1,1,"GELİŞTİRİLMELİ"]
[{"$f":"IF('DAV1'!A93=\"\",\"\",'DAV1'!A93)","v":""},{"$f":"IF('DAV1'!B93=\"\",\"\",'DAV1'!B93)","v":""},{"$f":"IF('DAV1'!C93=\"\",\"\",'DAV1'!C93)","v":""},1,1,1,1,1,1,1,1,1,1,1,1,1,"GELİŞTİRİLMELİ"]
[{"$f":"IF('DAV1'!A94=\"\",\"\",'DAV1'!A94)","v":""},{"$f":"IF('DAV1'!B94=\"\",\"\",'DAV1'!B94)","v":""},{"$f":"IF('DAV1'!C94=\"\",\"\",'DAV1'!C94)","v":""},1,1,1,1,1,1,1,1,1,1,1,1,1,"GELİŞTİRİLMELİ"]
[{"$f":"IF('DAV1'!A95=\"\",\"\",'DAV1'!A95)","v":""},{"$f":"IF('DAV1'!B95=\"\",\"\",'DAV1'!B95)","v":""},{"$f":"IF('DAV1'!C95=\"\",\"\",'DAV1'!C95)","v":""},1,1,1,1,1,1,1,1,1,1,1,1,1,"GELİŞTİRİLMELİ"]
[{"$f":"IF('DAV1'!A96=\"\",\"\",'DAV1'!A96)","v":""},{"$f":"IF('DAV1'!B96=\"\",\"\",'DAV1'!B96)","v":""},{"$f":"IF('DAV1'!C96=\"\",\"\",'DAV1'!C96)","v":""},1,1,1,1,1,1,1,1,1,1,1,1,1,"GELİŞTİRİLMELİ"]
[{"$f":"IF('DAV1'!A97=\"\",\"\",'DAV1'!A97)","v":""},{"$f":"IF('DAV1'!B97=\"\",\"\",'DAV1'!B97)","v":""},{"$f":"IF('DAV1'!C97=\"\",\"\",'DAV1'!C97)","v":""},1,1,1,1,1,1,1,1,1,1,1,1,1,"GELİŞTİRİLMELİ"]
[{"$f":"IF('DAV1'!A98=\"\",\"\",'DAV1'!A98)","v":""},{"$f":"IF('DAV1'!B98=\"\",\"\",'DAV1'!B98)","v":""},{"$f":"IF('DAV1'!C98=\"\",\"\",'DAV1'!C98)","v":""},1,1,1,1,1,1,1,1,1,1,1,1,1,"GELİŞTİRİLMELİ"]
[{"$f":"IF('DAV1'!A99=\"\",\"\",'DAV1'!A99)","v":""},{"$f":"IF('DAV1'!B99=\"\",\"\",'DAV1'!B99)","v":""},{"$f":"IF('DAV1'!C99=\"\",\"\",'DAV1'!C99)","v":""},1,1,1,1,1,1,1,1,1,1,1,1,{"$f":"AVERAGE(D99:O99)","v":1},"GELİŞTİRİLMELİ"]
[{"$f":"IF('DAV1'!A100=\"\",\"\",'DAV1'!A100)","v":""},{"$f":"IF('DAV1'!B100=\"\",\"\",'DAV1'!B100)","v":""},{"$f":"IF('DAV1'!C100=\"\",\"\",'DAV1'!C100)","v":""},1,1,1,1,1,1,1,1,1,1,1,1,1,"GELİŞTİRİLMELİ"]
[{"$f":"IF('DAV1'!A101=\"\",\"\",'DAV1'!A101)","v":""},{"$f":"IF('DAV1'!B101=\"\",\"\",'DAV1'!B101)","v":""},{"$f":"IF('DAV1'!C101=\"\",\"\",'DAV1'!C101)","v":""},1,1,1,1,1,1,1,1,1,1,1,1,1,{"$f":"IF(P101=\"\",\"\",(IF(P101>=2.5,\"ÇOK İYİ\",IF(P101>=1.5,\"İYİ\",IF(P101>=1,\"GELİŞTİRİLMELİ\")))))","v":"GELİŞTİRİLMELİ"}]
[{"$f":"IF('DAV1'!A102=\"\",\"\",'DAV1'!A102)","v":""},{"$f":"IF('DAV1'!B102=\"\",\"\",'DAV1'!B102)","v":""},{"$f":"IF('DAV1'!C102=\"\",\"\",'DAV1'!C102)","v":""},1,1,1,1,1,1,1,1,1,1,1,1,1,"GELİŞTİRİLMELİ"]
[]
[1,1,1,1,1,1,1,1,1,1,1,1,1,1,1,1,1,1,1,1,1,1,1,1,1,1,1,1,1,1,1,1,1,1,1,1,1,1,1,1,1,1,1,1,1,1,1,1,1,1,1,1,1,1,1,1,1,1,1,1,1,1,1,1,1,1,1,1,1,1,1,1,1,1,1,1,1,1,1,1,1,1,1,1,1,1,1,1,1,1,1,1,1,1,1,1,1,1,1,1]
[2,2,2,2,2,2,2,2,2,2,2,2,2,2,2,2,2,2,2,2,2,2,2,2,2,2,2,2,2,2,2,2,2,2,2,2,2,2,2,2,2,2,2,2,2,2,2,2,2,2,2,2,2,2,2,2,2,2,2,2,2,2,2,2,2,2,2,2,2,2,2,2,2,2,2,2,2,2,2,2,2,2,2,2,2,2,2,2,2,2,2,2,2,2,2,2,2,2,2,2]
[3,3,3,3,3,3,3,3,3,3,3,3,3,3,3,3,3,3,3,3,3,3,3,3,3,3,3,3,3,3,3,3,3,3,3,3,3,3,3,3,3,3,3,3,3,3,3,3,3,3,3,3,3,3,3,3,3,3,3,3,3,3,3,3,3,3,3,3,3,3,3,3,3,3,3,3,3,3,3,3,3,3,3,3,3,3,3,3,3,3,3,3,3,3,3,3,3,3,3,3]
[4,4,4,4,4,4,4,4,4,4,4,4,4,4,4,4,4,4,4,4,4,4,4,4,4,4,4,4,4,4,4,4,4,4,4,4,4,4,4,4,4,4,4,4,4,4,4,4,4,4,4,4,4,4,4,4,4,4,4,4,4,4,4,4,4,4,4,4,4,4,4,4,4,4,4,4,4,4,4,4,4,4,4,4,4,4,4,4,4,4,4,4,4,4,4,4,4,4,4,4]

{"sheet":"MZK2.2","index":15,"n_rows":107,"n_cols":100,"rows_kept":107,"cut":false,"hidden":false,"merged":[[0,0,0,2],[0,16,1,16],[0,17,1,17],[1,3,1,15]]}
["MÜZİK\n2. DÖNEM",null,null,"Mü.1.B.1. Müzik çalışmalarını gerçekleştirdiği ortamı tanır.","Mü.1.B.2. Çevresindeki varlıkları hareket hızlarıyla ayırt eder.","Mü.1.B.3. Müziklere uygun hızda hareket eder.","Mü.1.C.1. Ses oyunları yapar.","Mü.1.C.2. Oluşturduğu ritim çalgısıyla öğrendiği müziklere eşlik eder.","Mü.1.C.3. Basit ritmik yapıdaki ezgileri harekete dönüştürür.","Mü.1.C.4. Dinlediği / söylediği okul şarkılarının sözlerine uygun hareketler oluşturur.","Mü.1.C.5. Dinlediği öyküdeki olayları farklı ses kaynakları kullanarak canlandırır.","Mü.1.D.1. İstiklâl Marşı’na saygı gösterir.","Mü.1.D.2. Çevresindeki müzik etkinliklerine katılır.","Mü.1.D.3. Ortama uygun müzik dinleme ve yapma kurallarını bilir.","Mü.1.D.4. Ortama uygun müzik dinleme ve yapma davranışları sergiler.","Mü.1.D.5. Atatürk ile ilgili müzikleri tanır.","ORTALAMA","DEĞERLENDİRME SONUCU"]
["SIRA","OKUL NO","ADI SOYADI"]
[{"$f":"IF('DAV1'!A3=\"\",\"\",'DAV1'!A3)","v":1},{"$f":"IF('DAV1'!B3=\"\",\"\",'DAV1'!B3)","v":11},{"$f":"IF('DAV1'!C3=\"\",\"\",'DAV1'!C3)","v":"KAYRA ÇINAR ERGÜN"},1,1,1,1,1,1,1,1,1,1,1,1,1,{"$f":"AVERAGE(D3:P3)","v":1},{"$f":"IF(Q3=\"\",\"\",(IF(Q3>=2.5,\"ÇOK İYİ\",IF(Q3>=1.5,\"İYİ\",IF(Q3>=1,\"GELİŞTİRİLMELİ\")))))","v":"GELİŞTİRİLMELİ"}]
[{"$f":"IF('DAV1'!A4=\"\",\"\",'DAV1'!A4)","v":2},{"$f":"IF('DAV1'!B4=\"\",\"\",'DAV1'!B4)","v":35},{"$f":"IF('DAV1'!C4=\"\",\"\",'DAV1'!C4)","v":"FURKAN SOLMAZ"},1,1,1,1,1,1,1,1,1,1,1,1,1,1,"GELİŞTİRİLMELİ"]
[{"$f":"IF('DAV1'!A5=\"\",\"\",'DAV1'!A5)","v":3},{"$f":"IF('DAV1'!B5=\"\",\"\",'DAV1'!B5)","v":53},{"$f":"IF('DAV1'!C5=\"\",\"\",'DAV1'!C5)","v":"İLKNUR MUMCU"},1,1,1,1,1,1,1,1,1,1,1,1,1,1,"GELİŞTİRİLMELİ"]
[{"$f":"IF('DAV1'!A6=\"\",\"\",'DAV1'!A6)","v":4},{"$f":"IF('DAV1'!B6=\"\",\"\",'DAV1'!B6)","v":83},{"$f":"IF('DAV1'!C6=\"\",\"\",'DAV1'!C6)","v":"MUHAMMET ALİ YILDIRIM"},1,1,1,1,1,1,1,1,1,1,1,1,1,1,"GELİŞTİRİLMELİ"]
[{"$f":"IF('DAV1'!A7=\"\",\"\",'DAV1'!A7)","v":5},{"$f":"IF('DAV1'!B7=\"\",\"\",'DAV1'!B7)","v":93},{"$f":"IF('DAV1'!C7=\"\",\"\",'DAV1'!C7)","v":"ERTUĞRUL GAZİ NAMLI"},1,1,1,1,1,1,1,1,1,1,1,1,1,1,"GELİŞTİRİLMELİ"]
[{"$f":"IF('DAV1'!A8=\"\",\"\",'DAV1'!A8)","v":6},{"$f":"IF('DAV1'!B8=\"\",\"\",'DAV1'!B8)","v":100},{"$f":"IF('DAV1'!C8=\"\",\"\",'DAV1'!C8)","v":"ECEM EFE"},1,1,1,1,1,1,1,1,1,1,1,1,1,1,"GELİŞTİRİLMELİ"]
[{"$f":"IF('DAV1'!A9=\"\",\"\",'DAV1'!A9)","v":7},{"$f":"IF('DAV1'!B9=\"\",\"\",'DAV1'!B9)","v":105},{"$f":"IF('DAV1'!C9=\"\",\"\",'DAV1'!C9)","v":"SELİM ZEKERİYA ÖZDEMİR"},1,1,1,1,1,1,1,1,1,1,1,1,1,1,"GELİŞTİRİLMELİ"]
[{"$f":"IF('DAV1'!A10=\"\",\"\",'DAV1'!A10)","v":8},{"$f":"IF('DAV1'!B10=\"\",\"\",'DAV1'!B10)","v":108},{"$f":"IF('DAV1'!C10=\"\",\"\",'DAV1'!C10)","v":"AREN KARAKAŞ"},1,1,1,1,1,1,1,1,1,1,1,1,1,1,"GELİŞTİRİLMELİ"]
[{"$f":"IF('DAV1'!A11=\"\",\"\",'DAV1'!A11)","v":9},{"$f":"IF('DAV1'!B11=\"\",\"\",'DAV1'!B11)","v":111},{"$f":"IF('DAV1'!C11=\"\",\"\",'DAV1'!C11)","v":"ZEHRA ŞAHİNOĞLU"},1,1,1,1,1,1,1,1,1,1,1,1,1,1,"GELİŞTİRİLMELİ"]
[{"$f":"IF('DAV1'!A12=\"\",\"\",'DAV1'!A12)","v":10},{"$f":"IF('DAV1'!B12=\"\",\"\",'DAV1'!B12)","v":113},{"$f":"IF('DAV1'!C12=\"\",\"\",'DAV1'!C12)","v":"YUSUF ALİ TÜNÇ"},1,1,1,1,1,1,1,1,1,1,1,1,1,1,"GELİŞTİRİLMELİ"]
[{"$f":"IF('DAV1'!A13=\"\",\"\",'DAV1'!A13)","v":11},{"$f":"IF('DAV1'!B13=\"\",\"\",'DAV1'!B13)","v":161},{"$f":"IF('DAV1'!C13=\"\",\"\",'DAV1'!C13)","v":"HÜSEYİN CELAYİR"},1,1,1,1,1,1,1,1,1,1,1,1,1,1,"GELİŞTİRİLMELİ"]
[{"$f":"IF('DAV1'!A14=\"\",\"\",'DAV1'!A14)","v":12},{"$f":"IF('DAV1'!B14=\"\",\"\",'DAV1'!B14)","v":177},{"$f":"IF('DAV1'!C14=\"\",\"\",'DAV1'!C14)","v":"YİĞİT EFE YEŞİLDAL"},1,1,1,1,1,1,1,1,1,1,1,1,1,1,"GELİŞTİRİLMELİ"]
[{"$f":"IF('DAV1'!A15=\"\",\"\",'DAV1'!A15)","v":13},{"$f":"IF('DAV1'!B15=\"\",\"\",'DAV1'!B15)","v":187},{"$f":"IF('DAV1'!C15=\"\",\"\",'DAV1'!C15)","v":"HALEF TAHA ATEŞ"},1,1,1,1,1,1,1,1,1,1,1,1,1,1,"GELİŞTİRİLMELİ"]
[{"$f":"IF('DAV1'!A16=\"\",\"\",'DAV1'!A16)","v":14},{"$f":"IF('DAV1'!B16=\"\",\"\",'DAV1'!B16)","v":188},{"$f":"IF('DAV1'!C16=\"\",\"\",'DAV1'!C16)","v":"EMİRHAN MERTOĞLU"},1,1,1,1,1,1,1,1,1,1,1,1,1,1,"GELİŞTİRİLMELİ"]
[{"$f":"IF('DAV1'!A17=\"\",\"\",'DAV1'!A17)","v":15},{"$f":"IF('DAV1'!B17=\"\",\"\",'DAV1'!B17)","v":189},{"$f":"IF('DAV1'!C17=\"\",\"\",'DAV1'!C17)","v":"EMİNE GÜVEN"},1,1,1,1,1,1,1,1,1,1,1,1,1,1,"GELİŞTİRİLMELİ"]
[{"$f":"IF('DAV1'!A18=\"\",\"\",'DAV1'!A18)","v":16},{"$f":"IF('DAV1'!B18=\"\",\"\",'DAV1'!B18)","v":213},{"$f":"IF('DAV1'!C18=\"\",\"\",'DAV1'!C18)","v":"YAĞMUR KILIÇ"},1,1,1,1,1,1,1,1,1,1,1,1,1,1,"GELİŞTİRİLMELİ"]
[{"$f":"IF('DAV1'!A19=\"\",\"\",'DAV1'!A19)","v":17},{"$f":"IF('DAV1'!B19=\"\",\"\",'DAV1'!B19)","v":214},{"$f":"IF('DAV1'!C19=\"\",\"\",'DAV1'!C19)","v":"ERDAL GÜLATAR"},1,1,1,1,1,1,1,1,1,1,1,1,1,1,"GELİŞTİRİLMELİ"]
[{"$f":"IF('DAV1'!A20=\"\",\"\",'DAV1'!A20)","v":18},{"$f":"IF('DAV1'!B20=\"\",\"\",'DAV1'!B20)","v":216},{"$f":"IF('DAV1'!C20=\"\",\"\",'DAV1'!C20)","v":"GAMZE ACAR"},1,1,1,1,1,1,1,1,1,1,1,1,1,1,"GELİŞTİRİLMELİ"]
[{"$f":"IF('DAV1'!A21=\"\",\"\",'DAV1'!A21)","v":19},{"$f":"IF('DAV1'!B21=\"\",\"\",'DAV1'!B21)","v":222},{"$f":"IF('DAV1'!C21=\"\",\"\",'DAV1'!C21)","v":"HİRANUR DOĞANDEMİR"},1,1,1,1,1,1,1,1,1,1,1,1,1,1,"GELİŞTİRİLMELİ"]
[{"$f":"IF('DAV1'!A22=\"\",\"\",'DAV1'!A22)","v":20},{"$f":"IF('DAV1'!B22=\"\",\"\",'DAV1'!B22)","v":224},{"$f":"IF('DAV1'!C22=\"\",\"\",'DAV1'!C22)","v":"TALHA YILMAZ"},1,1,1,1,1,1,1,1,1,1,1,1,1,1,"GELİŞTİRİLMELİ"]
[{"$f":"IF('DAV1'!A23=\"\",\"\",'DAV1'!A23)","v":21},{"$f":"IF('DAV1'!B23=\"\",\"\",'DAV1'!B23)","v":225},{"$f":"IF('DAV1'!C23=\"\",\"\",'DAV1'!C23)","v":"YUSUF EMİR DAĞDÖGEN"},1,1,1,1,1,1,1,1,1,1,1,1,1,1,"GELİŞTİRİLMELİ"]
[{"$f":"IF('DAV1'!A24=\"\",\"\",'DAV1'!A24)","v":22},{"$f":"IF('DAV1'!B24=\"\",\"\",'DAV1'!B24)","v":226},{"$f":"IF('DAV1'!C24=\"\",\"\",'DAV1'!C24)","v":"İMREN CANPOLAT"},1,1,1,1,1,1,1,1,1,1,1,1,1,1,"GELİŞTİRİLMELİ"]
[{"$f":"IF('DAV1'!A25=\"\",\"\",'DAV1'!A25)","v":23},{"$f":"IF('DAV1'!B25=\"\",\"\",'DAV1'!B25)","v":227},{"$f":"IF('DAV1'!C25=\"\",\"\",'DAV1'!C25)","v":"ZEYNEP CANPOLAT"},1,1,1,1,1,1,1,1,1,1,1,1,1,1,"GELİŞTİRİLMELİ"]
[{"$f":"IF('DAV1'!A26=\"\",\"\",'DAV1'!A26)","v":24},{"$f":"IF('DAV1'!B26=\"\",\"\",'DAV1'!B26)","v":229},{"$f":"IF('DAV1'!C26=\"\",\"\",'DAV1'!C26)","v":"MERYEM PARMAK"},1,1,1,1,1,1,1,1,1,1,1,1,1,1,"GELİŞTİRİLMELİ"]
[{"$f":"IF('DAV1'!A27=\"\",\"\",'DAV1'!A27)","v":25},{"$f":"IF('DAV1'!B27=\"\",\"\",'DAV1'!B27)","v":237},{"$f":"IF('DAV1'!C27=\"\",\"\",'DAV1'!C27)","v":"ZEYNEP MİRAY BOYRAZ"},1,1,1,1,1,1,1,1,1,1,1,1,1,1,"GELİŞTİRİLMELİ"]
[{"$f":"IF('DAV1'!A28=\"\",\"\",'DAV1'!A28)","v":26},{"$f":"IF('DAV1'!B28=\"\",\"\",'DAV1'!B28)","v":244},{"$f":"IF('DAV1'!C28=\"\",\"\",'DAV1'!C28)","v":"TAMER ŞEKERCİLEROĞLU"},1,1,1,1,1,1,1,1,1,1,1,1,1,1,"GELİŞTİRİLMELİ"]
[{"$f":"IF('DAV1'!A29=\"\",\"\",'DAV1'!A29)","v":27},{"$f":"IF('DAV1'!B29=\"\",\"\",'DAV1'!B29)","v":263},{"$f":"IF('DAV1'!C29=\"\",\"\",'DAV1'!C29)","v":"MUHAMMED YUSUF YILMAZ"},1,1,1,1,1,1,1,1,1,1,1,1,1,1,"GELİŞTİRİLMELİ"]
[{"$f":"IF('DAV1'!A30=\"\",\"\",'DAV1'!A30)","v":28},{"$f":"IF('DAV1'!B30=\"\",\"\",'DAV1'!B30)","v":264},{"$f":"IF('DAV1'!C30=\"\",\"\",'DAV1'!C30)","v":"OĞUZHAN GÜRGÜZE"},1,1,1,1,1,1,1,1,1,1,1,1,1,1,"GELİŞTİRİLMELİ"]
[{"$f":"IF('DAV1'!A31=\"\",\"\",'DAV1'!A31)","v":29},{"$f":"IF('DAV1'!B31=\"\",\"\",'DAV1'!B31)","v":279},{"$f":"IF('DAV1'!C31=\"\",\"\",'DAV1'!C31)","v":"MİHRİMA EKİCİ"},1,1,1,1,1,1,1,1,1,1,1,1,1,1,"GELİŞTİRİLMELİ"]
[{"$f":"IF('DAV1'!A32=\"\",\"\",'DAV1'!A32)","v":30},{"$f":"IF('DAV1'!B32=\"\",\"\",'DAV1'!B32)","v":290},{"$f":"IF('DAV1'!C32=\"\",\"\",'DAV1'!C32)","v":"NİSA NUR YILDIZ"},1,1,1,1,1,1,1,1,1,1,1,1,1,1,"GELİŞTİRİLMELİ"]
[{"$f":"IF('DAV1'!A33=\"\",\"\",'DAV1'!A33)","v":31},{"$f":"IF('DAV1'!B33=\"\",\"\",'DAV1'!B33)","v":293},{"$f":"IF('DAV1'!C33=\"\",\"\",'DAV1'!C33)","v":"MEHMET ALATAŞ"},1,1,1,1,1,1,1,1,1,1,1,1,1,1,"GELİŞTİRİLMELİ"]
[{"$f":"IF('DAV1'!A34=\"\",\"\",'DAV1'!A34)","v":32},{"$f":"IF('DAV1'!B34=\"\",\"\",'DAV1'!B34)","v":451},{"$f":"IF('DAV1'!C34=\"\",\"\",'DAV1'!C34)","v":"İKRA YILDIRIM"},1,1,1,1,1,1,1,1,1,1,1,1,1,1,"GELİŞTİRİLMELİ"]
[{"$f":"IF('DAV1'!A35=\"\",\"\",'DAV1'!A35)","v":33},{"$f":"IF('DAV1'!B35=\"\",\"\",'DAV1'!B35)","v":616},{"$f":"IF('DAV1'!C35=\"\",\"\",'DAV1'!C35)","v":"EDA TURAL"},1,1,1,1,1,1,1,1,1,1,1,1,1,{"$f":"AVERAGE(D35:P35)","v":1},"GELİŞTİRİLMELİ"]
[{"$f":"IF('DAV1'!A36=\"\",\"\",'DAV1'!A36)","v":34},{"$f":"IF('DAV1'!B36=\"\",\"\",'DAV1'!B36)","v":892},{"$f":"IF('DAV1'!C36=\"\",\"\",'DAV1'!C36)","v":"ALMA ALRAMADAN"},1,1,1,1,1,1,1,1,1,1,1,1,1,1,"GELİŞTİRİLMELİ"]
[{"$f":"IF('DAV1'!A37=\"\",\"\",'DAV1'!A37)","v":35},{"$f":"IF('DAV1'!B37=\"\",\"\",'DAV1'!B37)","v":1000},{"$f":"IF('DAV1'!C37=\"\",\"\",'DAV1'!C37)","v":"TURGUT POLAT"},1,1,1,1,1,1,1,1,1,1,1,1,1,1,{"$f":"IF(Q37=\"\",\"\",(IF(Q37>=2.5,\"ÇOK İYİ\",IF(Q37>=1.5,\"İYİ\",IF(Q37>=1,\"GELİŞTİRİLMELİ\")))))","v":"GELİŞTİRİLMELİ"}]
[{"$f":"IF('DAV1'!A38=\"\",\"\",'DAV1'!A38)","v":""},{"$f":"IF('DAV1'!B38=\"\",\"\",'DAV1'!B38)","v":""},{"$f":"IF('DAV1'!C38=\"\",\"\",'DAV1'!C38)","v":""},1,1,1,1,1,1,1,1,1,1,1,1,1,1,"GELİŞTİRİLMELİ"]
[{"$f":"IF('DAV1'!A39=\"\",\"\",'DAV1'!A39)","v":""},{"$f":"IF('DAV1'!B39=\"\",\"\",'DAV1'!B39)","v":""},{"$f":"IF('DAV1'!C39=\"\",\"\",'DAV1'!C39)","v":""},1,1,1,1,1,1,1,1,1,1,1,1,1,1,"GELİŞTİRİLMELİ"]
[{"$f":"IF('DAV1'!A40=\"\",\"\",'DAV1'!A40)","v":""},{"$f":"IF('DAV1'!B40=\"\",\"\",'DAV1'!B40)","v":""},{"$f":"IF('DAV1'!C40=\"\",\"\",'DAV1'!C40)","v":""},1,1,1,1,1,1,1,1,1,1,1,1,1,1,"GELİŞTİRİLMELİ"]
[{"$f":"IF('DAV1'!A41=\"\",\"\",'DAV1'!A41)","v":""},{"$f":"IF('DAV1'!B41=\"\",\"\",'DAV1'!B41)","v":""},{"$f":"IF('DAV1'!C41=\"\",\"\",'DAV1'!C41)","v":""},1,1,1,1,1,1,1,1,1,1,1,1,1,1,"GELİŞTİRİLMELİ"]
[{"$f":"IF('DAV1'!A42=\"\",\"\",'DAV1'!A42)","v":""},{"$f":"IF('DAV1'!B42=\"\",\"\",'DAV1'!B42)","v":""},{"$f":"IF('DAV1'!C42=\"\",\"\",'DAV1'!C42)","v":""},1,1,1,1,1,1,1,1,1,1,1,1,1,1,"GELİŞTİRİLMELİ"]
[{"$f":"IF('DAV1'!A43=\"\",\"\",'DAV1'!A43)","v":""},{"$f":"IF('DAV1'!B43=\"\",\"\",'DAV1'!B43)","v":""},{"$f":"IF('DAV1'!C43=\"\",\"\",'DAV1'!C43)","v":""},1,1,1,1,1,1,1,1,1,1,1,1,1,1,"GELİŞTİRİLMELİ"]
[{"$f":"IF('DAV1'!A44=\"\",\"\",'DAV1'!A44)","v":""},{"$f":"IF('DAV1'!B44=\"\",\"\",'DAV1'!B44)","v":""},{"$f":"IF('DAV1'!C44=\"\",\"\",'DAV1'!C44)","v":""},1,1,1,1,1,1,1,1,1,1,1,1,1,1,"GELİŞTİRİLMELİ"]
[{"$f":"IF('DAV1'!A45=\"\",\"\",'DAV1'!A45)","v":""},{"$f":"IF('DAV1'!B45=\"\",\"\",'DAV1'!B45)","v":""},{"$f":"IF('DAV1'!C45=\"\",\"\",'DAV1'!C45)","v":""},1,1,1,1,1,1,1,1,1,1,1,1,1,1,"GELİŞTİRİLMELİ"]
[{"$f":"IF('DAV1'!A46=\"\",\"\",'DAV1'!A46)","v":""},{"$f":"IF('DAV1'!B46=\"\",\"\",'DAV1'!B46)","v":""},{"$f":"IF('DAV1'!C46=\"\",\"\",'DAV1'!C46)","v":""},1,1,1,1,1,1,1,1,1,1,1,1,1,1,"GELİŞTİRİLMELİ"]
[{"$f":"IF('DAV1'!A47=\"\",\"\",'DAV1'!A47)","v":""},{"$f":"IF('DAV1'!B47=\"\",\"\",'DAV1'!B47)","v":""},{"$f":"IF('DAV1'!C47=\"\",\"\",'DAV1'!C47)","v":""},1,1,1,1,1,1,1,1,1,1,1,1,1,1,"GELİŞTİRİLMELİ"]
[{"$f":"IF('DAV1'!A48=\"\",\"\",'DAV1'!A48)","v":""},{"$f":"IF('DAV1'!B48=\"\",\"\",'DAV1'!B48)","v":""},{"$f":"IF('DAV1'!C48=\"\",\"\",'DAV1'!C48)","v":""},1,1,1,1,1,1,1,1,1,1,1,1,1,1,"GELİŞTİRİLMELİ"]
[{"$f":"IF('DAV1'!A49=\"\",\"\",'DAV1'!A49)","v":""},{"$f":"IF('DAV1'!B49=\"\",\"\",'DAV1'!B49)","v":""},{"$f":"IF('DAV1'!C49=\"\",\"\",'DAV1'!C49)","v":""},1,1,1,1,1,1,1,1,1,1,1,1,1,1,"GELİŞTİRİLMELİ"]
[{"$f":"IF('DAV1'!A50=\"\",\"\",'DAV1'!A50)","v":""},{"$f":"IF('DAV1'!B50=\"\",\"\",'DAV1'!B50)","v":""},{"$f":"IF('DAV1'!C50=\"\",\"\",'DAV1'!C50)","v":""},1,1,1,1,1,1,1,1,1,1,1,1,1,1,"GELİŞTİRİLMELİ"]
[{"$f":"IF('DAV1'!A51=\"\",\"\",'DAV1'!A51)","v":""},{"$f":"IF('DAV1'!B51=\"\",\"\",'DAV1'!B51)","v":""},{"$f":"IF('DAV1'!C51=\"\",\"\",'DAV1'!C51)","v":""},1,1,1,1,1,1,1,1,1,1,1,1,1,1,"GELİŞTİRİLMELİ"]
[{"$f":"IF('DAV1'!A52=\"\",\"\",'DAV1'!A52)","v":""},{"$f":"IF('DAV1'!B52=\"\",\"\",'DAV1'!B52)","v":""},{"$f":"IF('DAV1'!C52=\"\",\"\",'DAV1'!C52)","v":""},1,1,1,1,1,1,1,1,1,1,1,1,1,1,"GELİŞTİRİLMELİ"]
[{"$f":"IF('DAV1'!A53=\"\",\"\",'DAV1'!A53)","v":""},{"$f":"IF('DAV1'!B53=\"\",\"\",'DAV1'!B53)","v":""},{"$f":"IF('DAV1'!C53=\"\",\"\",'DAV1'!C53)","v":""},1,1,1,1,1,1,1,1,1,1,1,1,1,1,"GELİŞTİRİLMELİ"]
[{"$f":"IF('DAV1'!A54=\"\",\"\",'DAV1'!A54)","v":""},{"$f":"IF('DAV1'!B54=\"\",\"\",'DAV1'!B54)","v":""},{"$f":"IF('DAV1'!C54=\"\",\"\",'DAV1'!C54)","v":""},1,1,1,1,1,1,1,1,1,1,1,1,1,1,"GELİŞTİRİLMELİ"]
[{"$f":"IF('DAV1'!A55=\"\",\"\",'DAV1'!A55)","v":""},{"$f":"IF('DAV1'!B55=\"\",\"\",'DAV1'!B55)","v":""},{"$f":"IF('DAV1'!C55=\"\",\"\",'DAV1'!C55)","v":""},1,1,1,1,1,1,1,1,1,1,1,1,1,1,"GELİŞTİRİLMELİ"]
[{"$f":"IF('DAV1'!A56=\"\",\"\",'DAV1'!A56)","v":""},{"$f":"IF('DAV1'!B56=\"\",\"\",'DAV1'!B56)","v":""},{"$f":"IF('DAV1'!C56=\"\",\"\",'DAV1'!C56)","v":""},1,1,1,1,1,1,1,1,1,1,1,1,1,1,"GELİŞTİRİLMELİ"]
[{"$f":"IF('DAV1'!A57=\"\",\"\",'DAV1'!A57)","v":""},{"$f":"IF('DAV1'!B57=\"\",\"\",'DAV1'!B57)","v":""},{"$f":"IF('DAV1'!C57=\"\",\"\",'DAV1'!C57)","v":""},1,1,1,1,1,1,1,1,1,1,1,1,1,1,"GELİŞTİRİLMELİ"]
[{"$f":"IF('DAV1'!A58=\"\",\"\",'DAV1'!A58)","v":""},{"$f":"IF('DAV1'!B58=\"\",\"\",'DAV1'!B58)","v":""},{"$f":"IF('DAV1'!C58=\"\",\"\",'DAV1'!C58)","v":""},1,1,1,1,1,1,1,1,1,1,1,1,1,1,"GELİŞTİRİLMELİ"]
[{"$f":"IF('DAV1'!A59=\"\",\"\",'DAV1'!A59)","v":""},{"$f":"IF('DAV1'!B59=\"\",\"\",'DAV1'!B59)","v":""},{"$f":"IF('DAV1'!C59=\"\",\"\",'DAV1'!C59)","v":""},1,1,1,1,1,1,1,1,1,1,1,1,1,1,"GELİŞTİRİLMELİ"]
[{"$f":"IF('DAV1'!A60=\"\",\"\",'DAV1'!A60)","v":""},{"$f":"IF('DAV1'!B60=\"\",\"\",'DAV1'!B60)","v":""},{"$f":"IF('DAV1'!C60=\"\",\"\",'DAV1'!C60)","v":""},1,1,1,1,1,1,1,1,1,1,1,1,1,1,"GELİŞTİRİLMELİ"]
[{"$f":"IF('DAV1'!A61=\"\",\"\",'DAV1'!A61)","v":""},{"$f":"IF('DAV1'!B61=\"\",\"\",'DAV1'!B61)","v":""},{"$f":"IF('DAV1'!C61=\"\",\"\",'DAV1'!C61)","v":""},1,1,1,1,1,1,1,1,1,1,1,1,1,1,"GELİŞTİRİLMELİ"]
[{"$f":"IF('DAV1'!A62=\"\",\"\",'DAV1'!A62)","v":""},{"$f":"IF('DAV1'!B62=\"\",\"\",'DAV1'!B62)","v":""},{"$f":"IF('DAV1'!C62=\"\",\"\",'DAV1'!C62)","v":""},1,1,1,1,1,1,1,1,1,1,1,1,1,1,"GELİŞTİRİLMELİ"]
[{"$f":"IF('DAV1'!A63=\"\",\"\",'DAV1'!A63)","v":""},{"$f":"IF('DAV1'!B63=\"\",\"\",'DAV1'!B63)","v":""},{"$f":"IF('DAV1'!C63=\"\",\"\",'DAV1'!C63)","v":""},1,1,1,1,1,1,1,1,1,1,1,1,1,1,"GELİŞTİRİLMELİ"]
[{"$f":"IF('DAV1'!A64=\"\",\"\",'DAV1'!A64)","v":""},{"$f":"IF('DAV1'!B64=\"\",\"\",'DAV1'!B64)","v":""},{"$f":"IF('DAV1'!C64=\"\",\"\",'DAV1'!C64)","v":""},1,1,1,1,1,1,1,1,1,1,1,1,1,1,"GELİŞTİRİLMELİ"]
[{"$f":"IF('DAV1'!A65=\"\",\"\",'DAV1'!A65)","v":""},{"$f":"IF('DAV1'!B65=\"\",\"\",'DAV1'!B65)","v":""},{"$f":"IF('DAV1'!C65=\"\",\"\",'DAV1'!C65)","v":""},1,1,1,1,1,1,1,1,1,1,1,1,1,1,"GELİŞTİRİLMELİ"]
[{"$f":"IF('DAV1'!A66=\"\",\"\",'DAV1'!A66)","v":""},{"$f":"IF('DAV1'!B66=\"\",\"\",'DAV1'!B66)","v":""},{"$f":"IF('DAV1'!C66=\"\",\"\",'DAV1'!C66)","v":""},1,1,1,1,1,1,1,1,1,1,1,1,1,1,"GELİŞTİRİLMELİ"]
[{"$f":"IF('DAV1'!A67=\"\",\"\",'DAV1'!A67)","v":""},{"$f":"IF('DAV1'!B67=\"\",\"\",'DAV1'!B67)","v":""},{"$f":"IF('DAV1'!C67=\"\",\"\",'DAV1'!C67)","v":""},1,1,1,1,1,1,1,1,1,1,1,1,1,{"$f":"AVERAGE(D67:P67)","v":1},"GELİŞTİRİLMELİ"]
[{"$f":"IF('DAV1'!A68=\"\",\"\",'DAV1'!A68)","v":""},{"$f":"IF('DAV1'!B68=\"\",\"\",'DAV1'!B68)","v":""},{"$f":"IF('DAV1'!C68=\"\",\"\",'DAV1'!C68)","v":""},1,1,1,1,1,1,1,1,1,1,1,1,1,1,"GELİŞTİRİLMELİ"]
[{"$f":"IF('DAV1'!A69=\"\",\"\",'DAV1'!A69)","v":""},{"$f":"IF('DAV1'!B69=\"\",\"\",'DAV1'!B69)","v":""},{"$f":"IF('DAV1'!C69=\"\",\"\",'DAV1'!C69)","v":""},1,1,1,1,1,1,1,1,1,1,1,1,1,1,"GELİŞTİRİLMELİ"]
[{"$f":"IF('DAV1'!A70=\"\",\"\",'DAV1'!A70)","v":""},{"$f":"IF('DAV1'!B70=\"\",\"\",'DAV1'!B70)","v":""},{"$f":"IF('DAV1'!C70=\"\",\"\",'DAV1'!C70)","v":""},1,1,1,1,1,1,1,1,1,1,1,1,1,1,"GELİŞTİRİLMELİ"]
[{"$f":"IF('DAV1'!A71=\"\",\"\",'DAV1'!A71)","v":""},{"$f":"IF('DAV1'!B71=\"\",\"\",'DAV1'!B71)","v":""},{"$f":"IF('DAV1'!C71=\"\",\"\",'DAV1'!C71)","v":""},1,1,1,1,1,1,1,1,1,1,1,1,1,1,"GELİŞTİRİLMELİ"]
[{"$f":"IF('DAV1'!A72=\"\",\"\",'DAV1'!A72)","v":""},{"$f":"IF('DAV1'!B72=\"\",\"\",'DAV1'!B72)","v":""},{"$f":"IF('DAV1'!C72=\"\",\"\",'DAV1'!C72)","v":""},1,1,1,1,1,1,1,1,1,1,1,1,1,1,"GELİŞTİRİLMELİ"]
[{"$f":"IF('DAV1'!A73=\"\",\"\",'DAV1'!A73)","v":""},{"$f":"IF('DAV1'!B73=\"\",\"\",'DAV1'!B73)","v":""},{"$f":"IF('DAV1'!C73=\"\",\"\",'DAV1'!C73)","v":""},1,1,1,1,1,1,1,1,1,1,1,1,1,1,"GELİŞTİRİLMELİ"]
[{"$f":"IF('DAV1'!A74=\"\",\"\",'DAV1'!A74)","v":""},{"$f":"IF('DAV1'!B74=\"\",\"\",'DAV1'!B74)","v":""},{"$f":"IF('DAV1'!C74=\"\",\"\",'DAV1'!C74)","v":""},1,1,1,1,1,1,1,1,1,1,1,1,1,1,"GELİŞTİRİLMELİ"]
[{"$f":"IF('DAV1'!A75=\"\",\"\",'DAV1'!A75)","v":""},{"$f":"IF('DAV1'!B75=\"\",\"\",'DAV1'!B75)","v":""},{"$f":"IF('DAV1'!C75=\"\",\"\",'DAV1'!C75)","v":""},1,1,1,1,1,1,1,1,1,1,1,1,1,1,"GELİŞTİRİLMELİ"]
[{"$f":"IF('DAV1'!A76=\"\",\"\",'DAV1'!A76)","v":""},{"$f":"IF('DAV1'!B76=\"\",\"\",'DAV1'!B76)","v":""},{"$f":"IF('DAV1'!C76=\"\",\"\",'DAV1'!C76)","v":""},1,1,1,1,1,1,1,1,1,1,1,1,1,1,"GELİŞTİRİLMELİ"]
[{"$f":"IF('DAV1'!A77=\"\",\"\",'DAV1'!A77)","v":""},{"$f":"IF('DAV1'!B77=\"\",\"\",'DAV1'!B77)","v":""},{"$f":"IF('DAV1'!C77=\"\",\"\",'DAV1'!C77)","v":""},1,1,1,1,1,1,1,1,1,1,1,1,1,1,"GELİŞTİRİLMELİ"]
[{"$f":"IF('DAV1'!A78=\"\",\"\",'DAV1'!A78)","v":""},{"$f":"IF('DAV1'!B78=\"\",\"\",'DAV1'!B78)","v":""},{"$f":"IF('DAV1'!C78=\"\",\"\",'DAV1'!C78)","v":""},1,1,1,1,1,1,1,1,1,1,1,1,1,1,"GELİŞTİRİLMELİ"]
[{"$f":"IF('DAV1'!A79=\"\",\"\",'DAV1'!A79)","v":""},{"$f":"IF('DAV1'!B79=\"\",\"\",'DAV1'!B79)","v":""},{"$f":"IF('DAV1'!C79=\"\",\"\",'DAV1'!C79)","v":""},1,1,1,1,1,1,1,1,1,1,1,1,1,1,"GELİŞTİRİLMELİ"]
[{"$f":"IF('DAV1'!A80=\"\",\"\",'DAV1'!A80)","v":""},{"$f":"IF('DAV1'!B80=\"\",\"\",'DAV1'!B80)","v":""},{"$f":"IF('DAV1'!C80=\"\",\"\",'DAV1'!C80)","v":""},1,1,1,1,1,1,1,1,1,1,1,1,1,1,"GELİŞTİRİLMELİ"]
[{"$f":"IF('DAV1'!A81=\"\",\"\",'DAV1'!A81)","v":""},{"$f":"IF('DAV1'!B81=\"\",\"\",'DAV1'!B81)","v":""},{"$f":"IF('DAV1'!C81=\"\",\"\",'DAV1'!C81)","v":""},1,1,1,1,1,1,1,1,1,1,1,1,1,1,"GELİŞTİRİLMELİ"]
[{"$f":"IF('DAV1'!A82=\"\",\"\",'DAV1'!A82)","v":""},{"$f":"IF('DAV1'!B82=\"\",\"\",'DAV1'!B82)","v":""},{"$f":"IF('DAV1'!C82=\"\",\"\",'DAV1'!C82)","v":""},1,1,1,1,1,1,1,1,1,1,1,1,1,1,"GELİŞTİRİLMELİ"]
[{"$f":"IF('DAV1'!A83=\"\",\"\",'DAV1'!A83)","v":""},{"$f":"IF('DAV1'!B83=\"\",\"\",'DAV1'!B83)","v":""},{"$f":"IF('DAV1'!C83=\"\",\"\",'DAV1'!C83)","v":""},1,1,1,1,1,1,1,1,1,1,1,1,1,1,"GELİŞTİRİLMELİ"]
[{"$f":"IF('DAV1'!A84=\"\",\"\",'DAV1'!A84)","v":""},{"$f":"IF('DAV1'!B84=\"\",\"\",'DAV1'!B84)","v":""},{"$f":"IF('DAV1'!C84=\"\",\"\",'DAV1'!C84)","v":""},1,1,1,1,1,1,1,1,1,1,1,1,1,1,"GELİŞTİRİLMELİ"]
[{"$f":"IF('DAV1'!A85=\"\",\"\",'DAV1'!A85)","v":""},{"$f":"IF('DAV1'!B85=\"\",\"\",'DAV1'!B85)","v":""},{"$f":"IF('DAV1'!C85=\"\",\"\",'DAV1'!C85)","v":""},1,1,1,1,1,1,1,1,1,1,1,1,1,1,"GELİŞTİRİLMELİ"]
[{"$f":"IF('DAV1'!A86=\"\",\"\",'DAV1'!A86)","v":""},{"$f":"IF('DAV1'!B86=\"\",\"\",'DAV1'!B86)","v":""},{"$f":"IF('DAV1'!C86=\"\",\"\",'DAV1'!C86)","v":""},1,1,1,1,1,1,1,1,1,1,1,1,1,1,"GELİŞTİRİLMELİ"]
[{"$f":"IF('DAV1'!A87=\"\",\"\",'DAV1'!A87)","v":""},{"$f":"IF('DAV1'!B87=\"\",\"\",'DAV1'!B87)","v":""},{"$f":"IF('DAV1'!C87=\"\",\"\",'DAV1'!C87)","v":""},1,1,1,1,1,1,1,1,1,1,1,1,1,1,"GELİŞTİRİLMELİ"]
[{"$f":"IF('DAV1'!A88=\"\",\"\",'DAV1'!A88)","v":""},{"$f":"IF('DAV1'!B88=\"\",\"\",'DAV1'!B88)","v":""},{"$f":"IF('DAV1'!C88=\"\",\"\",'DAV1'!C88)","v":""},1,1,1,1,1,1,1,1,1,1,1,1,1,1,"GELİŞTİRİLMELİ"]
[{"$f":"IF('DAV1'!A89=\"\",\"\",'DAV1'!A89)","v":""},{"$f":"IF('DAV1'!B89=\"\",\"\",'DAV1'!B89)","v":""},{"$f":"IF('DAV1'!C89=\"\",\"\",'DAV1'!C89)","v":""},1,1,1,1,1,1,1,1,1,1,1,1,1,1,"GELİŞTİRİLMELİ"]
[{"$f":"IF('DAV1'!A90=\"\",\"\",'DAV1'!A90)","v":""},{"$f":"IF('DAV1'!B90=\"\",\"\",'DAV1'!B90)","v":""},{"$f":"IF('DAV1'!C90=\"\",\"\",'DAV1'!C90)","v":""},1,1,1,1,1,1,1,1,1,1,1,1,1,1,"GELİŞTİRİLMELİ"]
[{"$f":"IF('DAV1'!A91=\"\",\"\",'DAV1'!A91)","v":""},{"$f":"IF('DAV1'!B91=\"\",\"\",'DAV1'!B91)","v":""},{"$f":"IF('DAV1'!C91=\"\",\"\",'DAV1'!C91)","v":""},1,1,1,1,1,1,1,1,1,1,1,1,1,1,"GELİŞTİRİLMELİ"]
[{"$f":"IF('DAV1'!A92=\"\",\"\",'DAV1'!A92)","v":""},{"$f":"IF('DAV1'!B92=\"\",\"\",'DAV1'!B92)","v":""},{"$f":"IF('DAV1'!C92=\"\",\"\",'DAV1'!C92)","v":""},1,1,1,1,1,1,1,1,1,1,1,1,1,1,"GELİŞTİRİLMELİ"]
[{"$f":"IF('DAV1'!A93=\"\",\"\",'DAV1'!A93)","v":""},{"$f":"IF('DAV1'!B93=\"\",\"\",'DAV1'!B93)","v":""},{"$f":"IF('DAV1'!C93=\"\",\"\",'DAV1'!C93)","v":""},1,1,1,1,1,1,1,1,1,1,1,1,1,1,"GELİŞTİRİLMELİ"]
[{"$f":"IF('DAV1'!A94=\"\",\"\",'DAV1'!A94)","v":""},{"$f":"IF('DAV1'!B94=\"\",\"\",'DAV1'!B94)","v":""},{"$f":"IF('DAV1'!C94=\"\",\"\",'DAV1'!C94)","v":""},1,1,1,1,1,1,1,1,1,1,1,1,1,1,"GELİŞTİRİLMELİ"]
[{"$f":"IF('DAV1'!A95=\"\",\"\",'DAV1'!A95)","v":""},{"$f":"IF('DAV1'!B95=\"\",\"\",'DAV1'!B95)","v":""},{"$f":"IF('DAV1'!C95=\"\",\"\",'DAV1'!C95)","v":""},1,1,1,1,1,1,1,1,1,1,1,1,1,1,"GELİŞTİRİLMELİ"]
[{"$f":"IF('DAV1'!A96=\"\",\"\",'DAV1'!A96)","v":""},{"$f":"IF('DAV1'!B96=\"\",\"\",'DAV1'!B96)","v":""},{"$f":"IF('DAV1'!C96=\"\",\"\",'DAV1'!C96)","v":""},1,1,1,1,1,1,1,1,1,1,1,1,1,1,"GELİŞTİRİLMELİ"]
[{"$f":"IF('DAV1'!A97=\"\",\"\",'DAV1'!A97)","v":""},{"$f":"IF('DAV1'!B97=\"\",\"\",'DAV1'!B97)","v":""},{"$f":"IF('DAV1'!C97=\"\",\"\",'DAV1'!C97)","v":""},1,1,1,1,1,1,1,1,1,1,1,1,1,1,"GELİŞTİRİLMELİ"]
[{"$f":"IF('DAV1'!A98=\"\",\"\",'DAV1'!A98)","v":""},{"$f":"IF('DAV1'!B98=\"\",\"\",'DAV1'!B98)","v":""},{"$f":"IF('DAV1'!C98=\"\",\"\",'DAV1'!C98)","v":""},1,1,1,1,1,1,1,1,1,1,1,1,1,1,"GELİŞTİRİLMELİ"]
[{"$f":"IF('DAV1'!A99=\"\",\"\",'DAV1'!A99)","v":""},{"$f":"IF('DAV1'!B99=\"\",\"\",'DAV1'!B99)","v":""},{"$f":"IF('DAV1'!C99=\"\",\"\",'DAV1'!C99)","v":""},1,1,1,1,1,1,1,1,1,1,1,1,1,{"$f":"AVERAGE(D99:P99)","v":1},"GELİŞTİRİLMELİ"]
[{"$f":"IF('DAV1'!A100=\"\",\"\",'DAV1'!A100)","v":""},{"$f":"IF('DAV1'!B100=\"\",\"\",'DAV1'!B100)","v":""},{"$f":"IF('DAV1'!C100=\"\",\"\",'DAV1'!C100)","v":""},1,1,1,1,1,1,1,1,1,1,1,1,1,1,"GELİŞTİRİLMELİ"]
[{"$f":"IF('DAV1'!A101=\"\",\"\",'DAV1'!A101)","v":""},{"$f":"IF('DAV1'!B101=\"\",\"\",'DAV1'!B101)","v":""},{"$f":"IF('DAV1'!C101=\"\",\"\",'DAV1'!C101)","v":""},1,1,1,1,1,1,1,1,1,1,1,1,1,1,{"$f":"IF(Q101=\"\",\"\",(IF(Q101>=2.5,\"ÇOK İYİ\",IF(Q101>=1.5,\"İYİ\",IF(Q101>=1,\"GELİŞTİRİLMELİ\")))))","v":"GELİŞTİRİLMELİ"}]
[{"$f":"IF('DAV1'!A102=\"\",\"\",'DAV1'!A102)","v":""},{"$f":"IF('DAV1'!B102=\"\",\"\",'DAV1'!B102)","v":""},{"$f":"IF('DAV1'!C102=\"\",\"\",'DAV1'!C102)","v":""},1,1,1,1,1,1,1,1,1,1,1,1,1,1,"GELİŞTİRİLMELİ"]
[]
[1,1,1,1,1,1,1,1,1,1,1,1,1,1,1,1,1,1,1,1,1,1,1,1,1,1,1,1,1,1,1,1,1,1,1,1,1,1,1,1,1,1,1,1,1,1,1,1,1,1,1,1,1,1,1,1,1,1,1,1,1,1,1,1,1,1,1,1,1,1,1,1,1,1,1,1,1,1,1,1,1,1,1,1,1,1,1,1,1,1,1,1,1,1,1,1,1,1,1,1]
[2,2,2,2,2,2,2,2,2,2,2,2,2,2,2,2,2,2,2,2,2,2,2,2,2,2,2,2,2,2,2,2,2,2,2,2,2,2,2,2,2,2,2,2,2,2,2,2,2,2,2,2,2,2,2,2,2,2,2,2,2,2,2,2,2,2,2,2,2,2,2,2,2,2,2,2,2,2,2,2,2,2,2,2,2,2,2,2,2,2,2,2,2,2,2,2,2,2,2,2]
[3,3,3,3,3,3,3,3,3,3,3,3,3,3,3,3,3,3,3,3,3,3,3,3,3,3,3,3,3,3,3,3,3,3,3,3,3,3,3,3,3,3,3,3,3,3,3,3,3,3,3,3,3,3,3,3,3,3,3,3,3,3,3,3,3,3,3,3,3,3,3,3,3,3,3,3,3,3,3,3,3,3,3,3,3,3,3,3,3,3,3,3,3,3,3,3,3,3,3,3]
[4,4,4,4,4,4,4,4,4,4,4,4,4,4,4,4,4,4,4,4,4,4,4,4,4,4,4,4,4,4,4,4,4,4,4,4,4,4,4,4,4,4,4,4,4,4,4,4,4,4,4,4,4,4,4,4,4,4,4,4,4,4,4,4,4,4,4,4,4,4,4,4,4,4,4,4,4,4,4,4,4,4,4,4,4,4,4,4,4,4,4,4,4,4,4,4,4,4,4,4]

{"sheet":"BEO2.1","index":16,"n_rows":107,"n_cols":100,"rows_kept":107,"cut":false,"hidden":false,"merged":[[0,0,0,2],[0,18,1,18],[0,19,1,19],[1,3,1,17]]}
["BEDEN EĞİTİMİ VE OYUN\n1. DÖNEM",null,null,"O.1.1.1.1. Yer değiştirme hareketlerini yapar.","O.1.1.1.2. Dengeleme hareketlerini yapar.","O.1.1.1.3. Nesne kontrolü gerektiren hareketleri yapar.","O.1.1.1.4. İki ve daha fazla hareket becerisini içeren basit kurallı oyunlar oynar.","O.1.1.1.5. Ritim ve müzik eşliğinde hareket eder.","O.1.1.2.1. Vücut bölümlerinin hareketlerini tanımlar.","O.1.1.2.2. Kişisel ve genel alanını fark eder.","O.1.1.2.3. Verilen bir dizi hareketi, temel hareket beceri gruplarından uygun olanla ilişkilendirir.","O.1.1.2.4. Oyunu belirlenen kurallara göre oynar.","O.1.1.3.1. Temel hareketleri yaparken dengesini sağlamak için stratejiler geliştirir.","O.1.1.3.2. Oyunda kullanılan basit stratejileri tanımlar.","O.1.2.2.1. Sağlık ile oyun ve fiziki etkinlikler arasındaki ilişkiyi açıklar.","O.1.2.2.2. Oyun ve fiziki etkinliklere katılırken vücudunda meydana gelen değişiklikleri açıklar.","O.1.2.2.3. Oyun ve fiziki etkinliklere katılırken sağlığını korumak ve güvenliği için dikkat etmesi gereken unsurları söyler.","O.1.2.2.4. Oyun ve fiziki etkinliklere katılırken dengeli ve düzenli beslenme alışkanlığı sergiler.","ORTALAMA","DEĞERLENDİRME SONUCU"]
["SIRA","OKUL NO","ADI SOYADI","Hareket Becerileri - Hareket Kavramları ve İlkeleri - Hareket Stratejileri  ve Taktikleri"]
[{"$f":"IF('DAV1'!A3=\"\",\"\",'DAV1'!A3)","v":1},{"$f":"IF('DAV1'!B3=\"\",\"\",'DAV1'!B3)","v":11},{"$f":"IF('DAV1'!C3=\"\",\"\",'DAV1'!C3)","v":"KAYRA ÇINAR ERGÜN"},1,1,1,1,1,1,1,1,1,1,1,1,1,1,1,{"$f":"AVERAGE(D3:R3)","v":1},{"$f":"IF(S3=\"\",\"\",(IF(S3>=2.5,\"ÇOK İYİ\",IF(S3>=1.5,\"İYİ\",IF(S3>=1,\"GELİŞTİRİLMELİ\")))))","v":"GELİŞTİRİLMELİ"}]
[{"$f":"IF('DAV1'!A4=\"\",\"\",'DAV1'!A4)","v":2},{"$f":"IF('DAV1'!B4=\"\",\"\",'DAV1'!B4)","v":35},{"$f":"IF('DAV1'!C4=\"\",\"\",'DAV1'!C4)","v":"FURKAN SOLMAZ"},1,1,1,1,1,1,1,1,1,1,1,1,1,1,1,1,"GELİŞTİRİLMELİ"]
[{"$f":"IF('DAV1'!A5=\"\",\"\",'DAV1'!A5)","v":3},{"$f":"IF('DAV1'!B5=\"\",\"\",'DAV1'!B5)","v":53},{"$f":"IF('DAV1'!C5=\"\",\"\",'DAV1'!C5)","v":"İLKNUR MUMCU"},1,1,1,1,1,1,1,1,1,1,1,1,1,1,1,1,"GELİŞTİRİLMELİ"]
[{"$f":"IF('DAV1'!A6=\"\",\"\",'DAV1'!A6)","v":4},{"$f":"IF('DAV1'!B6=\"\",\"\",'DAV1'!B6)","v":83},{"$f":"IF('DAV1'!C6=\"\",\"\",'DAV1'!C6)","v":"MUHAMMET ALİ YILDIRIM"},1,1,1,1,1,1,1,1,1,1,1,1,1,1,1,1,"GELİŞTİRİLMELİ"]
[{"$f":"IF('DAV1'!A7=\"\",\"\",'DAV1'!A7)","v":5},{"$f":"IF('DAV1'!B7=\"\",\"\",'DAV1'!B7)","v":93},{"$f":"IF('DAV1'!C7=\"\",\"\",'DAV1'!C7)","v":"ERTUĞRUL GAZİ NAMLI"},1,1,1,1,1,1,1,1,1,1,1,1,1,1,1,1,"GELİŞTİRİLMELİ"]
[{"$f":"IF('DAV1'!A8=\"\",\"\",'DAV1'!A8)","v":6},{"$f":"IF('DAV1'!B8=\"\",\"\",'DAV1'!B8)","v":100},{"$f":"IF('DAV1'!C8=\"\",\"\",'DAV1'!C8)","v":"ECEM EFE"},1,1,1,1,1,1,1,1,1,1,1,1,1,1,1,1,"GELİŞTİRİLMELİ"]
[{"$f":"IF('DAV1'!A9=\"\",\"\",'DAV1'!A9)","v":7},{"$f":"IF('DAV1'!B9=\"\",\"\",'DAV1'!B9)","v":105},{"$f":"IF('DAV1'!C9=\"\",\"\",'DAV1'!C9)","v":"SELİM ZEKERİYA ÖZDEMİR"},1,1,1,1,1,1,1,1,1,1,1,1,1,1,1,1,"GELİŞTİRİLMELİ"]
[{"$f":"IF('DAV1'!A10=\"\",\"\",'DAV1'!A10)","v":8},{"$f":"IF('DAV1'!B10=\"\",\"\",'DAV1'!B10)","v":108},{"$f":"IF('DAV1'!C10=\"\",\"\",'DAV1'!C10)","v":"AREN KARAKAŞ"},1,1,1,1,1,1,1,1,1,1,1,1,1,1,1,1,"GELİŞTİRİLMELİ"]
[{"$f":"IF('DAV1'!A11=\"\",\"\",'DAV1'!A11)","v":9},{"$f":"IF('DAV1'!B11=\"\",\"\",'DAV1'!B11)","v":111},{"$f":"IF('DAV1'!C11=\"\",\"\",'DAV1'!C11)","v":"ZEHRA ŞAHİNOĞLU"},1,1,1,1,1,1,1,1,1,1,1,1,1,1,1,1,"GELİŞTİRİLMELİ"]
[{"$f":"IF('DAV1'!A12=\"\",\"\",'DAV1'!A12)","v":10},{"$f":"IF('DAV1'!B12=\"\",\"\",'DAV1'!B12)","v":113},{"$f":"IF('DAV1'!C12=\"\",\"\",'DAV1'!C12)","v":"YUSUF ALİ TÜNÇ"},1,1,1,1,1,1,1,1,1,1,1,1,1,1,1,1,"GELİŞTİRİLMELİ"]
[{"$f":"IF('DAV1'!A13=\"\",\"\",'DAV1'!A13)","v":11},{"$f":"IF('DAV1'!B13=\"\",\"\",'DAV1'!B13)","v":161},{"$f":"IF('DAV1'!C13=\"\",\"\",'DAV1'!C13)","v":"HÜSEYİN CELAYİR"},1,1,1,1,1,1,1,1,1,1,1,1,1,1,1,1,"GELİŞTİRİLMELİ"]
[{"$f":"IF('DAV1'!A14=\"\",\"\",'DAV1'!A14)","v":12},{"$f":"IF('DAV1'!B14=\"\",\"\",'DAV1'!B14)","v":177},{"$f":"IF('DAV1'!C14=\"\",\"\",'DAV1'!C14)","v":"YİĞİT EFE YEŞİLDAL"},1,1,1,1,1,1,1,1,1,1,1,1,1,1,1,1,"GELİŞTİRİLMELİ"]
[{"$f":"IF('DAV1'!A15=\"\",\"\",'DAV1'!A15)","v":13},{"$f":"IF('DAV1'!B15=\"\",\"\",'DAV1'!B15)","v":187},{"$f":"IF('DAV1'!C15=\"\",\"\",'DAV1'!C15)","v":"HALEF TAHA ATEŞ"},1,1,1,1,1,1,1,1,1,1,1,1,1,1,1,1,"GELİŞTİRİLMELİ"]
[{"$f":"IF('DAV1'!A16=\"\",\"\",'DAV1'!A16)","v":14},{"$f":"IF('DAV1'!B16=\"\",\"\",'DAV1'!B16)","v":188},{"$f":"IF('DAV1'!C16=\"\",\"\",'DAV1'!C16)","v":"EMİRHAN MERTOĞLU"},1,1,1,1,1,1,1,1,1,1,1,1,1,1,1,1,"GELİŞTİRİLMELİ"]
[{"$f":"IF('DAV1'!A17=\"\",\"\",'DAV1'!A17)","v":15},{"$f":"IF('DAV1'!B17=\"\",\"\",'DAV1'!B17)","v":189},{"$f":"IF('DAV1'!C17=\"\",\"\",'DAV1'!C17)","v":"EMİNE GÜVEN"},1,1,1,1,1,1,1,1,1,1,1,1,1,1,1,1,"GELİŞTİRİLMELİ"]
[{"$f":"IF('DAV1'!A18=\"\",\"\",'DAV1'!A18)","v":16},{"$f":"IF('DAV1'!B18=\"\",\"\",'DAV1'!B18)","v":213},{"$f":"IF('DAV1'!C18=\"\",\"\",'DAV1'!C18)","v":"YAĞMUR KILIÇ"},1,1,1,1,1,1,1,1,1,1,1,1,1,1,1,1,"GELİŞTİRİLMELİ"]
[{"$f":"IF('DAV1'!A19=\"\",\"\",'DAV1'!A19)","v":17},{"$f":"IF('DAV1'!B19=\"\",\"\",'DAV1'!B19)","v":214},{"$f":"IF('DAV1'!C19=\"\",\"\",'DAV1'!C19)","v":"ERDAL GÜLATAR"},1,1,1,1,1,1,1,1,1,1,1,1,1,1,1,1,"GELİŞTİRİLMELİ"]
[{"$f":"IF('DAV1'!A20=\"\",\"\",'DAV1'!A20)","v":18},{"$f":"IF('DAV1'!B20=\"\",\"\",'DAV1'!B20)","v":216},{"$f":"IF('DAV1'!C20=\"\",\"\",'DAV1'!C20)","v":"GAMZE ACAR"},1,1,1,1,1,1,1,1,1,1,1,1,1,1,1,1,"GELİŞTİRİLMELİ"]
[{"$f":"IF('DAV1'!A21=\"\",\"\",'DAV1'!A21)","v":19},{"$f":"IF('DAV1'!B21=\"\",\"\",'DAV1'!B21)","v":222},{"$f":"IF('DAV1'!C21=\"\",\"\",'DAV1'!C21)","v":"HİRANUR DOĞANDEMİR"},1,1,1,1,1,1,1,1,1,1,1,1,1,1,1,1,"GELİŞTİRİLMELİ"]
[{"$f":"IF('DAV1'!A22=\"\",\"\",'DAV1'!A22)","v":20},{"$f":"IF('DAV1'!B22=\"\",\"\",'DAV1'!B22)","v":224},{"$f":"IF('DAV1'!C22=\"\",\"\",'DAV1'!C22)","v":"TALHA YILMAZ"},1,1,1,1,1,1,1,1,1,1,1,1,1,1,1,1,"GELİŞTİRİLMELİ"]
[{"$f":"IF('DAV1'!A23=\"\",\"\",'DAV1'!A23)","v":21},{"$f":"IF('DAV1'!B23=\"\",\"\",'DAV1'!B23)","v":225},{"$f":"IF('DAV1'!C23=\"\",\"\",'DAV1'!C23)","v":"YUSUF EMİR DAĞDÖGEN"},1,1,1,1,1,1,1,1,1,1,1,1,1,1,1,1,"GELİŞTİRİLMELİ"]
[{"$f":"IF('DAV1'!A24=\"\",\"\",'DAV1'!A24)","v":22},{"$f":"IF('DAV1'!B24=\"\",\"\",'DAV1'!B24)","v":226},{"$f":"IF('DAV1'!C24=\"\",\"\",'DAV1'!C24)","v":"İMREN CANPOLAT"},1,1,1,1,1,1,1,1,1,1,1,1,1,1,1,1,"GELİŞTİRİLMELİ"]
[{"$f":"IF('DAV1'!A25=\"\",\"\",'DAV1'!A25)","v":23},{"$f":"IF('DAV1'!B25=\"\",\"\",'DAV1'!B25)","v":227},{"$f":"IF('DAV1'!C25=\"\",\"\",'DAV1'!C25)","v":"ZEYNEP CANPOLAT"},1,1,1,1,1,1,1,1,1,1,1,1,1,1,1,1,"GELİŞTİRİLMELİ"]
[{"$f":"IF('DAV1'!A26=\"\",\"\",'DAV1'!A26)","v":24},{"$f":"IF('DAV1'!B26=\"\",\"\",'DAV1'!B26)","v":229},{"$f":"IF('DAV1'!C26=\"\",\"\",'DAV1'!C26)","v":"MERYEM PARMAK"},1,1,1,1,1,1,1,1,1,1,1,1,1,1,1,1,"GELİŞTİRİLMELİ"]
[{"$f":"IF('DAV1'!A27=\"\",\"\",'DAV1'!A27)","v":25},{"$f":"IF('DAV1'!B27=\"\",\"\",'DAV1'!B27)","v":237},{"$f":"IF('DAV1'!C27=\"\",\"\",'DAV1'!C27)","v":"ZEYNEP MİRAY BOYRAZ"},1,1,1,1,1,1,1,1,1,1,1,1,1,1,1,1,"GELİŞTİRİLMELİ"]
[{"$f":"IF('DAV1'!A28=\"\",\"\",'DAV1'!A28)","v":26},{"$f":"IF('DAV1'!B28=\"\",\"\",'DAV1'!B28)","v":244},{"$f":"IF('DAV1'!C28=\"\",\"\",'DAV1'!C28)","v":"TAMER ŞEKERCİLEROĞLU"},1,1,1,1,1,1,1,1,1,1,1,1,1,1,1,1,"GELİŞTİRİLMELİ"]
[{"$f":"IF('DAV1'!A29=\"\",\"\",'DAV1'!A29)","v":27},{"$f":"IF('DAV1'!B29=\"\",\"\",'DAV1'!B29)","v":263},{"$f":"IF('DAV1'!C29=\"\",\"\",'DAV1'!C29)","v":"MUHAMMED YUSUF YILMAZ"},1,1,1,1,1,1,1,1,1,1,1,1,1,1,1,1,"GELİŞTİRİLMELİ"]
[{"$f":"IF('DAV1'!A30=\"\",\"\",'DAV1'!A30)","v":28},{"$f":"IF('DAV1'!B30=\"\",\"\",'DAV1'!B30)","v":264},{"$f":"IF('DAV1'!C30=\"\",\"\",'DAV1'!C30)","v":"OĞUZHAN GÜRGÜZE"},1,1,1,1,1,1,1,1,1,1,1,1,1,1,1,1,"GELİŞTİRİLMELİ"]
[{"$f":"IF('DAV1'!A31=\"\",\"\",'DAV1'!A31)","v":29},{"$f":"IF('DAV1'!B31=\"\",\"\",'DAV1'!B31)","v":279},{"$f":"IF('DAV1'!C31=\"\",\"\",'DAV1'!C31)","v":"MİHRİMA EKİCİ"},1,1,1,1,1,1,1,1,1,1,1,1,1,1,1,1,"GELİŞTİRİLMELİ"]
[{"$f":"IF('DAV1'!A32=\"\",\"\",'DAV1'!A32)","v":30},{"$f":"IF('DAV1'!B32=\"\",\"\",'DAV1'!B32)","v":290},{"$f":"IF('DAV1'!C32=\"\",\"\",'DAV1'!C32)","v":"NİSA NUR YILDIZ"},1,1,1,1,1,1,1,1,1,1,1,1,1,1,1,1,"GELİŞTİRİLMELİ"]
[{"$f":"IF('DAV1'!A33=\"\",\"\",'DAV1'!A33)","v":31},{"$f":"IF('DAV1'!B33=\"\",\"\",'DAV1'!B33)","v":293},{"$f":"IF('DAV1'!C33=\"\",\"\",'DAV1'!C33)","v":"MEHMET ALATAŞ"},1,1,1,1,1,1,1,1,1,1,1,1,1,1,1,1,"GELİŞTİRİLMELİ"]
[{"$f":"IF('DAV1'!A34=\"\",\"\",'DAV1'!A34)","v":32},{"$f":"IF('DAV1'!B34=\"\",\"\",'DAV1'!B34)","v":451},{"$f":"IF('DAV1'!C34=\"\",\"\",'DAV1'!C34)","v":"İKRA YILDIRIM"},1,1,1,1,1,1,1,1,1,1,1,1,1,1,1,1,"GELİŞTİRİLMELİ"]
[{"$f":"IF('DAV1'!A35=\"\",\"\",'DAV1'!A35)","v":33},{"$f":"IF('DAV1'!B35=\"\",\"\",'DAV1'!B35)","v":616},{"$f":"IF('DAV1'!C35=\"\",\"\",'DAV1'!C35)","v":"EDA TURAL"},1,1,1,1,1,1,1,1,1,1,1,1,1,1,1,1,"GELİŞTİRİLMELİ"]
[{"$f":"IF('DAV1'!A36=\"\",\"\",'DAV1'!A36)","v":34},{"$f":"IF('DAV1'!B36=\"\",\"\",'DAV1'!B36)","v":892},{"$f":"IF('DAV1'!C36=\"\",\"\",'DAV1'!C36)","v":"ALMA ALRAMADAN"},1,1,1,1,1,1,1,1,1,1,1,1,1,1,1,1,"GELİŞTİRİLMELİ"]
[{"$f":"IF('DAV1'!A37=\"\",\"\",'DAV1'!A37)","v":35},{"$f":"IF('DAV1'!B37=\"\",\"\",'DAV1'!B37)","v":1000},{"$f":"IF('DAV1'!C37=\"\",\"\",'DAV1'!C37)","v":"TURGUT POLAT"},1,1,1,1,1,1,1,1,1,1,1,1,1,1,1,1,{"$f":"IF(S37=\"\",\"\",(IF(S37>=2.5,\"ÇOK İYİ\",IF(S37>=1.5,\"İYİ\",IF(S37>=1,\"GELİŞTİRİLMELİ\")))))","v":"GELİŞTİRİLMELİ"}]
[{"$f":"IF('DAV1'!A38=\"\",\"\",'DAV1'!A38)","v":""},{"$f":"IF('DAV1'!B38=\"\",\"\",'DAV1'!B38)","v":""},{"$f":"IF('DAV1'!C38=\"\",\"\",'DAV1'!C38)","v":""},1,1,1,1,1,1,1,1,1,1,1,1,1,1,1,1,{"$f":"IF(S38=\"\",\"\",(IF(S38>=2.5,\"ÇOK İYİ\",IF(S38>=1.5,\"İYİ\",IF(S38>=1,\"GELİŞTİRİLMELİ\")))))","v":"GELİŞTİRİLMELİ"}]
[{"$f":"IF('DAV1'!A39=\"\",\"\",'DAV1'!A39)","v":""},{"$f":"IF('DAV1'!B39=\"\",\"\",'DAV1'!B39)","v":""},{"$f":"IF('DAV1'!C39=\"\",\"\",'DAV1'!C39)","v":""},1,1,1,1,1,1,1,1,1,1,1,1,1,1,1,{"$f":"AVERAGE(D39:R39)","v":1},{"$f":"IF(S39=\"\",\"\",(IF(S39>=2.5,\"ÇOK İYİ\",IF(S39>=1.5,\"İYİ\",IF(S39>=1,\"GELİŞTİRİLMELİ\")))))","v":"GELİŞTİRİLMELİ"}]
[{"$f":"IF('DAV1'!A40=\"\",\"\",'DAV1'!A40)","v":""},{"$f":"IF('DAV1'!B40=\"\",\"\",'DAV1'!B40)","v":""},{"$f":"IF('DAV1'!C40=\"\",\"\",'DAV1'!C40)","v":""},1,1,1,1,1,1,1,1,1,1,1,1,1,1,1,1,"GELİŞTİRİLMELİ"]
[{"$f":"IF('DAV1'!A41=\"\",\"\",'DAV1'!A41)","v":""},{"$f":"IF('DAV1'!B41=\"\",\"\",'DAV1'!B41)","v":""},{"$f":"IF('DAV1'!C41=\"\",\"\",'DAV1'!C41)","v":""},1,1,1,1,1,1,1,1,1,1,1,1,1,1,1,1,"GELİŞTİRİLMELİ"]
[{"$f":"IF('DAV1'!A42=\"\",\"\",'DAV1'!A42)","v":""},{"$f":"IF('DAV1'!B42=\"\",\"\",'DAV1'!B42)","v":""},{"$f":"IF('DAV1'!C42=\"\",\"\",'DAV1'!C42)","v":""},1,1,1,1,1,1,1,1,1,1,1,1,1,1,1,1,"GELİŞTİRİLMELİ"]
[{"$f":"IF('DAV1'!A43=\"\",\"\",'DAV1'!A43)","v":""},{"$f":"IF('DAV1'!B43=\"\",\"\",'DAV1'!B43)","v":""},{"$f":"IF('DAV1'!C43=\"\",\"\",'DAV1'!C43)","v":""},1,1,1,1,1,1,1,1,1,1,1,1,1,1,1,1,"GELİŞTİRİLMELİ"]
[{"$f":"IF('DAV1'!A44=\"\",\"\",'DAV1'!A44)","v":""},{"$f":"IF('DAV1'!B44=\"\",\"\",'DAV1'!B44)","v":""},{"$f":"IF('DAV1'!C44=\"\",\"\",'DAV1'!C44)","v":""},1,1,1,1,1,1,1,1,1,1,1,1,1,1,1,1,"GELİŞTİRİLMELİ"]
[{"$f":"IF('DAV1'!A45=\"\",\"\",'DAV1'!A45)","v":""},{"$f":"IF('DAV1'!B45=\"\",\"\",'DAV1'!B45)","v":""},{"$f":"IF('DAV1'!C45=\"\",\"\",'DAV1'!C45)","v":""},1,1,1,1,1,1,1,1,1,1,1,1,1,1,1,1,"GELİŞTİRİLMELİ"]
[{"$f":"IF('DAV1'!A46=\"\",\"\",'DAV1'!A46)","v":""},{"$f":"IF('DAV1'!B46=\"\",\"\",'DAV1'!B46)","v":""},{"$f":"IF('DAV1'!C46=\"\",\"\",'DAV1'!C46)","v":""},1,1,1,1,1,1,1,1,1,1,1,1,1,1,1,1,"GELİŞTİRİLMELİ"]
[{"$f":"IF('DAV1'!A47=\"\",\"\",'DAV1'!A47)","v":""},{"$f":"IF('DAV1'!B47=\"\",\"\",'DAV1'!B47)","v":""},{"$f":"IF('DAV1'!C47=\"\",\"\",'DAV1'!C47)","v":""},1,1,1,1,1,1,1,1,1,1,1,1,1,1,1,1,"GELİŞTİRİLMELİ"]
[{"$f":"IF('DAV1'!A48=\"\",\"\",'DAV1'!A48)","v":""},{"$f":"IF('DAV1'!B48=\"\",\"\",'DAV1'!B48)","v":""},{"$f":"IF('DAV1'!C48=\"\",\"\",'DAV1'!C48)","v":""},1,1,1,1,1,1,1,1,1,1,1,1,1,1,1,1,"GELİŞTİRİLMELİ"]
[{"$f":"IF('DAV1'!A49=\"\",\"\",'DAV1'!A49)","v":""},{"$f":"IF('DAV1'!B49=\"\",\"\",'DAV1'!B49)","v":""},{"$f":"IF('DAV1'!C49=\"\",\"\",'DAV1'!C49)","v":""},1,1,1,1,1,1,1,1,1,1,1,1,1,1,1,1,"GELİŞTİRİLMELİ"]
[{"$f":"IF('DAV1'!A50=\"\",\"\",'DAV1'!A50)","v":""},{"$f":"IF('DAV1'!B50=\"\",\"\",'DAV1'!B50)","v":""},{"$f":"IF('DAV1'!C50=\"\",\"\",'DAV1'!C50)","v":""},1,1,1,1,1,1,1,1,1,1,1,1,1,1,1,1,"GELİŞTİRİLMELİ"]
[{"$f":"IF('DAV1'!A51=\"\",\"\",'DAV1'!A51)","v":""},{"$f":"IF('DAV1'!B51=\"\",\"\",'DAV1'!B51)","v":""},{"$f":"IF('DAV1'!C51=\"\",\"\",'DAV1'!C51)","v":""},1,1,1,1,1,1,1,1,1,1,1,1,1,1,1,1,"GELİŞTİRİLMELİ"]
[{"$f":"IF('DAV1'!A52=\"\",\"\",'DAV1'!A52)","v":""},{"$f":"IF('DAV1'!B52=\"\",\"\",'DAV1'!B52)","v":""},{"$f":"IF('DAV1'!C52=\"\",\"\",'DAV1'!C52)","v":""},1,1,1,1,1,1,1,1,1,1,1,1,1,1,1,1,"GELİŞTİRİLMELİ"]
[{"$f":"IF('DAV1'!A53=\"\",\"\",'DAV1'!A53)","v":""},{"$f":"IF('DAV1'!B53=\"\",\"\",'DAV1'!B53)","v":""},{"$f":"IF('DAV1'!C53=\"\",\"\",'DAV1'!C53)","v":""},1,1,1,1,1,1,1,1,1,1,1,1,1,1,1,1,"GELİŞTİRİLMELİ"]
[{"$f":"IF('DAV1'!A54=\"\",\"\",'DAV1'!A54)","v":""},{"$f":"IF('DAV1'!B54=\"\",\"\",'DAV1'!B54)","v":""},{"$f":"IF('DAV1'!C54=\"\",\"\",'DAV1'!C54)","v":""},1,1,1,1,1,1,1,1,1,1,1,1,1,1,1,1,"GELİŞTİRİLMELİ"]
[{"$f":"IF('DAV1'!A55=\"\",\"\",'DAV1'!A55)","v":""},{"$f":"IF('DAV1'!B55=\"\",\"\",'DAV1'!B55)","v":""},{"$f":"IF('DAV1'!C55=\"\",\"\",'DAV1'!C55)","v":""},1,1,1,1,1,1,1,1,1,1,1,1,1,1,1,1,"GELİŞTİRİLMELİ"]
[{"$f":"IF('DAV1'!A56=\"\",\"\",'DAV1'!A56)","v":""},{"$f":"IF('DAV1'!B56=\"\",\"\",'DAV1'!B56)","v":""},{"$f":"IF('DAV1'!C56=\"\",\"\",'DAV1'!C56)","v":""},1,1,1,1,1,1,1,1,1,1,1,1,1,1,1,1,"GELİŞTİRİLMELİ"]
[{"$f":"IF('DAV1'!A57=\"\",\"\",'DAV1'!A57)","v":""},{"$f":"IF('DAV1'!B57=\"\",\"\",'DAV1'!B57)","v":""},{"$f":"IF('DAV1'!C57=\"\",\"\",'DAV1'!C57)","v":""},1,1,1,1,1,1,1,1,1,1,1,1,1,1,1,1,"GELİŞTİRİLMELİ"]
[{"$f":"IF('DAV1'!A58=\"\",\"\",'DAV1'!A58)","v":""},{"$f":"IF('DAV1'!B58=\"\",\"\",'DAV1'!B58)","v":""},{"$f":"IF('DAV1'!C58=\"\",\"\",'DAV1'!C58)","v":""},1,1,1,1,1,1,1,1,1,1,1,1,1,1,1,1,"GELİŞTİRİLMELİ"]
[{"$f":"IF('DAV1'!A59=\"\",\"\",'DAV1'!A59)","v":""},{"$f":"IF('DAV1'!B59=\"\",\"\",'DAV1'!B59)","v":""},{"$f":"IF('DAV1'!C59=\"\",\"\",'DAV1'!C59)","v":""},1,1,1,1,1,1,1,1,1,1,1,1,1,1,1,1,"GELİŞTİRİLMELİ"]
[{"$f":"IF('DAV1'!A60=\"\",\"\",'DAV1'!A60)","v":""},{"$f":"IF('DAV1'!B60=\"\",\"\",'DAV1'!B60)","v":""},{"$f":"IF('DAV1'!C60=\"\",\"\",'DAV1'!C60)","v":""},1,1,1,1,1,1,1,1,1,1,1,1,1,1,1,1,"GELİŞTİRİLMELİ"]
[{"$f":"IF('DAV1'!A61=\"\",\"\",'DAV1'!A61)","v":""},{"$f":"IF('DAV1'!B61=\"\",\"\",'DAV1'!B61)","v":""},{"$f":"IF('DAV1'!C61=\"\",\"\",'DAV1'!C61)","v":""},1,1,1,1,1,1,1,1,1,1,1,1,1,1,1,1,"GELİŞTİRİLMELİ"]
[{"$f":"IF('DAV1'!A62=\"\",\"\",'DAV1'!A62)","v":""},{"$f":"IF('DAV1'!B62=\"\",\"\",'DAV1'!B62)","v":""},{"$f":"IF('DAV1'!C62=\"\",\"\",'DAV1'!C62)","v":""},1,1,1,1,1,1,1,1,1,1,1,1,1,1,1,1,"GELİŞTİRİLMELİ"]
[{"$f":"IF('DAV1'!A63=\"\",\"\",'DAV1'!A63)","v":""},{"$f":"IF('DAV1'!B63=\"\",\"\",'DAV1'!B63)","v":""},{"$f":"IF('DAV1'!C63=\"\",\"\",'DAV1'!C63)","v":""},1,1,1,1,1,1,1,1,1,1,1,1,1,1,1,1,"GELİŞTİRİLMELİ"]
[{"$f":"IF('DAV1'!A64=\"\",\"\",'DAV1'!A64)","v":""},{"$f":"IF('DAV1'!B64=\"\",\"\",'DAV1'!B64)","v":""},{"$f":"IF('DAV1'!C64=\"\",\"\",'DAV1'!C64)","v":""},1,1,1,1,1,1,1,1,1,1,1,1,1,1,1,1,"GELİŞTİRİLMELİ"]
[{"$f":"IF('DAV1'!A65=\"\",\"\",'DAV1'!A65)","v":""},{"$f":"IF('DAV1'!B65=\"\",\"\",'DAV1'!B65)","v":""},{"$f":"IF('DAV1'!C65=\"\",\"\",'DAV1'!C65)","v":""},1,1,1,1,1,1,1,1,1,1,1,1,1,1,1,1,"GELİŞTİRİLMELİ"]
[{"$f":"IF('DAV1'!A66=\"\",\"\",'DAV1'!A66)","v":""},{"$f":"IF('DAV1'!B66=\"\",\"\",'DAV1'!B66)","v":""},{"$f":"IF('DAV1'!C66=\"\",\"\",'DAV1'!C66)","v":""},1,1,1,1,1,1,1,1,1,1,1,1,1,1,1,1,"GELİŞTİRİLMELİ"]
[{"$f":"IF('DAV1'!A67=\"\",\"\",'DAV1'!A67)","v":""},{"$f":"IF('DAV1'!B67=\"\",\"\",'DAV1'!B67)","v":""},{"$f":"IF('DAV1'!C67=\"\",\"\",'DAV1'!C67)","v":""},1,1,1,1,1,1,1,1,1,1,1,1,1,1,1,1,"GELİŞTİRİLMELİ"]
[{"$f":"IF('DAV1'!A68=\"\",\"\",'DAV1'!A68)","v":""},{"$f":"IF('DAV1'!B68=\"\",\"\",'DAV1'!B68)","v":""},{"$f":"IF('DAV1'!C68=\"\",\"\",'DAV1'!C68)","v":""},1,1,1,1,1,1,1,1,1,1,1,1,1,1,1,1,"GELİŞTİRİLMELİ"]
[{"$f":"IF('DAV1'!A69=\"\",\"\",'DAV1'!A69)","v":""},{"$f":"IF('DAV1'!B69=\"\",\"\",'DAV1'!B69)","v":""},{"$f":"IF('DAV1'!C69=\"\",\"\",'DAV1'!C69)","v":""},1,1,1,1,1,1,1,1,1,1,1,1,1,1,1,1,"GELİŞTİRİLMELİ"]
[{"$f":"IF('DAV1'!A70=\"\",\"\",'DAV1'!A70)","v":""},{"$f":"IF('DAV1'!B70=\"\",\"\",'DAV1'!B70)","v":""},{"$f":"IF('DAV1'!C70=\"\",\"\",'DAV1'!C70)","v":""},1,1,1,1,1,1,1,1,1,1,1,1,1,1,1,1,"GELİŞTİRİLMELİ"]
[{"$f":"IF('DAV1'!A71=\"\",\"\",'DAV1'!A71)","v":""},{"$f":"IF('DAV1'!B71=\"\",\"\",'DAV1'!B71)","v":""},{"$f":"IF('DAV1'!C71=\"\",\"\",'DAV1'!C71)","v":""},1,1,1,1,1,1,1,1,1,1,1,1,1,1,1,1,"GELİŞTİRİLMELİ"]
[{"$f":"IF('DAV1'!A72=\"\",\"\",'DAV1'!A72)","v":""},{"$f":"IF('DAV1'!B72=\"\",\"\",'DAV1'!B72)","v":""},{"$f":"IF('DAV1'!C72=\"\",\"\",'DAV1'!C72)","v":""},1,1,1,1,1,1,1,1,1,1,1,1,1,1,1,1,"GELİŞTİRİLMELİ"]
[{"$f":"IF('DAV1'!A73=\"\",\"\",'DAV1'!A73)","v":""},{"$f":"IF('DAV1'!B73=\"\",\"\",'DAV1'!B73)","v":""},{"$f":"IF('DAV1'!C73=\"\",\"\",'DAV1'!C73)","v":""},1,1,1,1,1,1,1,1,1,1,1,1,1,1,1,1,"GELİŞTİRİLMELİ"]
[{"$f":"IF('DAV1'!A74=\"\",\"\",'DAV1'!A74)","v":""},{"$f":"IF('DAV1'!B74=\"\",\"\",'DAV1'!B74)","v":""},{"$f":"IF('DAV1'!C74=\"\",\"\",'DAV1'!C74)","v":""},1,1,1,1,1,1,1,1,1,1,1,1,1,1,1,1,"GELİŞTİRİLMELİ"]
[{"$f":"IF('DAV1'!A75=\"\",\"\",'DAV1'!A75)","v":""},{"$f":"IF('DAV1'!B75=\"\",\"\",'DAV1'!B75)","v":""},{"$f":"IF('DAV1'!C75=\"\",\"\",'DAV1'!C75)","v":""},1,1,1,1,1,1,1,1,1,1,1,1,1,1,1,1,"GELİŞTİRİLMELİ"]
[{"$f":"IF('DAV1'!A76=\"\",\"\",'DAV1'!A76)","v":""},{"$f":"IF('DAV1'!B76=\"\",\"\",'DAV1'!B76)","v":""},{"$f":"IF('DAV1'!C76=\"\",\"\",'DAV1'!C76)","v":""},1,1,1,1,1,1,1,1,1,1,1,1,1,1,1,1,"GELİŞTİRİLMELİ"]
[{"$f":"IF('DAV1'!A77=\"\",\"\",'DAV1'!A77)","v":""},{"$f":"IF('DAV1'!B77=\"\",\"\",'DAV1'!B77)","v":""},{"$f":"IF('DAV1'!C77=\"\",\"\",'DAV1'!C77)","v":""},1,1,1,1,1,1,1,1,1,1,1,1,1,1,1,1,"GELİŞTİRİLMELİ"]
[{"$f":"IF('DAV1'!A78=\"\",\"\",'DAV1'!A78)","v":""},{"$f":"IF('DAV1'!B78=\"\",\"\",'DAV1'!B78)","v":""},{"$f":"IF('DAV1'!C78=\"\",\"\",'DAV1'!C78)","v":""},1,1,1,1,1,1,1,1,1,1,1,1,1,1,1,1,"GELİŞTİRİLMELİ"]
[{"$f":"IF('DAV1'!A79=\"\",\"\",'DAV1'!A79)","v":""},{"$f":"IF('DAV1'!B79=\"\",\"\",'DAV1'!B79)","v":""},{"$f":"IF('DAV1'!C79=\"\",\"\",'DAV1'!C79)","v":""},1,1,1,1,1,1,1,1,1,1,1,1,1,1,1,1,"GELİŞTİRİLMELİ"]
[{"$f":"IF('DAV1'!A80=\"\",\"\",'DAV1'!A80)","v":""},{"$f":"IF('DAV1'!B80=\"\",\"\",'DAV1'!B80)","v":""},{"$f":"IF('DAV1'!C80=\"\",\"\",'DAV1'!C80)","v":""},1,1,1,1,1,1,1,1,1,1,1,1,1,1,1,1,"GELİŞTİRİLMELİ"]
[{"$f":"IF('DAV1'!A81=\"\",\"\",'DAV1'!A81)","v":""},{"$f":"IF('DAV1'!B81=\"\",\"\",'DAV1'!B81)","v":""},{"$f":"IF('DAV1'!C81=\"\",\"\",'DAV1'!C81)","v":""},1,1,1,1,1,1,1,1,1,1,1,1,1,1,1,1,"GELİŞTİRİLMELİ"]
[{"$f":"IF('DAV1'!A82=\"\",\"\",'DAV1'!A82)","v":""},{"$f":"IF('DAV1'!B82=\"\",\"\",'DAV1'!B82)","v":""},{"$f":"IF('DAV1'!C82=\"\",\"\",'DAV1'!C82)","v":""},1,1,1,1,1,1,1,1,1,1,1,1,1,1,1,1,"GELİŞTİRİLMELİ"]
[{"$f":"IF('DAV1'!A83=\"\",\"\",'DAV1'!A83)","v":""},{"$f":"IF('DAV1'!B83=\"\",\"\",'DAV1'!B83)","v":""},{"$f":"IF('DAV1'!C83=\"\",\"\",'DAV1'!C83)","v":""},1,1,1,1,1,1,1,1,1,1,1,1,1,1,1,1,"GELİŞTİRİLMELİ"]
[{"$f":"IF('DAV1'!A84=\"\",\"\",'DAV1'!A84)","v":""},{"$f":"IF('DAV1'!B84=\"\",\"\",'DAV1'!B84)","v":""},{"$f":"IF('DAV1'!C84=\"\",\"\",'DAV1'!C84)","v":""},1,1,1,1,1,1,1,1,1,1,1,1,1,1,1,1,"GELİŞTİRİLMELİ"]
[{"$f":"IF('DAV1'!A85=\"\",\"\",'DAV1'!A85)","v":""},{"$f":"IF('DAV1'!B85=\"\",\"\",'DAV1'!B85)","v":""},{"$f":"IF('DAV1'!C85=\"\",\"\",'DAV1'!C85)","v":""},1,1,1,1,1,1,1,1,1,1,1,1,1,1,1,1,"GELİŞTİRİLMELİ"]
[{"$f":"IF('DAV1'!A86=\"\",\"\",'DAV1'!A86)","v":""},{"$f":"IF('DAV1'!B86=\"\",\"\",'DAV1'!B86)","v":""},{"$f":"IF('DAV1'!C86=\"\",\"\",'DAV1'!C86)","v":""},1,1,1,1,1,1,1,1,1,1,1,1,1,1,1,1,"GELİŞTİRİLMELİ"]
[{"$f":"IF('DAV1'!A87=\"\",\"\",'DAV1'!A87)","v":""},{"$f":"IF('DAV1'!B87=\"\",\"\",'DAV1'!B87)","v":""},{"$f":"IF('DAV1'!C87=\"\",\"\",'DAV1'!C87)","v":""},1,1,1,1,1,1,1,1,1,1,1,1,1,1,1,1,"GELİŞTİRİLMELİ"]
[{"$f":"IF('DAV1'!A88=\"\",\"\",'DAV1'!A88)","v":""},{"$f":"IF('DAV1'!B88=\"\",\"\",'DAV1'!B88)","v":""},{"$f":"IF('DAV1'!C88=\"\",\"\",'DAV1'!C88)","v":""},1,1,1,1,1,1,1,1,1,1,1,1,1,1,1,1,"GELİŞTİRİLMELİ"]
[{"$f":"IF('DAV1'!A89=\"\",\"\",'DAV1'!A89)","v":""},{"$f":"IF('DAV1'!B89=\"\",\"\",'DAV1'!B89)","v":""},{"$f":"IF('DAV1'!C89=\"\",\"\",'DAV1'!C89)","v":""},1,1,1,1,1,1,1,1,1,1,1,1,1,1,1,1,"GELİŞTİRİLMELİ"]
[{"$f":"IF('DAV1'!A90=\"\",\"\",'DAV1'!A90)","v":""},{"$f":"IF('DAV1'!B90=\"\",\"\",'DAV1'!B90)","v":""},{"$f":"IF('DAV1'!C90=\"\",\"\",'DAV1'!C90)","v":""},1,1,1,1,1,1,1,1,1,1,1,1,1,1,1,1,"GELİŞTİRİLMELİ"]
[{"$f":"IF('DAV1'!A91=\"\",\"\",'DAV1'!A91)","v":""},{"$f":"IF('DAV1'!B91=\"\",\"\",'DAV1'!B91)","v":""},{"$f":"IF('DAV1'!C91=\"\",\"\",'DAV1'!C91)","v":""},1,1,1,1,1,1,1,1,1,1,1,1,1,1,1,1,"GELİŞTİRİLMELİ"]
[{"$f":"IF('DAV1'!A92=\"\",\"\",'DAV1'!A92)","v":""},{"$f":"IF('DAV1'!B92=\"\",\"\",'DAV1'!B92)","v":""},{"$f":"IF('DAV1'!C92=\"\",\"\",'DAV1'!C92)","v":""},1,1,1,1,1,1,1,1,1,1,1,1,1,1,1,1,"GELİŞTİRİLMELİ"]
[{"$f":"IF('DAV1'!A93=\"\",\"\",'DAV1'!A93)","v":""},{"$f":"IF('DAV1'!B93=\"\",\"\",'DAV1'!B93)","v":""},{"$f":"IF('DAV1'!C93=\"\",\"\",'DAV1'!C93)","v":""},1,1,1,1,1,1,1,1,1,1,1,1,1,1,1,1,"GELİŞTİRİLMELİ"]
[{"$f":"IF('DAV1'!A94=\"\",\"\",'DAV1'!A94)","v":""},{"$f":"IF('DAV1'!B94=\"\",\"\",'DAV1'!B94)","v":""},{"$f":"IF('DAV1'!C94=\"\",\"\",'DAV1'!C94)","v":""},1,1,1,1,1,1,1,1,1,1,1,1,1,1,1,1,"GELİŞTİRİLMELİ"]
[{"$f":"IF('DAV1'!A95=\"\",\"\",'DAV1'!A95)","v":""},{"$f":"IF('DAV1'!B95=\"\",\"\",'DAV1'!B95)","v":""},{"$f":"IF('DAV1'!C95=\"\",\"\",'DAV1'!C95)","v":""},1,1,1,1,1,1,1,1,1,1,1,1,1,1,1,1,"GELİŞTİRİLMELİ"]
[{"$f":"IF('DAV1'!A96=\"\",\"\",'DAV1'!A96)","v":""},{"$f":"IF('DAV1'!B96=\"\",\"\",'DAV1'!B96)","v":""},{"$f":"IF('DAV1'!C96=\"\",\"\",'DAV1'!C96)","v":""},1,1,1,1,1,1,1,1,1,1,1,1,1,1,1,1,"GELİŞTİRİLMELİ"]
[{"$f":"IF('DAV1'!A97=\"\",\"\",'DAV1'!A97)","v":""},{"$f":"IF('DAV1'!B97=\"\",\"\",'DAV1'!B97)","v":""},{"$f":"IF('DAV1'!C97=\"\",\"\",'DAV1'!C97)","v":""},1,1,1,1,1,1,1,1,1,1,1,1,1,1,1,1,"GELİŞTİRİLMELİ"]
[{"$f":"IF('DAV1'!A98=\"\",\"\",'DAV1'!A98)","v":""},{"$f":"IF('DAV1'!B98=\"\",\"\",'DAV1'!B98)","v":""},{"$f":"IF('DAV1'!C98=\"\",\"\",'DAV1'!C98)","v":""},1,1,1,1,1,1,1,1,1,1,1,1,1,1,1,1,"GELİŞTİRİLMELİ"]
[{"$f":"IF('DAV1'!A99=\"\",\"\",'DAV1'!A99)","v":""},{"$f":"IF('DAV1'!B99=\"\",\"\",'DAV1'!B99)","v":""},{"$f":"IF('DAV1'!C99=\"\",\"\",'DAV1'!C99)","v":""},1,1,1,1,1,1,1,1,1,1,1,1,1,1,1,1,"GELİŞTİRİLMELİ"]
[{"$f":"IF('DAV1'!A100=\"\",\"\",'DAV1'!A100)","v":""},{"$f":"IF('DAV1'!B100=\"\",\"\",'DAV1'!B100)","v":""},{"$f":"IF('DAV1'!C100=\"\",\"\",'DAV1'!C100)","v":""},1,1,1,1,1,1,1,1,1,1,1,1,1,1,1,1,"GELİŞTİRİLMELİ"]
[{"$f":"IF('DAV1'!A101=\"\",\"\",'DAV1'!A101)","v":""},{"$f":"IF('DAV1'!B101=\"\",\"\",'DAV1'!B101)","v":""},{"$f":"IF('DAV1'!C101=\"\",\"\",'DAV1'!C101)","v":""},1,1,1,1,1,1,1,1,1,1,1,1,1,1,1,1,"GELİŞTİRİLMELİ"]
[{"$f":"IF('DAV1'!A102=\"\",\"\",'DAV1'!A102)","v":""},{"$f":"IF('DAV1'!B102=\"\",\"\",'DAV1'!B102)","v":""},{"$f":"IF('DAV1'!C102=\"\",\"\",'DAV1'!C102)","v":""},1,1,1,1,1,1,1,1,1,1,1,1,1,1,1,1,"GELİŞTİRİLMELİ"]
[]
[1,1,1,1,1,1,1,1,1,1,1,1,1,1,1,1,1,1,1,1,1,1,1,1,1,1,1,1,1,1,1,1,1,1,1,1,1,1,1,1,1,1,1,1,1,1,1,1,1,1,1,1,1,1,1,1,1,1,1,1,1,1,1,1,1,1,1,1,1,1,1,1,1,1,1,1,1,1,1,1,1,1,1,1,1,1,1,1,1,1,1,1,1,1,1,1,1,1,1,1]
[2,2,2,2,2,2,2,2,2,2,2,2,2,2,2,2,2,2,2,2,2,2,2,2,2,2,2,2,2,2,2,2,2,2,2,2,2,2,2,2,2,2,2,2,2,2,2,2,2,2,2,2,2,2,2,2,2,2,2,2,2,2,2,2,2,2,2,2,2,2,2,2,2,2,2,2,2,2,2,2,2,2,2,2,2,2,2,2,2,2,2,2,2,2,2,2,2,2,2,2]
[3,3,3,3,3,3,3,3,3,3,3,3,3,3,3,3,3,3,3,3,3,3,3,3,3,3,3,3,3,3,3,3,3,3,3,3,3,3,3,3,3,3,3,3,3,3,3,3,3,3,3,3,3,3,3,3,3,3,3,3,3,3,3,3,3,3,3,3,3,3,3,3,3,3,3,3,3,3,3,3,3,3,3,3,3,3,3,3,3,3,3,3,3,3,3,3,3,3,3,3]
[4,4,4,4,4,4,4,4,4,4,4,4,4,4,4,4,4,4,4,4,4,4,4,4,4,4,4,4,4,4,4,4,4,4,4,4,4,4,4,4,4,4,4,4,4,4,4,4,4,4,4,4,4,4,4,4,4,4,4,4,4,4,4,4,4,4,4,4,4,4,4,4,4,4,4,4,4,4,4,4,4,4,4,4,4,4,4,4,4,4,4,4,4,4,4,4,4,4,4,4]

{"sheet":"BEO2.2","index":17,"n_rows":107,"n_cols":100,"rows_kept":107,"cut":false,"hidden":false,"merged":[[0,0,0,2],[0,13,1,13],[0,14,1,14],[1,3,1,12]]}
["BEDEN EĞİTİMİ VE OYUN\n2. DÖNEM",null,null,"O.1.2.1.1. Oyun ve fiziki etkinliklere düzenli olarak katılır.","O.1.2.1.2. Sınıf dışında oyunlar oynar.","O.1.2.2.4. Oyun ve fiziki etkinliklere katılırken dengeli ve düzenli beslenme alışkanlığı sergiler.","O.1.2.2.5. Oyun ve fiziki etkinliklere katılırken temizlik alışkanlıkları sergiler.","O.1.2.2.6. Güvenli alanlarda oynar.","O.1.2.2.7. Oyun ve fiziki etkinlikler sırasında çeşitli iletişim becerileri gösterir. ","O.1.2.2.8. Oyun ve fiziki etkinliklerde bireysel güç ve becerilerin farklı olabileceğini açıklar.","O.1.2.3.1. Bayram, kutlama ve törenlere katılır.","O.1.2.3.2. Kültürümüze ait basit ritimli halk dansları adımlarını yapar.","O.1.2.3.3. Geleneksel çocuk oyunlarını oynar.","ORTALAMA","DEĞERLENDİRME SONUCU"]
["SIRA","OKUL NO","ADI SOYADI"," Düzenli  Fiziksel Etkinlik - Fiziksel Etkinlik Kavramları, İlkeleri ve İlgili Hayat Becerileri - Kültürel Birikimlerimiz ve Değerlerimiz"]
[{"$f":"IF('DAV1'!A3=\"\",\"\",'DAV1'!A3)","v":1},{"$f":"IF('DAV1'!B3=\"\",\"\",'DAV1'!B3)","v":11},{"$f":"IF('DAV1'!C3=\"\",\"\",'DAV1'!C3)","v":"KAYRA ÇINAR ERGÜN"},1,1,1,1,1,1,1,1,1,1,{"$f":"AVERAGE(D3:M3)","v":1},{"$f":"IF(N3=\"\",\"\",(IF(N3>=2.5,\"ÇOK İYİ\",IF(N3>=1.5,\"İYİ\",IF(N3>=1,\"GELİŞTİRİLMELİ\")))))","v":"GELİŞTİRİLMELİ"}]
[{"$f":"IF('DAV1'!A4=\"\",\"\",'DAV1'!A4)","v":2},{"$f":"IF('DAV1'!B4=\"\",\"\",'DAV1'!B4)","v":35},{"$f":"IF('DAV1'!C4=\"\",\"\",'DAV1'!C4)","v":"FURKAN SOLMAZ"},1,1,1,1,1,1,1,1,1,1,1,"GELİŞTİRİLMELİ"]
[{"$f":"IF('DAV1'!A5=\"\",\"\",'DAV1'!A5)","v":3},{"$f":"IF('DAV1'!B5=\"\",\"\",'DAV1'!B5)","v":53},{"$f":"IF('DAV1'!C5=\"\",\"\",'DAV1'!C5)","v":"İLKNUR MUMCU"},1,1,1,1,1,1,1,1,1,1,1,"GELİŞTİRİLMELİ"]
[{"$f":"IF('DAV1'!A6=\"\",\"\",'DAV1'!A6)","v":4},{"$f":"IF('DAV1'!B6=\"\",\"\",'DAV1'!B6)","v":83},{"$f":"IF('DAV1'!C6=\"\",\"\",'DAV1'!C6)","v":"MUHAMMET ALİ YILDIRIM"},1,1,1,1,1,1,1,1,1,1,1,"GELİŞTİRİLMELİ"]
[{"$f":"IF('DAV1'!A7=\"\",\"\",'DAV1'!A7)","v":5},{"$f":"IF('DAV1'!B7=\"\",\"\",'DAV1'!B7)","v":93},{"$f":"IF('DAV1'!C7=\"\",\"\",'DAV1'!C7)","v":"ERTUĞRUL GAZİ NAMLI"},1,1,1,1,1,1,1,1,1,1,1,"GELİŞTİRİLMELİ"]
[{"$f":"IF('DAV1'!A8=\"\",\"\",'DAV1'!A8)","v":6},{"$f":"IF('DAV1'!B8=\"\",\"\",'DAV1'!B8)","v":100},{"$f":"IF('DAV1'!C8=\"\",\"\",'DAV1'!C8)","v":"ECEM EFE"},1,1,1,1,1,1,1,1,1,1,1,"GELİŞTİRİLMELİ"]
[{"$f":"IF('DAV1'!A9=\"\",\"\",'DAV1'!A9)","v":7},{"$f":"IF('DAV1'!B9=\"\",\"\",'DAV1'!B9)","v":105},{"$f":"IF('DAV1'!C9=\"\",\"\",'DAV1'!C9)","v":"SELİM ZEKERİYA ÖZDEMİR"},1,1,1,1,1,1,1,1,1,1,1,"GELİŞTİRİLMELİ"]
[{"$f":"IF('DAV1'!A10=\"\",\"\",'DAV1'!A10)","v":8},{"$f":"IF('DAV1'!B10=\"\",\"\",'DAV1'!B10)","v":108},{"$f":"IF('DAV1'!C10=\"\",\"\",'DAV1'!C10)","v":"AREN KARAKAŞ"},1,1,1,1,1,1,1,1,1,1,1,"GELİŞTİRİLMELİ"]
[{"$f":"IF('DAV1'!A11=\"\",\"\",'DAV1'!A11)","v":9},{"$f":"IF('DAV1'!B11=\"\",\"\",'DAV1'!B11)","v":111},{"$f":"IF('DAV1'!C11=\"\",\"\",'DAV1'!C11)","v":"ZEHRA ŞAHİNOĞLU"},1,1,1,1,1,1,1,1,1,1,1,"GELİŞTİRİLMELİ"]
[{"$f":"IF('DAV1'!A12=\"\",\"\",'DAV1'!A12)","v":10},{"$f":"IF('DAV1'!B12=\"\",\"\",'DAV1'!B12)","v":113},{"$f":"IF('DAV1'!C12=\"\",\"\",'DAV1'!C12)","v":"YUSUF ALİ TÜNÇ"},1,1,1,1,1,1,1,1,1,1,1,"GELİŞTİRİLMELİ"]
[{"$f":"IF('DAV1'!A13=\"\",\"\",'DAV1'!A13)","v":11},{"$f":"IF('DAV1'!B13=\"\",\"\",'DAV1'!B13)","v":161},{"$f":"IF('DAV1'!C13=\"\",\"\",'DAV1'!C13)","v":"HÜSEYİN CELAYİR"},1,1,1,1,1,1,1,1,1,1,1,"GELİŞTİRİLMELİ"]
[{"$f":"IF('DAV1'!A14=\"\",\"\",'DAV1'!A14)","v":12},{"$f":"IF('DAV1'!B14=\"\",\"\",'DAV1'!B14)","v":177},{"$f":"IF('DAV1'!C14=\"\",\"\",'DAV1'!C14)","v":"YİĞİT EFE YEŞİLDAL"},1,1,1,1,1,1,1,1,1,1,1,"GELİŞTİRİLMELİ"]
[{"$f":"IF('DAV1'!A15=\"\",\"\",'DAV1'!A15)","v":13},{"$f":"IF('DAV1'!B15=\"\",\"\",'DAV1'!B15)","v":187},{"$f":"IF('DAV1'!C15=\"\",\"\",'DAV1'!C15)","v":"HALEF TAHA ATEŞ"},1,1,1,1,1,1,1,1,1,1,1,"GELİŞTİRİLMELİ"]
[{"$f":"IF('DAV1'!A16=\"\",\"\",'DAV1'!A16)","v":14},{"$f":"IF('DAV1'!B16=\"\",\"\",'DAV1'!B16)","v":188},{"$f":"IF('DAV1'!C16=\"\",\"\",'DAV1'!C16)","v":"EMİRHAN MERTOĞLU"},1,1,1,1,1,1,1,1,1,1,1,"GELİŞTİRİLMELİ"]
[{"$f":"IF('DAV1'!A17=\"\",\"\",'DAV1'!A17)","v":15},{"$f":"IF('DAV1'!B17=\"\",\"\",'DAV1'!B17)","v":189},{"$f":"IF('DAV1'!C17=\"\",\"\",'DAV1'!C17)","v":"EMİNE GÜVEN"},1,1,1,1,1,1,1,1,1,1,1,"GELİŞTİRİLMELİ"]
[{"$f":"IF('DAV1'!A18=\"\",\"\",'DAV1'!A18)","v":16},{"$f":"IF('DAV1'!B18=\"\",\"\",'DAV1'!B18)","v":213},{"$f":"IF('DAV1'!C18=\"\",\"\",'DAV1'!C18)","v":"YAĞMUR KILIÇ"},1,1,1,1,1,1,1,1,1,1,1,"GELİŞTİRİLMELİ"]
[{"$f":"IF('DAV1'!A19=\"\",\"\",'DAV1'!A19)","v":17},{"$f":"IF('DAV1'!B19=\"\",\"\",'DAV1'!B19)","v":214},{"$f":"IF('DAV1'!C19=\"\",\"\",'DAV1'!C19)","v":"ERDAL GÜLATAR"},1,1,1,1,1,1,1,1,1,1,1,"GELİŞTİRİLMELİ"]
[{"$f":"IF('DAV1'!A20=\"\",\"\",'DAV1'!A20)","v":18},{"$f":"IF('DAV1'!B20=\"\",\"\",'DAV1'!B20)","v":216},{"$f":"IF('DAV1'!C20=\"\",\"\",'DAV1'!C20)","v":"GAMZE ACAR"},1,1,1,1,1,1,1,1,1,1,1,"GELİŞTİRİLMELİ"]
[{"$f":"IF('DAV1'!A21=\"\",\"\",'DAV1'!A21)","v":19},{"$f":"IF('DAV1'!B21=\"\",\"\",'DAV1'!B21)","v":222},{"$f":"IF('DAV1'!C21=\"\",\"\",'DAV1'!C21)","v":"HİRANUR DOĞANDEMİR"},1,1,1,1,1,1,1,1,1,1,1,"GELİŞTİRİLMELİ"]
[{"$f":"IF('DAV1'!A22=\"\",\"\",'DAV1'!A22)","v":20},{"$f":"IF('DAV1'!B22=\"\",\"\",'DAV1'!B22)","v":224},{"$f":"IF('DAV1'!C22=\"\",\"\",'DAV1'!C22)","v":"TALHA YILMAZ"},1,1,1,1,1,1,1,1,1,1,1,"GELİŞTİRİLMELİ"]
[{"$f":"IF('DAV1'!A23=\"\",\"\",'DAV1'!A23)","v":21},{"$f":"IF('DAV1'!B23=\"\",\"\",'DAV1'!B23)","v":225},{"$f":"IF('DAV1'!C23=\"\",\"\",'DAV1'!C23)","v":"YUSUF EMİR DAĞDÖGEN"},1,1,1,1,1,1,1,1,1,1,1,"GELİŞTİRİLMELİ"]
[{"$f":"IF('DAV1'!A24=\"\",\"\",'DAV1'!A24)","v":22},{"$f":"IF('DAV1'!B24=\"\",\"\",'DAV1'!B24)","v":226},{"$f":"IF('DAV1'!C24=\"\",\"\",'DAV1'!C24)","v":"İMREN CANPOLAT"},1,1,1,1,1,1,1,1,1,1,1,"GELİŞTİRİLMELİ"]
[{"$f":"IF('DAV1'!A25=\"\",\"\",'DAV1'!A25)","v":23},{"$f":"IF('DAV1'!B25=\"\",\"\",'DAV1'!B25)","v":227},{"$f":"IF('DAV1'!C25=\"\",\"\",'DAV1'!C25)","v":"ZEYNEP CANPOLAT"},1,1,1,1,1,1,1,1,1,1,1,"GELİŞTİRİLMELİ"]
[{"$f":"IF('DAV1'!A26=\"\",\"\",'DAV1'!A26)","v":24},{"$f":"IF('DAV1'!B26=\"\",\"\",'DAV1'!B26)","v":229},{"$f":"IF('DAV1'!C26=\"\",\"\",'DAV1'!C26)","v":"MERYEM PARMAK"},1,1,1,1,1,1,1,1,1,1,1,"GELİŞTİRİLMELİ"]
[{"$f":"IF('DAV1'!A27=\"\",\"\",'DAV1'!A27)","v":25},{"$f":"IF('DAV1'!B27=\"\",\"\",'DAV1'!B27)","v":237},{"$f":"IF('DAV1'!C27=\"\",\"\",'DAV1'!C27)","v":"ZEYNEP MİRAY BOYRAZ"},1,1,1,1,1,1,1,1,1,1,1,"GELİŞTİRİLMELİ"]
[{"$f":"IF('DAV1'!A28=\"\",\"\",'DAV1'!A28)","v":26},{"$f":"IF('DAV1'!B28=\"\",\"\",'DAV1'!B28)","v":244},{"$f":"IF('DAV1'!C28=\"\",\"\",'DAV1'!C28)","v":"TAMER ŞEKERCİLEROĞLU"},1,1,1,1,1,1,1,1,1,1,1,"GELİŞTİRİLMELİ"]
[{"$f":"IF('DAV1'!A29=\"\",\"\",'DAV1'!A29)","v":27},{"$f":"IF('DAV1'!B29=\"\",\"\",'DAV1'!B29)","v":263},{"$f":"IF('DAV1'!C29=\"\",\"\",'DAV1'!C29)","v":"MUHAMMED YUSUF YILMAZ"},1,1,1,1,1,1,1,1,1,1,1,"GELİŞTİRİLMELİ"]
[{"$f":"IF('DAV1'!A30=\"\",\"\",'DAV1'!A30)","v":28},{"$f":"IF('DAV1'!B30=\"\",\"\",'DAV1'!B30)","v":264},{"$f":"IF('DAV1'!C30=\"\",\"\",'DAV1'!C30)","v":"OĞUZHAN GÜRGÜZE"},1,1,1,1,1,1,1,1,1,1,1,"GELİŞTİRİLMELİ"]
[{"$f":"IF('DAV1'!A31=\"\",\"\",'DAV1'!A31)","v":29},{"$f":"IF('DAV1'!B31=\"\",\"\",'DAV1'!B31)","v":279},{"$f":"IF('DAV1'!C31=\"\",\"\",'DAV1'!C31)","v":"MİHRİMA EKİCİ"},1,1,1,1,1,1,1,1,1,1,1,"GELİŞTİRİLMELİ"]
[{"$f":"IF('DAV1'!A32=\"\",\"\",'DAV1'!A32)","v":30},{"$f":"IF('DAV1'!B32=\"\",\"\",'DAV1'!B32)","v":290},{"$f":"IF('DAV1'!C32=\"\",\"\",'DAV1'!C32)","v":"NİSA NUR YILDIZ"},1,1,1,1,1,1,1,1,1,1,1,"GELİŞTİRİLMELİ"]
[{"$f":"IF('DAV1'!A33=\"\",\"\",'DAV1'!A33)","v":31},{"$f":"IF('DAV1'!B33=\"\",\"\",'DAV1'!B33)","v":293},{"$f":"IF('DAV1'!C33=\"\",\"\",'DAV1'!C33)","v":"MEHMET ALATAŞ"},1,1,1,1,1,1,1,1,1,1,1,"GELİŞTİRİLMELİ"]
[{"$f":"IF('DAV1'!A34=\"\",\"\",'DAV1'!A34)","v":32},{"$f":"IF('DAV1'!B34=\"\",\"\",'DAV1'!B34)","v":451},{"$f":"IF('DAV1'!C34=\"\",\"\",'DAV1'!C34)","v":"İKRA YILDIRIM"},1,1,1,1,1,1,1,1,1,1,1,"GELİŞTİRİLMELİ"]
[{"$f":"IF('DAV1'!A35=\"\",\"\",'DAV1'!A35)","v":33},{"$f":"IF('DAV1'!B35=\"\",\"\",'DAV1'!B35)","v":616},{"$f":"IF('DAV1'!C35=\"\",\"\",'DAV1'!C35)","v":"EDA TURAL"},1,1,1,1,1,1,1,1,1,1,{"$f":"AVERAGE(D35:M35)","v":1},"GELİŞTİRİLMELİ"]
[{"$f":"IF('DAV1'!A36=\"\",\"\",'DAV1'!A36)","v":34},{"$f":"IF('DAV1'!B36=\"\",\"\",'DAV1'!B36)","v":892},{"$f":"IF('DAV1'!C36=\"\",\"\",'DAV1'!C36)","v":"ALMA ALRAMADAN"},1,1,1,1,1,1,1,1,1,1,1,"GELİŞTİRİLMELİ"]
[{"$f":"IF('DAV1'!A37=\"\",\"\",'DAV1'!A37)","v":35},{"$f":"IF('DAV1'!B37=\"\",\"\",'DAV1'!B37)","v":1000},{"$f":"IF('DAV1'!C37=\"\",\"\",'DAV1'!C37)","v":"TURGUT POLAT"},1,1,1,1,1,1,1,1,1,1,1,{"$f":"IF(N37=\"\",\"\",(IF(N37>=2.5,\"ÇOK İYİ\",IF(N37>=1.5,\"İYİ\",IF(N37>=1,\"GELİŞTİRİLMELİ\")))))","v":"GELİŞTİRİLMELİ"}]
[{"$f":"IF('DAV1'!A38=\"\",\"\",'DAV1'!A38)","v":""},{"$f":"IF('DAV1'!B38=\"\",\"\",'DAV1'!B38)","v":""},{"$f":"IF('DAV1'!C38=\"\",\"\",'DAV1'!C38)","v":""},1,1,1,1,1,1,1,1,1,1,1,"GELİŞTİRİLMELİ"]
[{"$f":"IF('DAV1'!A39=\"\",\"\",'DAV1'!A39)","v":""},{"$f":"IF('DAV1'!B39=\"\",\"\",'DAV1'!B39)","v":""},{"$f":"IF('DAV1'!C39=\"\",\"\",'DAV1'!C39)","v":""},1,1,1,1,1,1,1,1,1,1,1,"GELİŞTİRİLMELİ"]
[{"$f":"IF('DAV1'!A40=\"\",\"\",'DAV1'!A40)","v":""},{"$f":"IF('DAV1'!B40=\"\",\"\",'DAV1'!B40)","v":""},{"$f":"IF('DAV1'!C40=\"\",\"\",'DAV1'!C40)","v":""},1,1,1,1,1,1,1,1,1,1,1,"GELİŞTİRİLMELİ"]
[{"$f":"IF('DAV1'!A41=\"\",\"\",'DAV1'!A41)","v":""},{"$f":"IF('DAV1'!B41=\"\",\"\",'DAV1'!B41)","v":""},{"$f":"IF('DAV1'!C41=\"\",\"\",'DAV1'!C41)","v":""},1,1,1,1,1,1,1,1,1,1,1,"GELİŞTİRİLMELİ"]
[{"$f":"IF('DAV1'!A42=\"\",\"\",'DAV1'!A42)","v":""},{"$f":"IF('DAV1'!B42=\"\",\"\",'DAV1'!B42)","v":""},{"$f":"IF('DAV1'!C42=\"\",\"\",'DAV1'!C42)","v":""},1,1,1,1,1,1,1,1,1,1,1,"GELİŞTİRİLMELİ"]
[{"$f":"IF('DAV1'!A43=\"\",\"\",'DAV1'!A43)","v":""},{"$f":"IF('DAV1'!B43=\"\",\"\",'DAV1'!B43)","v":""},{"$f":"IF('DAV1'!C43=\"\",\"\",'DAV1'!C43)","v":""},1,1,1,1,1,1,1,1,1,1,1,"GELİŞTİRİLMELİ"]
[{"$f":"IF('DAV1'!A44=\"\",\"\",'DAV1'!A44)","v":""},{"$f":"IF('DAV1'!B44=\"\",\"\",'DAV1'!B44)","v":""},{"$f":"IF('DAV1'!C44=\"\",\"\",'DAV1'!C44)","v":""},1,1,1,1,1,1,1,1,1,1,1,"GELİŞTİRİLMELİ"]
[{"$f":"IF('DAV1'!A45=\"\",\"\",'DAV1'!A45)","v":""},{"$f":"IF('DAV1'!B45=\"\",\"\",'DAV1'!B45)","v":""},{"$f":"IF('DAV1'!C45=\"\",\"\",'DAV1'!C45)","v":""},1,1,1,1,1,1,1,1,1,1,1,"GELİŞTİRİLMELİ"]
[{"$f":"IF('DAV1'!A46=\"\",\"\",'DAV1'!A46)","v":""},{"$f":"IF('DAV1'!B46=\"\",\"\",'DAV1'!B46)","v":""},{"$f":"IF('DAV1'!C46=\"\",\"\",'DAV1'!C46)","v":""},1,1,1,1,1,1,1,1,1,1,1,"GELİŞTİRİLMELİ"]
[{"$f":"IF('DAV1'!A47=\"\",\"\",'DAV1'!A47)","v":""},{"$f":"IF('DAV1'!B47=\"\",\"\",'DAV1'!B47)","v":""},{"$f":"IF('DAV1'!C47=\"\",\"\",'DAV1'!C47)","v":""},1,1,1,1,1,1,1,1,1,1,1,"GELİŞTİRİLMELİ"]
[{"$f":"IF('DAV1'!A48=\"\",\"\",'DAV1'!A48)","v":""},{"$f":"IF('DAV1'!B48=\"\",\"\",'DAV1'!B48)","v":""},{"$f":"IF('DAV1'!C48=\"\",\"\",'DAV1'!C48)","v":""},1,1,1,1,1,1,1,1,1,1,1,"GELİŞTİRİLMELİ"]
[{"$f":"IF('DAV1'!A49=\"\",\"\",'DAV1'!A49)","v":""},{"$f":"IF('DAV1'!B49=\"\",\"\",'DAV1'!B49)","v":""},{"$f":"IF('DAV1'!C49=\"\",\"\",'DAV1'!C49)","v":""},1,1,1,1,1,1,1,1,1,1,1,"GELİŞTİRİLMELİ"]
[{"$f":"IF('DAV1'!A50=\"\",\"\",'DAV1'!A50)","v":""},{"$f":"IF('DAV1'!B50=\"\",\"\",'DAV1'!B50)","v":""},{"$f":"IF('DAV1'!C50=\"\",\"\",'DAV1'!C50)","v":""},1,1,1,1,1,1,1,1,1,1,1,"GELİŞTİRİLMELİ"]
[{"$f":"IF('DAV1'!A51=\"\",\"\",'DAV1'!A51)","v":""},{"$f":"IF('DAV1'!B51=\"\",\"\",'DAV1'!B51)","v":""},{"$f":"IF('DAV1'!C51=\"\",\"\",'DAV1'!C51)","v":""},1,1,1,1,1,1,1,1,1,1,1,"GELİŞTİRİLMELİ"]
[{"$f":"IF('DAV1'!A52=\"\",\"\",'DAV1'!A52)","v":""},{"$f":"IF('DAV1'!B52=\"\",\"\",'DAV1'!B52)","v":""},{"$f":"IF('DAV1'!C52=\"\",\"\",'DAV1'!C52)","v":""},1,1,1,1,1,1,1,1,1,1,1,"GELİŞTİRİLMELİ"]
[{"$f":"IF('DAV1'!A53=\"\",\"\",'DAV1'!A53)","v":""},{"$f":"IF('DAV1'!B53=\"\",\"\",'DAV1'!B53)","v":""},{"$f":"IF('DAV1'!C53=\"\",\"\",'DAV1'!C53)","v":""},1,1,1,1,1,1,1,1,1,1,1,"GELİŞTİRİLMELİ"]
[{"$f":"IF('DAV1'!A54=\"\",\"\",'DAV1'!A54)","v":""},{"$f":"IF('DAV1'!B54=\"\",\"\",'DAV1'!B54)","v":""},{"$f":"IF('DAV1'!C54=\"\",\"\",'DAV1'!C54)","v":""},1,1,1,1,1,1,1,1,1,1,1,"GELİŞTİRİLMELİ"]
[{"$f":"IF('DAV1'!A55=\"\",\"\",'DAV1'!A55)","v":""},{"$f":"IF('DAV1'!B55=\"\",\"\",'DAV1'!B55)","v":""},{"$f":"IF('DAV1'!C55=\"\",\"\",'DAV1'!C55)","v":""},1,1,1,1,1,1,1,1,1,1,1,"GELİŞTİRİLMELİ"]
[{"$f":"IF('DAV1'!A56=\"\",\"\",'DAV1'!A56)","v":""},{"$f":"IF('DAV1'!B56=\"\",\"\",'DAV1'!B56)","v":""},{"$f":"IF('DAV1'!C56=\"\",\"\",'DAV1'!C56)","v":""},1,1,1,1,1,1,1,1,1,1,1,"GELİŞTİRİLMELİ"]
[{"$f":"IF('DAV1'!A57=\"\",\"\",'DAV1'!A57)","v":""},{"$f":"IF('DAV1'!B57=\"\",\"\",'DAV1'!B57)","v":""},{"$f":"IF('DAV1'!C57=\"\",\"\",'DAV1'!C57)","v":""},1,1,1,1,1,1,1,1,1,1,1,"GELİŞTİRİLMELİ"]
[{"$f":"IF('DAV1'!A58=\"\",\"\",'DAV1'!A58)","v":""},{"$f":"IF('DAV1'!B58=\"\",\"\",'DAV1'!B58)","v":""},{"$f":"IF('DAV1'!C58=\"\",\"\",'DAV1'!C58)","v":""},1,1,1,1,1,1,1,1,1,1,1,"GELİŞTİRİLMELİ"]
[{"$f":"IF('DAV1'!A59=\"\",\"\",'DAV1'!A59)","v":""},{"$f":"IF('DAV1'!B59=\"\",\"\",'DAV1'!B59)","v":""},{"$f":"IF('DAV1'!C59=\"\",\"\",'DAV1'!C59)","v":""},1,1,1,1,1,1,1,1,1,1,1,"GELİŞTİRİLMELİ"]
[{"$f":"IF('DAV1'!A60=\"\",\"\",'DAV1'!A60)","v":""},{"$f":"IF('DAV1'!B60=\"\",\"\",'DAV1'!B60)","v":""},{"$f":"IF('DAV1'!C60=\"\",\"\",'DAV1'!C60)","v":""},1,1,1,1,1,1,1,1,1,1,1,"GELİŞTİRİLMELİ"]
[{"$f":"IF('DAV1'!A61=\"\",\"\",'DAV1'!A61)","v":""},{"$f":"IF('DAV1'!B61=\"\",\"\",'DAV1'!B61)","v":""},{"$f":"IF('DAV1'!C61=\"\",\"\",'DAV1'!C61)","v":""},1,1,1,1,1,1,1,1,1,1,1,"GELİŞTİRİLMELİ"]
[{"$f":"IF('DAV1'!A62=\"\",\"\",'DAV1'!A62)","v":""},{"$f":"IF('DAV1'!B62=\"\",\"\",'DAV1'!B62)","v":""},{"$f":"IF('DAV1'!C62=\"\",\"\",'DAV1'!C62)","v":""},1,1,1,1,1,1,1,1,1,1,1,"GELİŞTİRİLMELİ"]
[{"$f":"IF('DAV1'!A63=\"\",\"\",'DAV1'!A63)","v":""},{"$f":"IF('DAV1'!B63=\"\",\"\",'DAV1'!B63)","v":""},{"$f":"IF('DAV1'!C63=\"\",\"\",'DAV1'!C63)","v":""},1,1,1,1,1,1,1,1,1,1,1,"GELİŞTİRİLMELİ"]
[{"$f":"IF('DAV1'!A64=\"\",\"\",'DAV1'!A64)","v":""},{"$f":"IF('DAV1'!B64=\"\",\"\",'DAV1'!B64)","v":""},{"$f":"IF('DAV1'!C64=\"\",\"\",'DAV1'!C64)","v":""},1,1,1,1,1,1,1,1,1,1,1,"GELİŞTİRİLMELİ"]
[{"$f":"IF('DAV1'!A65=\"\",\"\",'DAV1'!A65)","v":""},{"$f":"IF('DAV1'!B65=\"\",\"\",'DAV1'!B65)","v":""},{"$f":"IF('DAV1'!C65=\"\",\"\",'DAV1'!C65)","v":""},1,1,1,1,1,1,1,1,1,1,1,"GELİŞTİRİLMELİ"]
[{"$f":"IF('DAV1'!A66=\"\",\"\",'DAV1'!A66)","v":""},{"$f":"IF('DAV1'!B66=\"\",\"\",'DAV1'!B66)","v":""},{"$f":"IF('DAV1'!C66=\"\",\"\",'DAV1'!C66)","v":""},1,1,1,1,1,1,1,1,1,1,1,"GELİŞTİRİLMELİ"]
[{"$f":"IF('DAV1'!A67=\"\",\"\",'DAV1'!A67)","v":""},{"$f":"IF('DAV1'!B67=\"\",\"\",'DAV1'!B67)","v":""},{"$f":"IF('DAV1'!C67=\"\",\"\",'DAV1'!C67)","v":""},1,1,1,1,1,1,1,1,1,1,{"$f":"AVERAGE(D67:M67)","v":1},"GELİŞTİRİLMELİ"]
[{"$f":"IF('DAV1'!A68=\"\",\"\",'DAV1'!A68)","v":""},{"$f":"IF('DAV1'!B68=\"\",\"\",'DAV1'!B68)","v":""},{"$f":"IF('DAV1'!C68=\"\",\"\",'DAV1'!C68)","v":""},1,1,1,1,1,1,1,1,1,1,1,"GELİŞTİRİLMELİ"]
[{"$f":"IF('DAV1'!A69=\"\",\"\",'DAV1'!A69)","v":""},{"$f":"IF('DAV1'!B69=\"\",\"\",'DAV1'!B69)","v":""},{"$f":"IF('DAV1'!C69=\"\",\"\",'DAV1'!C69)","v":""},1,1,1,1,1,1,1,1,1,1,1,"GELİŞTİRİLMELİ"]
[{"$f":"IF('DAV1'!A70=\"\",\"\",'DAV1'!A70)","v":""},{"$f":"IF('DAV1'!B70=\"\",\"\",'DAV1'!B70)","v":""},{"$f":"IF('DAV1'!C70=\"\",\"\",'DAV1'!C70)","v":""},1,1,1,1,1,1,1,1,1,1,1,"GELİŞTİRİLMELİ"]
[{"$f":"IF('DAV1'!A71=\"\",\"\",'DAV1'!A71)","v":""},{"$f":"IF('DAV1'!B71=\"\",\"\",'DAV1'!B71)","v":""},{"$f":"IF('DAV1'!C71=\"\",\"\",'DAV1'!C71)","v":""},1,1,1,1,1,1,1,1,1,1,1,"GELİŞTİRİLMELİ"]
[{"$f":"IF('DAV1'!A72=\"\",\"\",'DAV1'!A72)","v":""},{"$f":"IF('DAV1'!B72=\"\",\"\",'DAV1'!B72)","v":""},{"$f":"IF('DAV1'!C72=\"\",\"\",'DAV1'!C72)","v":""},1,1,1,1,1,1,1,1,1,1,1,"GELİŞTİRİLMELİ"]
[{"$f":"IF('DAV1'!A73=\"\",\"\",'DAV1'!A73)","v":""},{"$f":"IF('DAV1'!B73=\"\",\"\",'DAV1'!B73)","v":""},{"$f":"IF('DAV1'!C73=\"\",\"\",'DAV1'!C73)","v":""},1,1,1,1,1,1,1,1,1,1,1,"GELİŞTİRİLMELİ"]
[{"$f":"IF('DAV1'!A74=\"\",\"\",'DAV1'!A74)","v":""},{"$f":"IF('DAV1'!B74=\"\",\"\",'DAV1'!B74)","v":""},{"$f":"IF('DAV1'!C74=\"\",\"\",'DAV1'!C74)","v":""},1,1,1,1,1,1,1,1,1,1,1,"GELİŞTİRİLMELİ"]
[{"$f":"IF('DAV1'!A75=\"\",\"\",'DAV1'!A75)","v":""},{"$f":"IF('DAV1'!B75=\"\",\"\",'DAV1'!B75)","v":""},{"$f":"IF('DAV1'!C75=\"\",\"\",'DAV1'!C75)","v":""},1,1,1,1,1,1,1,1,1,1,1,"GELİŞTİRİLMELİ"]
[{"$f":"IF('DAV1'!A76=\"\",\"\",'DAV1'!A76)","v":""},{"$f":"IF('DAV1'!B76=\"\",\"\",'DAV1'!B76)","v":""},{"$f":"IF('DAV1'!C76=\"\",\"\",'DAV1'!C76)","v":""},1,1,1,1,1,1,1,1,1,1,1,"GELİŞTİRİLMELİ"]
[{"$f":"IF('DAV1'!A77=\"\",\"\",'DAV1'!A77)","v":""},{"$f":"IF('DAV1'!B77=\"\",\"\",'DAV1'!B77)","v":""},{"$f":"IF('DAV1'!C77=\"\",\"\",'DAV1'!C77)","v":""},1,1,1,1,1,1,1,1,1,1,1,"GELİŞTİRİLMELİ"]
[{"$f":"IF('DAV1'!A78=\"\",\"\",'DAV1'!A78)","v":""},{"$f":"IF('DAV1'!B78=\"\",\"\",'DAV1'!B78)","v":""},{"$f":"IF('DAV1'!C78=\"\",\"\",'DAV1'!C78)","v":""},1,1,1,1,1,1,1,1,1,1,1,"GELİŞTİRİLMELİ"]
[{"$f":"IF('DAV1'!A79=\"\",\"\",'DAV1'!A79)","v":""},{"$f":"IF('DAV1'!B79=\"\",\"\",'DAV1'!B79)","v":""},{"$f":"IF('DAV1'!C79=\"\",\"\",'DAV1'!C79)","v":""},1,1,1,1,1,1,1,1,1,1,1,"GELİŞTİRİLMELİ"]
[{"$f":"IF('DAV1'!A80=\"\",\"\",'DAV1'!A80)","v":""},{"$f":"IF('DAV1'!B80=\"\",\"\",'DAV1'!B80)","v":""},{"$f":"IF('DAV1'!C80=\"\",\"\",'DAV1'!C80)","v":""},1,1,1,1,1,1,1,1,1,1,1,"GELİŞTİRİLMELİ"]
[{"$f":"IF('DAV1'!A81=\"\",\"\",'DAV1'!A81)","v":""},{"$f":"IF('DAV1'!B81=\"\",\"\",'DAV1'!B81)","v":""},{"$f":"IF('DAV1'!C81=\"\",\"\",'DAV1'!C81)","v":""},1,1,1,1,1,1,1,1,1,1,1,"GELİŞTİRİLMELİ"]
[{"$f":"IF('DAV1'!A82=\"\",\"\",'DAV1'!A82)","v":""},{"$f":"IF('DAV1'!B82=\"\",\"\",'DAV1'!B82)","v":""},{"$f":"IF('DAV1'!C82=\"\",\"\",'DAV1'!C82)","v":""},1,1,1,1,1,1,1,1,1,1,1,"GELİŞTİRİLMELİ"]
[{"$f":"IF('DAV1'!A83=\"\",\"\",'DAV1'!A83)","v":""},{"$f":"IF('DAV1'!B83=\"\",\"\",'DAV1'!B83)","v":""},{"$f":"IF('DAV1'!C83=\"\",\"\",'DAV1'!C83)","v":""},1,1,1,1,1,1,1,1,1,1,1,"GELİŞTİRİLMELİ"]
[{"$f":"IF('DAV1'!A84=\"\",\"\",'DAV1'!A84)","v":""},{"$f":"IF('DAV1'!B84=\"\",\"\",'DAV1'!B84)","v":""},{"$f":"IF('DAV1'!C84=\"\",\"\",'DAV1'!C84)","v":""},1,1,1,1,1,1,1,1,1,1,1,"GELİŞTİRİLMELİ"]
[{"$f":"IF('DAV1'!A85=\"\",\"\",'DAV1'!A85)","v":""},{"$f":"IF('DAV1'!B85=\"\",\"\",'DAV1'!B85)","v":""},{"$f":"IF('DAV1'!C85=\"\",\"\",'DAV1'!C85)","v":""},1,1,1,1,1,1,1,1,1,1,1,"GELİŞTİRİLMELİ"]
[{"$f":"IF('DAV1'!A86=\"\",\"\",'DAV1'!A86)","v":""},{"$f":"IF('DAV1'!B86=\"\",\"\",'DAV1'!B86)","v":""},{"$f":"IF('DAV1'!C86=\"\",\"\",'DAV1'!C86)","v":""},1,1,1,1,1,1,1,1,1,1,1,"GELİŞTİRİLMELİ"]
[{"$f":"IF('DAV1'!A87=\"\",\"\",'DAV1'!A87)","v":""},{"$f":"IF('DAV1'!B87=\"\",\"\",'DAV1'!B87)","v":""},{"$f":"IF('DAV1'!C87=\"\",\"\",'DAV1'!C87)","v":""},1,1,1,1,1,1,1,1,1,1,1,"GELİŞTİRİLMELİ"]
[{"$f":"IF('DAV1'!A88=\"\",\"\",'DAV1'!A88)","v":""},{"$f":"IF('DAV1'!B88=\"\",\"\",'DAV1'!B88)","v":""},{"$f":"IF('DAV1'!C88=\"\",\"\",'DAV1'!C88)","v":""},1,1,1,1,1,1,1,1,1,1,1,"GELİŞTİRİLMELİ"]
[{"$f":"IF('DAV1'!A89=\"\",\"\",'DAV1'!A89)","v":""},{"$f":"IF('DAV1'!B89=\"\",\"\",'DAV1'!B89)","v":""},{"$f":"IF('DAV1'!C89=\"\",\"\",'DAV1'!C89)","v":""},1,1,1,1,1,1,1,1,1,1,1,"GELİŞTİRİLMELİ"]
[{"$f":"IF('DAV1'!A90=\"\",\"\",'DAV1'!A90)","v":""},{"$f":"IF('DAV1'!B90=\"\",\"\",'DAV1'!B90)","v":""},{"$f":"IF('DAV1'!C90=\"\",\"\",'DAV1'!C90)","v":""},1,1,1,1,1,1,1,1,1,1,1,"GELİŞTİRİLMELİ"]
[{"$f":"IF('DAV1'!A91=\"\",\"\",'DAV1'!A91)","v":""},{"$f":"IF('DAV1'!B91=\"\",\"\",'DAV1'!B91)","v":""},{"$f":"IF('DAV1'!C91=\"\",\"\",'DAV1'!C91)","v":""},1,1,1,1,1,1,1,1,1,1,1,"GELİŞTİRİLMELİ"]
[{"$f":"IF('DAV1'!A92=\"\",\"\",'DAV1'!A92)","v":""},{"$f":"IF('DAV1'!B92=\"\",\"\",'DAV1'!B92)","v":""},{"$f":"IF('DAV1'!C92=\"\",\"\",'DAV1'!C92)","v":""},1,1,1,1,1,1,1,1,1,1,1,"GELİŞTİRİLMELİ"]
[{"$f":"IF('DAV1'!A93=\"\",\"\",'DAV1'!A93)","v":""},{"$f":"IF('DAV1'!B93=\"\",\"\",'DAV1'!B93)","v":""},{"$f":"IF('DAV1'!C93=\"\",\"\",'DAV1'!C93)","v":""},1,1,1,1,1,1,1,1,1,1,1,"GELİŞTİRİLMELİ"]
[{"$f":"IF('DAV1'!A94=\"\",\"\",'DAV1'!A94)","v":""},{"$f":"IF('DAV1'!B94=\"\",\"\",'DAV1'!B94)","v":""},{"$f":"IF('DAV1'!C94=\"\",\"\",'DAV1'!C94)","v":""},1,1,1,1,1,1,1,1,1,1,1,"GELİŞTİRİLMELİ"]
[{"$f":"IF('DAV1'!A95=\"\",\"\",'DAV1'!A95)","v":""},{"$f":"IF('DAV1'!B95=\"\",\"\",'DAV1'!B95)","v":""},{"$f":"IF('DAV1'!C95=\"\",\"\",'DAV1'!C95)","v":""},1,1,1,1,1,1,1,1,1,1,1,"GELİŞTİRİLMELİ"]
[{"$f":"IF('DAV1'!A96=\"\",\"\",'DAV1'!A96)","v":""},{"$f":"IF('DAV1'!B96=\"\",\"\",'DAV1'!B96)","v":""},{"$f":"IF('DAV1'!C96=\"\",\"\",'DAV1'!C96)","v":""},1,1,1,1,1,1,1,1,1,1,1,"GELİŞTİRİLMELİ"]
[{"$f":"IF('DAV1'!A97=\"\",\"\",'DAV1'!A97)","v":""},{"$f":"IF('DAV1'!B97=\"\",\"\",'DAV1'!B97)","v":""},{"$f":"IF('DAV1'!C97=\"\",\"\",'DAV1'!C97)","v":""},1,1,1,1,1,1,1,1,1,1,1,"GELİŞTİRİLMELİ"]
[{"$f":"IF('DAV1'!A98=\"\",\"\",'DAV1'!A98)","v":""},{"$f":"IF('DAV1'!B98=\"\",\"\",'DAV1'!B98)","v":""},{"$f":"IF('DAV1'!C98=\"\",\"\",'DAV1'!C98)","v":""},1,1,1,1,1,1,1,1,1,1,1,"GELİŞTİRİLMELİ"]
[{"$f":"IF('DAV1'!A99=\"\",\"\",'DAV1'!A99)","v":""},{"$f":"IF('DAV1'!B99=\"\",\"\",'DAV1'!B99)","v":""},{"$f":"IF('DAV1'!C99=\"\",\"\",'DAV1'!C99)","v":""},1,1,1,1,1,1,1,1,1,1,{"$f":"AVERAGE(D99:M99)","v":1},"GELİŞTİRİLMELİ"]
[{"$f":"IF('DAV1'!A100=\"\",\"\",'DAV1'!A100)","v":""},{"$f":"IF('DAV1'!B100=\"\",\"\",'DAV1'!B100)","v":""},{"$f":"IF('DAV1'!C100=\"\",\"\",'DAV1'!C100)","v":""},1,1,1,1,1,1,1,1,1,1,1,"GELİŞTİRİLMELİ"]
[{"$f":"IF('DAV1'!A101=\"\",\"\",'DAV1'!A101)","v":""},{"$f":"IF('DAV1'!B101=\"\",\"\",'DAV1'!B101)","v":""},{"$f":"IF('DAV1'!C101=\"\",\"\",'DAV1'!C101)","v":""},1,1,1,1,1,1,1,1,1,1,1,{"$f":"IF(N101=\"\",\"\",(IF(N101>=2.5,\"ÇOK İYİ\",IF(N101>=1.5,\"İYİ\",IF(N101>=1,\"GELİŞTİRİLMELİ\")))))","v":"GELİŞTİRİLMELİ"}]
[{"$f":"IF('DAV1'!A102=\"\",\"\",'DAV1'!A102)","v":""},{"$f":"IF('DAV1'!B102=\"\",\"\",'DAV1'!B102)","v":""},{"$f":"IF('DAV1'!C102=\"\",\"\",'DAV1'!C102)","v":""},1,1,1,1,1,1,1,1,1,1,1,"GELİŞTİRİLMELİ"]
[]
[1,1,1,1,1,1,1,1,1,1,1,1,1,1,1,1,1,1,1,1,1,1,1,1,1,1,1,1,1,1,1,1,1,1,1,1,1,1,1,1,1,1,1,1,1,1,1,1,1,1,1,1,1,1,1,1,1,1,1,1,1,1,1,1,1,1,1,1,1,1,1,1,1,1,1,1,1,1,1,1,1,1,1,1,1,1,1,1,1,1,1,1,1,1,1,1,1,1,1,1]
[2,2,2,2,2,2,2,2,2,2,2,2,2,2,2,2,2,2,2,2,2,2,2,2,2,2,2,2,2,2,2,2,2,2,2,2,2,2,2,2,2,2,2,2,2,2,2,2,2,2,2,2,2,2,2,2,2,2,2,2,2,2,2,2,2,2,2,2,2,2,2,2,2,2,2,2,2,2,2,2,2,2,2,2,2,2,2,2,2,2,2,2,2,2,2,2,2,2,2,2]
[3,3,3,3,3,3,3,3,3,3,3,3,3,3,3,3,3,3,3,3,3,3,3,3,3,3,3,3,3,3,3,3,3,3,3,3,3,3,3,3,3,3,3,3,3,3,3,3,3,3,3,3,3,3,3,3,3,3,3,3,3,3,3,3,3,3,3,3,3,3,3,3,3,3,3,3,3,3,3,3,3,3,3,3,3,3,3,3,3,3,3,3,3,3,3,3,3,3,3,3]
[4,4,4,4,4,4,4,4,4,4,4,4,4,4,4,4,4,4,4,4,4,4,4,4,4,4,4,4,4,4,4,4,4,4,4,4,4,4,4,4,4,4,4,4,4,4,4,4,4,4,4,4,4,4,4,4,4,4,4,4,4,4,4,4,4,4,4,4,4,4,4,4,4,4,4,4,4,4,4,4,4,4,4,4,4,4,4,4,4,4,4,4,4,4,4,4,4,4,4,4]